| Back to Multiple platform build/check report for BioC 3.14 |
|
This page was generated on 2022-04-13 12:05:10 -0400 (Wed, 13 Apr 2022).
| Hostname | OS | Arch (*) | R version | Installed pkgs |
|---|---|---|---|---|
| nebbiolo2 | Linux (Ubuntu 20.04.4 LTS) | x86_64 | 4.1.3 (2022-03-10) -- "One Push-Up" | 4324 |
| tokay2 | Windows Server 2012 R2 Standard | x64 | 4.1.3 (2022-03-10) -- "One Push-Up" | 4077 |
| machv2 | macOS 10.14.6 Mojave | x86_64 | 4.1.3 (2022-03-10) -- "One Push-Up" | 4137 |
| Click on any hostname to see more info about the system (e.g. compilers) (*) as reported by 'uname -p', except on Windows and Mac OS X | ||||
|
To the developers/maintainers of the ChIPpeakAnno package: - Please allow up to 24 hours (and sometimes 48 hours) for your latest push to git@git.bioconductor.org:packages/ChIPpeakAnno.git to reflect on this report. See How and When does the builder pull? When will my changes propagate? for more information. - Make sure to use the following settings in order to reproduce any error or warning you see on this page. |
| Package 302/2083 | Hostname | OS / Arch | INSTALL | BUILD | CHECK | BUILD BIN | ||||||||
| ChIPpeakAnno 3.28.1 (landing page) Jianhong Ou
| nebbiolo2 | Linux (Ubuntu 20.04.4 LTS) / x86_64 | OK | OK | OK | |||||||||
| tokay2 | Windows Server 2012 R2 Standard / x64 | OK | OK | OK | OK | |||||||||
| machv2 | macOS 10.14.6 Mojave / x86_64 | OK | OK | OK | OK | |||||||||
| Package: ChIPpeakAnno |
| Version: 3.28.1 |
| Command: /home/biocbuild/bbs-3.14-bioc/R/bin/R CMD check --install=check:ChIPpeakAnno.install-out.txt --library=/home/biocbuild/bbs-3.14-bioc/R/library --no-vignettes --timings ChIPpeakAnno_3.28.1.tar.gz |
| StartedAt: 2022-04-12 06:47:12 -0400 (Tue, 12 Apr 2022) |
| EndedAt: 2022-04-12 06:57:12 -0400 (Tue, 12 Apr 2022) |
| EllapsedTime: 600.4 seconds |
| RetCode: 0 |
| Status: OK |
| CheckDir: ChIPpeakAnno.Rcheck |
| Warnings: 0 |
##############################################################################
##############################################################################
###
### Running command:
###
### /home/biocbuild/bbs-3.14-bioc/R/bin/R CMD check --install=check:ChIPpeakAnno.install-out.txt --library=/home/biocbuild/bbs-3.14-bioc/R/library --no-vignettes --timings ChIPpeakAnno_3.28.1.tar.gz
###
##############################################################################
##############################################################################
* using log directory ‘/home/biocbuild/bbs-3.14-bioc/meat/ChIPpeakAnno.Rcheck’
* using R version 4.1.3 (2022-03-10)
* using platform: x86_64-pc-linux-gnu (64-bit)
* using session charset: UTF-8
* using option ‘--no-vignettes’
* checking for file ‘ChIPpeakAnno/DESCRIPTION’ ... OK
* checking extension type ... Package
* this is package ‘ChIPpeakAnno’ version ‘3.28.1’
* package encoding: UTF-8
* checking package namespace information ... OK
* checking package dependencies ... OK
* checking if this is a source package ... OK
* checking if there is a namespace ... OK
* checking for hidden files and directories ... OK
* checking for portable file names ... OK
* checking for sufficient/correct file permissions ... OK
* checking whether package ‘ChIPpeakAnno’ can be installed ... OK
* checking installed package size ... NOTE
installed size is 19.1Mb
sub-directories of 1Mb or more:
data 12.6Mb
extdata 5.2Mb
* checking package directory ... OK
* checking ‘build’ directory ... OK
* checking DESCRIPTION meta-information ... OK
* checking top-level files ... OK
* checking for left-over files ... OK
* checking index information ... OK
* checking package subdirectories ... OK
* checking R files for non-ASCII characters ... OK
* checking R files for syntax errors ... OK
* checking whether the package can be loaded ... OK
* checking whether the package can be loaded with stated dependencies ... OK
* checking whether the package can be unloaded cleanly ... OK
* checking whether the namespace can be loaded with stated dependencies ... OK
* checking whether the namespace can be unloaded cleanly ... OK
* checking dependencies in R code ... OK
* checking S3 generic/method consistency ... OK
* checking replacement functions ... OK
* checking foreign function calls ... OK
* checking R code for possible problems ... OK
* checking Rd files ... OK
* checking Rd metadata ... OK
* checking Rd cross-references ... OK
* checking for missing documentation entries ... OK
* checking for code/documentation mismatches ... OK
* checking Rd \usage sections ... OK
* checking Rd contents ... OK
* checking for unstated dependencies in examples ... OK
* checking contents of ‘data’ directory ... OK
* checking data for non-ASCII characters ... OK
* checking LazyData ... OK
* checking data for ASCII and uncompressed saves ... OK
* checking files in ‘vignettes’ ... OK
* checking examples ... OK
Examples with CPU (user + system) or elapsed time > 5s
user system elapsed
findEnhancers 23.869 0.244 24.114
annotatePeakInBatch 13.627 0.336 13.976
findMotifsInPromoterSeqs 10.842 0.190 11.038
* checking for unstated dependencies in ‘tests’ ... OK
* checking tests ...
Running ‘runTests.R’
OK
* checking for unstated dependencies in vignettes ... OK
* checking package vignettes in ‘inst/doc’ ... OK
* checking running R code from vignettes ... SKIPPED
* checking re-building of vignette outputs ... SKIPPED
* checking PDF version of manual ... OK
* DONE
Status: 1 NOTE
See
‘/home/biocbuild/bbs-3.14-bioc/meat/ChIPpeakAnno.Rcheck/00check.log’
for details.
ChIPpeakAnno.Rcheck/00install.out
############################################################################## ############################################################################## ### ### Running command: ### ### /home/biocbuild/bbs-3.14-bioc/R/bin/R CMD INSTALL ChIPpeakAnno ### ############################################################################## ############################################################################## * installing to library ‘/home/biocbuild/bbs-3.14-bioc/R/library’ * installing *source* package ‘ChIPpeakAnno’ ... ** using staged installation ** R ** data *** moving datasets to lazyload DB ** inst ** byte-compile and prepare package for lazy loading ** help *** installing help indices ** building package indices ** installing vignettes ** testing if installed package can be loaded from temporary location ** testing if installed package can be loaded from final location ** testing if installed package keeps a record of temporary installation path * DONE (ChIPpeakAnno)
ChIPpeakAnno.Rcheck/tests/runTests.Rout
R version 4.1.3 (2022-03-10) -- "One Push-Up"
Copyright (C) 2022 The R Foundation for Statistical Computing
Platform: x86_64-pc-linux-gnu (64-bit)
R is free software and comes with ABSOLUTELY NO WARRANTY.
You are welcome to redistribute it under certain conditions.
Type 'license()' or 'licence()' for distribution details.
R is a collaborative project with many contributors.
Type 'contributors()' for more information and
'citation()' on how to cite R or R packages in publications.
Type 'demo()' for some demos, 'help()' for on-line help, or
'help.start()' for an HTML browser interface to help.
Type 'q()' to quit R.
> require("ChIPpeakAnno") || stop("unable to load Package:ChIPpeakAnno")
Loading required package: ChIPpeakAnno
Loading required package: IRanges
Loading required package: BiocGenerics
Attaching package: 'BiocGenerics'
The following objects are masked from 'package:stats':
IQR, mad, sd, var, xtabs
The following objects are masked from 'package:base':
Filter, Find, Map, Position, Reduce, anyDuplicated, append,
as.data.frame, basename, cbind, colnames, dirname, do.call,
duplicated, eval, evalq, get, grep, grepl, intersect, is.unsorted,
lapply, mapply, match, mget, order, paste, pmax, pmax.int, pmin,
pmin.int, rank, rbind, rownames, sapply, setdiff, sort, table,
tapply, union, unique, unsplit, which.max, which.min
Loading required package: S4Vectors
Loading required package: stats4
Attaching package: 'S4Vectors'
The following objects are masked from 'package:base':
I, expand.grid, unname
Loading required package: GenomicRanges
Loading required package: GenomeInfoDb
[1] TRUE
> require("BSgenome.Drerio.UCSC.danRer7") || stop("unable to load Package:BSgenome.Drerio.UCSC.danRer7")
Loading required package: BSgenome.Drerio.UCSC.danRer7
Loading required package: BSgenome
Loading required package: Biostrings
Loading required package: XVector
Attaching package: 'Biostrings'
The following object is masked from 'package:base':
strsplit
Loading required package: rtracklayer
[1] TRUE
> require("org.Hs.eg.db") || stop("unable to load Package:org.Hs.eg.db")
Loading required package: org.Hs.eg.db
Loading required package: AnnotationDbi
Loading required package: Biobase
Welcome to Bioconductor
Vignettes contain introductory material; view with
'browseVignettes()'. To cite Bioconductor, see
'citation("Biobase")', and for packages 'citation("pkgname")'.
[1] TRUE
> require("org.Ce.eg.db") || stop("unable to load Package:org.Ce.eg.db")
Loading required package: org.Ce.eg.db
[1] TRUE
> require("BSgenome.Celegans.UCSC.ce10") || stop("unable to load Package:BSgenome.Celegans.UCSC.ce10")
Loading required package: BSgenome.Celegans.UCSC.ce10
[1] TRUE
> require("EnsDb.Hsapiens.v79") || stop("unable to load Package:EnsDb.Hsapiens.v79")
Loading required package: EnsDb.Hsapiens.v79
Loading required package: ensembldb
Loading required package: GenomicFeatures
Loading required package: AnnotationFilter
Attaching package: 'ensembldb'
The following object is masked from 'package:stats':
filter
[1] TRUE
> require("TxDb.Hsapiens.UCSC.hg38.knownGene") || stop("unable to load TxDb.Hsapiens.UCSC.hg38.knownGene")
Loading required package: TxDb.Hsapiens.UCSC.hg38.knownGene
[1] TRUE
> require("biomaRt") || stop("unable to load biomaRt")
Loading required package: biomaRt
[1] TRUE
> require("testthat") || stop("unable to load testthat")
Loading required package: testthat
Attaching package: 'testthat'
The following object is masked from 'package:AnnotationFilter':
not
[1] TRUE
> test_check("ChIPpeakAnno")
Error in x$.self$finalize() : attempt to apply non-function
Error in x$.self$finalize() : attempt to apply non-function
In addition: Warning message:
call dbDisconnect() when finished working with a connection
[ FAIL 0 | WARN 3 | SKIP 6 | PASS 313 ]
══ Skipped tests ═══════════════════════════════════════════════════════════════
• empty test (6)
[ FAIL 0 | WARN 3 | SKIP 6 | PASS 313 ]
>
> proc.time()
user system elapsed
204.895 4.965 212.397
ChIPpeakAnno.Rcheck/ChIPpeakAnno-Ex.timings
| name | user | system | elapsed | |
| ChIPpeakAnno-package | 0 | 0 | 0 | |
| ExonPlusUtr.human.GRCh37 | 3.411 | 0.228 | 3.639 | |
| HOT.spots | 0.124 | 0.020 | 0.144 | |
| IDRfilter | 0 | 0 | 0 | |
| Peaks.Ste12.Replicate1 | 0.046 | 0.011 | 0.058 | |
| Peaks.Ste12.Replicate2 | 0.018 | 0.000 | 0.018 | |
| Peaks.Ste12.Replicate3 | 0.015 | 0.004 | 0.019 | |
| TSS.human.GRCh37 | 0.192 | 0.020 | 0.212 | |
| TSS.human.GRCh38 | 0.146 | 0.004 | 0.150 | |
| TSS.human.NCBI36 | 0.108 | 0.004 | 0.111 | |
| TSS.mouse.GRCm38 | 0.108 | 0.004 | 0.112 | |
| TSS.mouse.NCBIM37 | 0.093 | 0.004 | 0.097 | |
| TSS.rat.RGSC3.4 | 0.080 | 0.004 | 0.084 | |
| TSS.rat.Rnor_5.0 | 0.063 | 0.008 | 0.071 | |
| TSS.zebrafish.Zv8 | 0.059 | 0.016 | 0.075 | |
| TSS.zebrafish.Zv9 | 0.084 | 0.004 | 0.087 | |
| addAncestors | 1.064 | 0.024 | 1.088 | |
| addGeneIDs | 1.695 | 0.111 | 1.808 | |
| addMetadata | 1.59 | 0.12 | 1.71 | |
| annoGR | 0 | 0 | 0 | |
| annoPeaks | 2.710 | 0.154 | 3.812 | |
| annotatePeakInBatch | 13.627 | 0.336 | 13.976 | |
| annotatedPeak | 0.064 | 0.008 | 0.072 | |
| assignChromosomeRegion | 0.000 | 0.000 | 0.001 | |
| bdp | 0 | 0 | 0 | |
| binOverFeature | 0.938 | 0.019 | 0.958 | |
| binOverGene | 0.001 | 0.000 | 0.001 | |
| binOverRegions | 0.001 | 0.000 | 0.000 | |
| condenseMatrixByColnames | 0.009 | 0.000 | 0.009 | |
| convert2EntrezID | 0.315 | 0.000 | 0.315 | |
| countPatternInSeqs | 0.151 | 0.000 | 0.151 | |
| cumulativePercentage | 0 | 0 | 0 | |
| downstreams | 0.035 | 0.000 | 0.035 | |
| egOrgMap | 0 | 0 | 0 | |
| enrichedGO | 0.000 | 0.002 | 0.002 | |
| enrichmentPlot | 0.367 | 0.001 | 0.369 | |
| estFragmentLength | 0.000 | 0.001 | 0.000 | |
| estLibSize | 0 | 0 | 0 | |
| featureAlignedDistribution | 0.251 | 0.002 | 0.254 | |
| featureAlignedExtendSignal | 0.002 | 0.000 | 0.002 | |
| featureAlignedHeatmap | 0.546 | 0.000 | 0.546 | |
| featureAlignedSignal | 0.211 | 0.016 | 0.227 | |
| findEnhancers | 23.869 | 0.244 | 24.114 | |
| findMotifsInPromoterSeqs | 10.842 | 0.190 | 11.038 | |
| findOverlappingPeaks | 0.001 | 0.000 | 0.000 | |
| findOverlapsOfPeaks | 2.574 | 0.004 | 2.578 | |
| genomicElementDistribution | 0.000 | 0.000 | 0.001 | |
| genomicElementUpSetR | 0 | 0 | 0 | |
| getAllPeakSequence | 0.606 | 0.020 | 0.627 | |
| getAnnotation | 0 | 0 | 0 | |
| getEnrichedGO | 0.009 | 0.000 | 0.009 | |
| getEnrichedPATH | 0 | 0 | 0 | |
| getGO | 0 | 0 | 0 | |
| getGeneSeq | 0.001 | 0.000 | 0.001 | |
| getUniqueGOidCount | 0.001 | 0.000 | 0.001 | |
| getVennCounts | 0 | 0 | 0 | |
| hyperGtest | 0.001 | 0.000 | 0.001 | |
| makeVennDiagram | 0.002 | 0.000 | 0.002 | |
| mergePlusMinusPeaks | 0 | 0 | 0 | |
| metagenePlot | 2.265 | 0.024 | 2.289 | |
| myPeakList | 0.021 | 0.000 | 0.021 | |
| oligoFrequency | 0.272 | 0.004 | 0.276 | |
| oligoSummary | 0 | 0 | 0 | |
| peakPermTest | 0.002 | 0.000 | 0.001 | |
| peaksNearBDP | 0.001 | 0.000 | 0.001 | |
| pie1 | 0.007 | 0.000 | 0.008 | |
| plotBinOverRegions | 0.001 | 0.000 | 0.000 | |
| preparePool | 0.000 | 0.000 | 0.001 | |
| reCenterPeaks | 0.068 | 0.000 | 0.069 | |
| summarizeOverlapsByBins | 3.626 | 0.547 | 3.796 | |
| summarizePatternInPeaks | 0.669 | 0.032 | 0.701 | |
| tileCount | 0.304 | 0.200 | 0.450 | |
| tileGRanges | 0.218 | 0.158 | 0.056 | |
| toGRanges | 0.121 | 0.016 | 0.138 | |
| translatePattern | 0.001 | 0.000 | 0.001 | |
| wgEncodeTfbsV3 | 0.230 | 0.008 | 0.239 | |
| write2FASTA | 0.024 | 0.004 | 0.028 | |
| xget | 0.164 | 0.004 | 0.168 | |