| Back to Multiple platform build/check report for BioC 3.14 |
|
This page was generated on 2022-04-13 12:06:18 -0400 (Wed, 13 Apr 2022).
| Hostname | OS | Arch (*) | R version | Installed pkgs |
|---|---|---|---|---|
| nebbiolo2 | Linux (Ubuntu 20.04.4 LTS) | x86_64 | 4.1.3 (2022-03-10) -- "One Push-Up" | 4324 |
| tokay2 | Windows Server 2012 R2 Standard | x64 | 4.1.3 (2022-03-10) -- "One Push-Up" | 4077 |
| machv2 | macOS 10.14.6 Mojave | x86_64 | 4.1.3 (2022-03-10) -- "One Push-Up" | 4137 |
| Click on any hostname to see more info about the system (e.g. compilers) (*) as reported by 'uname -p', except on Windows and Mac OS X | ||||
|
To the developers/maintainers of the CellNOptR package: - Please allow up to 24 hours (and sometimes 48 hours) for your latest push to git@git.bioconductor.org:packages/CellNOptR.git to reflect on this report. See How and When does the builder pull? When will my changes propagate? for more information. - Make sure to use the following settings in order to reproduce any error or warning you see on this page. |
| Package 272/2083 | Hostname | OS / Arch | INSTALL | BUILD | CHECK | BUILD BIN | ||||||||
| CellNOptR 1.40.0 (landing page) A.Gabor
| nebbiolo2 | Linux (Ubuntu 20.04.4 LTS) / x86_64 | OK | OK | OK | |||||||||
| tokay2 | Windows Server 2012 R2 Standard / x64 | OK | OK | OK | OK | |||||||||
| machv2 | macOS 10.14.6 Mojave / x86_64 | OK | OK | OK | OK | |||||||||
| Package: CellNOptR |
| Version: 1.40.0 |
| Command: C:\cygwin\bin\curl.exe -O http://155.52.207.166/BBS/3.14/bioc/src/contrib/CellNOptR_1.40.0.tar.gz && rm -rf CellNOptR.buildbin-libdir && mkdir CellNOptR.buildbin-libdir && C:\Users\biocbuild\bbs-3.14-bioc\R\bin\R.exe CMD INSTALL --merge-multiarch --build --library=CellNOptR.buildbin-libdir CellNOptR_1.40.0.tar.gz && C:\Users\biocbuild\bbs-3.14-bioc\R\bin\R.exe CMD INSTALL CellNOptR_1.40.0.zip && rm CellNOptR_1.40.0.tar.gz CellNOptR_1.40.0.zip |
| StartedAt: 2022-04-12 04:42:00 -0400 (Tue, 12 Apr 2022) |
| EndedAt: 2022-04-12 04:45:52 -0400 (Tue, 12 Apr 2022) |
| EllapsedTime: 231.9 seconds |
| RetCode: 0 |
| Status: OK |
##############################################################################
##############################################################################
###
### Running command:
###
### C:\cygwin\bin\curl.exe -O http://155.52.207.166/BBS/3.14/bioc/src/contrib/CellNOptR_1.40.0.tar.gz && rm -rf CellNOptR.buildbin-libdir && mkdir CellNOptR.buildbin-libdir && C:\Users\biocbuild\bbs-3.14-bioc\R\bin\R.exe CMD INSTALL --merge-multiarch --build --library=CellNOptR.buildbin-libdir CellNOptR_1.40.0.tar.gz && C:\Users\biocbuild\bbs-3.14-bioc\R\bin\R.exe CMD INSTALL CellNOptR_1.40.0.zip && rm CellNOptR_1.40.0.tar.gz CellNOptR_1.40.0.zip
###
##############################################################################
##############################################################################
% Total % Received % Xferd Average Speed Time Time Time Current
Dload Upload Total Spent Left Speed
0 0 0 0 0 0 0 0 --:--:-- --:--:-- --:--:-- 0
0 0 0 0 0 0 0 0 --:--:-- --:--:-- --:--:-- 0
83 1416k 83 1181k 0 0 1133k 0 0:00:01 0:00:01 --:--:-- 1133k
100 1416k 100 1416k 0 0 1226k 0 0:00:01 0:00:01 --:--:-- 1226k
install for i386
* installing *source* package 'CellNOptR' ...
** using staged installation
** libs
"C:/rtools40/mingw32/bin/"gcc -I"C:/Users/BIOCBU~1/BBS-3~1.14-/R/include" -DNDEBUG -I"C:/extsoft/include" -I./include -O2 -Wall -std=gnu99 -mfpmath=sse -msse2 -mstackrealign -c simulatorT1.c -o simulatorT1.o
"C:/rtools40/mingw32/bin/"gcc -I"C:/Users/BIOCBU~1/BBS-3~1.14-/R/include" -DNDEBUG -I"C:/extsoft/include" -I./include -O2 -Wall -std=gnu99 -mfpmath=sse -msse2 -mstackrealign -c simulatorTN.c -o simulatorTN.o
C:/rtools40/mingw32/bin/gcc -shared -s -static-libgcc -o CellNOptR.dll tmp.def simulatorT1.o simulatorTN.o -LC:/extsoft/lib/i386 -LC:/extsoft/lib -LC:/Users/BIOCBU~1/BBS-3~1.14-/R/bin/i386 -lR
installing to C:/Users/biocbuild/bbs-3.14-bioc/meat/CellNOptR.buildbin-libdir/00LOCK-CellNOptR/00new/CellNOptR/libs/i386
** R
** data
** inst
** byte-compile and prepare package for lazy loading
** help
*** installing help indices
converting help for package 'CellNOptR'
finding HTML links ... done
CNORbool html
CNORwrap html
CNOdata html
CNOlist-class html
CNOlist-methods html
CNOlistDREAM html
CNOlistToy html
CNOlistToy2 html
CNOlistToyMMB html
CellNOptR-package html
DreamModel html
ToyModel html
ToyModel2 html
buildBitString html
build_sif_table_from_rule html
cSimulator html
checkSignals html
compressModel html
computeScoreT1 html
computeScoreTN html
createAndRunILP html
createILPBitstringAll html
create_binaries html
crossInhibitedData html
crossvalidateBoolean html
cutAndPlot html
cutAndPlotResultsT1 html
cutAndPlotResultsTN html
cutCNOlist html
cutModel html
cutNONC html
cutSimList html
defaultParameters html
exhaustive html
expandGates html
findNONC html
gaBinaryT1 html
gaBinaryT2 html
gaBinaryTN html
getFit html
graph2sif html
ilpBinaryT1 html
ilpBinaryT2 html
ilpBinaryTN html
indexFinder html
internals html
invokeCPLEX html
makeCNOlist html
mapBack html
model2igraph html
model2sif html
normaliseCNOlist html
pknmodel html
plot-methods html
plotCNOlist html
plotCNOlist2 html
plotCNOlistLarge html
plotCNOlistLargePDF html
plotCNOlistPDF html
plotFit html
plotModel html
plotOptimResults html
plotOptimResultsPDF html
plotOptimResultsPan html
prep4sim html
REDIRECT:topic Previous alias or file overwritten by alias: C:/Users/biocbuild/bbs-3.14-bioc/meat/CellNOptR.buildbin-libdir/00LOCK-CellNOptR/00new/CellNOptR/help/prep4Sim.html
preprocessing html
randomizeCNOlist html
readBND html
readBNET html
readMIDAS html
REDIRECT:topic Previous alias or file overwritten by alias: C:/Users/biocbuild/bbs-3.14-bioc/meat/CellNOptR.buildbin-libdir/00LOCK-CellNOptR/00new/CellNOptR/help/readMidas.html
readSBMLQual html
readSIF html
REDIRECT:topic Previous alias or file overwritten by alias: C:/Users/biocbuild/bbs-3.14-bioc/meat/CellNOptR.buildbin-libdir/00LOCK-CellNOptR/00new/CellNOptR/help/readSIF.html
residualError html
sif2graph html
simulateT1 html
simulateTN html
simulatorT0 html
simulatorT1 html
simulatorT2 html
simulatorTN html
toSBML html
writeDot html
writeFile html
writeMIDAS html
writeNetwork html
writeObjectiveFunction html
writeReport html
writeSIF html
REDIRECT:topic Previous alias or file overwritten by alias: C:/Users/biocbuild/bbs-3.14-bioc/meat/CellNOptR.buildbin-libdir/00LOCK-CellNOptR/00new/CellNOptR/help/writeSif.html
writeScaffold html
write_bounds html
write_constraints html
** building package indices
** installing vignettes
** testing if installed package can be loaded from temporary location
** testing if installed package can be loaded from final location
** testing if installed package keeps a record of temporary installation path
install for x64
* installing *source* package 'CellNOptR' ...
** libs
"C:/rtools40/mingw64/bin/"gcc -I"C:/Users/BIOCBU~1/BBS-3~1.14-/R/include" -DNDEBUG -I"C:/extsoft/include" -I./include -O2 -Wall -std=gnu99 -mfpmath=sse -msse2 -mstackrealign -c simulatorT1.c -o simulatorT1.o
"C:/rtools40/mingw64/bin/"gcc -I"C:/Users/BIOCBU~1/BBS-3~1.14-/R/include" -DNDEBUG -I"C:/extsoft/include" -I./include -O2 -Wall -std=gnu99 -mfpmath=sse -msse2 -mstackrealign -c simulatorTN.c -o simulatorTN.o
C:/rtools40/mingw64/bin/gcc -shared -s -static-libgcc -o CellNOptR.dll tmp.def simulatorT1.o simulatorTN.o -LC:/extsoft/lib/x64 -LC:/extsoft/lib -LC:/Users/BIOCBU~1/BBS-3~1.14-/R/bin/x64 -lR
installing to C:/Users/biocbuild/bbs-3.14-bioc/meat/CellNOptR.buildbin-libdir/CellNOptR/libs/x64
** testing if installed package can be loaded
* MD5 sums
packaged installation of 'CellNOptR' as CellNOptR_1.40.0.zip
* DONE (CellNOptR)
* installing to library 'C:/Users/biocbuild/bbs-3.14-bioc/R/library'
package 'CellNOptR' successfully unpacked and MD5 sums checked