| Back to Multiple platform build/check report for BioC 3.14 |
|
This page was generated on 2022-04-13 12:06:21 -0400 (Wed, 13 Apr 2022).
| Hostname | OS | Arch (*) | R version | Installed pkgs |
|---|---|---|---|---|
| nebbiolo2 | Linux (Ubuntu 20.04.4 LTS) | x86_64 | 4.1.3 (2022-03-10) -- "One Push-Up" | 4324 |
| tokay2 | Windows Server 2012 R2 Standard | x64 | 4.1.3 (2022-03-10) -- "One Push-Up" | 4077 |
| machv2 | macOS 10.14.6 Mojave | x86_64 | 4.1.3 (2022-03-10) -- "One Push-Up" | 4137 |
| Click on any hostname to see more info about the system (e.g. compilers) (*) as reported by 'uname -p', except on Windows and Mac OS X | ||||
|
To the developers/maintainers of the CNORdt package: - Please allow up to 24 hours (and sometimes 48 hours) for your latest push to git@git.bioconductor.org:packages/CNORdt.git to reflect on this report. See How and When does the builder pull? When will my changes propagate? for more information. - Make sure to use the following settings in order to reproduce any error or warning you see on this page. |
| Package 351/2083 | Hostname | OS / Arch | INSTALL | BUILD | CHECK | BUILD BIN | ||||||||
| CNORdt 1.36.0 (landing page) A. MacNamara
| nebbiolo2 | Linux (Ubuntu 20.04.4 LTS) / x86_64 | OK | OK | OK | |||||||||
| tokay2 | Windows Server 2012 R2 Standard / x64 | OK | OK | OK | OK | |||||||||
| machv2 | macOS 10.14.6 Mojave / x86_64 | OK | OK | OK | OK | |||||||||
| Package: CNORdt |
| Version: 1.36.0 |
| Command: rm -rf CNORdt.buildbin-libdir && mkdir CNORdt.buildbin-libdir && C:\Users\biocbuild\bbs-3.14-bioc\R\bin\R.exe CMD INSTALL --merge-multiarch --build --library=CNORdt.buildbin-libdir CNORdt_1.36.0.tar.gz |
| StartedAt: 2022-04-13 05:54:03 -0400 (Wed, 13 Apr 2022) |
| EndedAt: 2022-04-13 05:54:27 -0400 (Wed, 13 Apr 2022) |
| EllapsedTime: 24.1 seconds |
| RetCode: 0 |
| Status: OK |
| PackageFile: CNORdt_1.36.0.zip |
| PackageFileSize: 289.6 KiB |
##############################################################################
##############################################################################
###
### Running command:
###
### rm -rf CNORdt.buildbin-libdir && mkdir CNORdt.buildbin-libdir && C:\Users\biocbuild\bbs-3.14-bioc\R\bin\R.exe CMD INSTALL --merge-multiarch --build --library=CNORdt.buildbin-libdir CNORdt_1.36.0.tar.gz
###
##############################################################################
##############################################################################
install for i386
* installing *source* package 'CNORdt' ...
** using staged installation
** libs
"C:/rtools40/mingw32/bin/"gcc -I"C:/Users/BIOCBU~1/BBS-3~1.14-/R/include" -DNDEBUG -I"C:/extsoft/include" -O2 -Wall -std=gnu99 -mfpmath=sse -msse2 -mstackrealign -c simulatorDT.c -o simulatorDT.o
simulatorDT.c: In function 'simulatorDT':
simulatorDT.c:55:6: warning: unused variable 'nTimes' [-Wunused-variable]
int nTimes = INTEGER(nTimes_in)[0];
^~~~~~
simulatorDT.c:53:6: warning: unused variable 'nSignals' [-Wunused-variable]
int nSignals = INTEGER(nSignals_in)[0];
^~~~~~~~
C:/rtools40/mingw32/bin/gcc -shared -s -static-libgcc -o CNORdt.dll tmp.def simulatorDT.o -LC:/extsoft/lib/i386 -LC:/extsoft/lib -LC:/Users/BIOCBU~1/BBS-3~1.14-/R/bin/i386 -lR
installing to C:/Users/biocbuild/bbs-3.14-bioc/meat/CNORdt.buildbin-libdir/00LOCK-CNORdt/00new/CNORdt/libs/i386
** R
** data
** inst
** byte-compile and prepare package for lazy loading
** help
*** installing help indices
converting help for package 'CNORdt'
finding HTML links ... done
CNOlistPB html
computeScoreDT html
convert2array html
cutAndPlotResultsDT html
finding level-2 HTML links ... done
gaBinaryDT html
getFitDT html
modelPB html
simulatorDT html
** building package indices
** installing vignettes
** testing if installed package can be loaded from temporary location
** testing if installed package can be loaded from final location
** testing if installed package keeps a record of temporary installation path
install for x64
* installing *source* package 'CNORdt' ...
** libs
"C:/rtools40/mingw64/bin/"gcc -I"C:/Users/BIOCBU~1/BBS-3~1.14-/R/include" -DNDEBUG -I"C:/extsoft/include" -O2 -Wall -std=gnu99 -mfpmath=sse -msse2 -mstackrealign -c simulatorDT.c -o simulatorDT.o
simulatorDT.c: In function 'simulatorDT':
simulatorDT.c:55:6: warning: unused variable 'nTimes' [-Wunused-variable]
int nTimes = INTEGER(nTimes_in)[0];
^~~~~~
simulatorDT.c:53:6: warning: unused variable 'nSignals' [-Wunused-variable]
int nSignals = INTEGER(nSignals_in)[0];
^~~~~~~~
C:/rtools40/mingw64/bin/gcc -shared -s -static-libgcc -o CNORdt.dll tmp.def simulatorDT.o -LC:/extsoft/lib/x64 -LC:/extsoft/lib -LC:/Users/BIOCBU~1/BBS-3~1.14-/R/bin/x64 -lR
installing to C:/Users/biocbuild/bbs-3.14-bioc/meat/CNORdt.buildbin-libdir/CNORdt/libs/x64
** testing if installed package can be loaded
* MD5 sums
packaged installation of 'CNORdt' as CNORdt_1.36.0.zip
* DONE (CNORdt)