| Back to Multiple platform build/check report for BioC 3.14 |
|
This page was generated on 2022-04-13 12:06:18 -0400 (Wed, 13 Apr 2022).
| Hostname | OS | Arch (*) | R version | Installed pkgs |
|---|---|---|---|---|
| nebbiolo2 | Linux (Ubuntu 20.04.4 LTS) | x86_64 | 4.1.3 (2022-03-10) -- "One Push-Up" | 4324 |
| tokay2 | Windows Server 2012 R2 Standard | x64 | 4.1.3 (2022-03-10) -- "One Push-Up" | 4077 |
| machv2 | macOS 10.14.6 Mojave | x86_64 | 4.1.3 (2022-03-10) -- "One Push-Up" | 4137 |
| Click on any hostname to see more info about the system (e.g. compilers) (*) as reported by 'uname -p', except on Windows and Mac OS X | ||||
|
To the developers/maintainers of the CEMiTool package: - Please allow up to 24 hours (and sometimes 48 hours) for your latest push to git@git.bioconductor.org:packages/CEMiTool.git to reflect on this report. See How and When does the builder pull? When will my changes propagate? for more information. - Make sure to use the following settings in order to reproduce any error or warning you see on this page. |
| Package 277/2083 | Hostname | OS / Arch | INSTALL | BUILD | CHECK | BUILD BIN | ||||||||
| CEMiTool 1.18.1 (landing page) Helder Nakaya
| nebbiolo2 | Linux (Ubuntu 20.04.4 LTS) / x86_64 | OK | OK | OK | |||||||||
| tokay2 | Windows Server 2012 R2 Standard / x64 | OK | OK | OK | OK | |||||||||
| machv2 | macOS 10.14.6 Mojave / x86_64 | OK | OK | OK | OK | |||||||||
| Package: CEMiTool |
| Version: 1.18.1 |
| Command: C:\cygwin\bin\curl.exe -O http://155.52.207.166/BBS/3.14/bioc/src/contrib/CEMiTool_1.18.1.tar.gz && rm -rf CEMiTool.buildbin-libdir && mkdir CEMiTool.buildbin-libdir && C:\Users\biocbuild\bbs-3.14-bioc\R\bin\R.exe CMD INSTALL --merge-multiarch --build --library=CEMiTool.buildbin-libdir CEMiTool_1.18.1.tar.gz && C:\Users\biocbuild\bbs-3.14-bioc\R\bin\R.exe CMD INSTALL CEMiTool_1.18.1.zip && rm CEMiTool_1.18.1.tar.gz CEMiTool_1.18.1.zip |
| StartedAt: 2022-04-12 07:04:10 -0400 (Tue, 12 Apr 2022) |
| EndedAt: 2022-04-12 07:07:04 -0400 (Tue, 12 Apr 2022) |
| EllapsedTime: 173.8 seconds |
| RetCode: 0 |
| Status: OK |
##############################################################################
##############################################################################
###
### Running command:
###
### C:\cygwin\bin\curl.exe -O http://155.52.207.166/BBS/3.14/bioc/src/contrib/CEMiTool_1.18.1.tar.gz && rm -rf CEMiTool.buildbin-libdir && mkdir CEMiTool.buildbin-libdir && C:\Users\biocbuild\bbs-3.14-bioc\R\bin\R.exe CMD INSTALL --merge-multiarch --build --library=CEMiTool.buildbin-libdir CEMiTool_1.18.1.tar.gz && C:\Users\biocbuild\bbs-3.14-bioc\R\bin\R.exe CMD INSTALL CEMiTool_1.18.1.zip && rm CEMiTool_1.18.1.tar.gz CEMiTool_1.18.1.zip
###
##############################################################################
##############################################################################
% Total % Received % Xferd Average Speed Time Time Time Current
Dload Upload Total Spent Left Speed
0 0 0 0 0 0 0 0 --:--:-- --:--:-- --:--:-- 0
24 4048k 24 999k 0 0 1339k 0 0:00:03 --:--:-- 0:00:03 1339k
69 4048k 69 2809k 0 0 1584k 0 0:00:02 0:00:01 0:00:01 1584k
100 4048k 100 4048k 0 0 1814k 0 0:00:02 0:00:02 --:--:-- 1815k
install for i386
* installing *source* package 'CEMiTool' ...
** using staged installation
** R
** data
*** moving datasets to lazyload DB
** exec
** inst
** byte-compile and prepare package for lazy loading
** help
*** installing help indices
converting help for package 'CEMiTool'
finding HTML links ... done
CEMiTool-class html
adj_data html
cem html
cemitool html
diagnostic_report html
expr0 html
expr_data html
expr_pct_filter html
filter_expr html
find_modules html
fit_data html
generate_report html
get_adj html
get_beta_data html
get_cemitool_r2_beta html
get_connectivity html
get_hubs html
get_merged_mods html
get_mods html
get_phi html
gsea_data html
interactions_data html
mod_colors html
mod_gene_num html
mod_gsea html
mod_names html
mod_ora html
mod_summary html
module_genes html
module_to_gmt html
new_cem html
nmodules html
ora_data html
plot_beta_r2 html
plot_gsea html
plot_hist html
plot_interactions html
plot_mean_k html
plot_mean_var html
plot_ora html
plot_ora_single html
plot_profile html
plot_qq html
plot_sample_tree html
read_gmt html
sample_annot html
sample_annotation html
save_plots html
select_genes html
show-CEMiTool-method html
show_plot html
vst html
write_files html
** building package indices
** installing vignettes
** testing if installed package can be loaded from temporary location
** testing if installed package can be loaded from final location
** testing if installed package keeps a record of temporary installation path
install for x64
* installing *source* package 'CEMiTool' ...
** testing if installed package can be loaded
* MD5 sums
packaged installation of 'CEMiTool' as CEMiTool_1.18.1.zip
* DONE (CEMiTool)
* installing to library 'C:/Users/biocbuild/bbs-3.14-bioc/R/library'
package 'CEMiTool' successfully unpacked and MD5 sums checked