| Back to Multiple platform build/check report for BioC 3.14 | 
 | 
This page was generated on 2022-04-13 12:07:44 -0400 (Wed, 13 Apr 2022).
| Hostname | OS | Arch (*) | R version | Installed pkgs | 
|---|---|---|---|---|
| nebbiolo2 | Linux (Ubuntu 20.04.4 LTS) | x86_64 | 4.1.3 (2022-03-10) -- "One Push-Up" | 4324 | 
| tokay2 | Windows Server 2012 R2 Standard | x64 | 4.1.3 (2022-03-10) -- "One Push-Up" | 4077 | 
| machv2 | macOS 10.14.6 Mojave | x86_64 | 4.1.3 (2022-03-10) -- "One Push-Up" | 4137 | 
| Click on any hostname to see more info about the system (e.g. compilers) (*) as reported by 'uname -p', except on Windows and Mac OS X | ||||
| To the developers/maintainers of the CARNIVAL package: - Please allow up to 24 hours (and sometimes 48 hours) for your latest push to git@git.bioconductor.org:packages/CARNIVAL.git to reflect on this report. See How and When does the builder pull? When will my changes propagate? for more information. - Make sure to use the following settings in order to reproduce any error or warning you see on this page. | 
| Package 247/2083 | Hostname | OS / Arch | INSTALL | BUILD | CHECK | BUILD BIN | ||||||||
| CARNIVAL 2.4.0  (landing page) Olga Ivanova 
 | nebbiolo2 | Linux (Ubuntu 20.04.4 LTS) / x86_64 | OK | OK | OK |  | ||||||||
| tokay2 | Windows Server 2012 R2 Standard / x64 | OK | OK | OK | OK |  | ||||||||
| machv2 | macOS 10.14.6 Mojave / x86_64 | OK | OK | OK | OK |  | ||||||||
| Package: CARNIVAL | 
| Version: 2.4.0 | 
| Command: /Library/Frameworks/R.framework/Resources/bin/R CMD check --install=check:CARNIVAL.install-out.txt --library=/Library/Frameworks/R.framework/Resources/library --no-vignettes --timings CARNIVAL_2.4.0.tar.gz | 
| StartedAt: 2022-04-12 11:11:20 -0400 (Tue, 12 Apr 2022) | 
| EndedAt: 2022-04-12 11:12:16 -0400 (Tue, 12 Apr 2022) | 
| EllapsedTime: 55.8 seconds | 
| RetCode: 0 | 
| Status: OK | 
| CheckDir: CARNIVAL.Rcheck | 
| Warnings: 0 | 
##############################################################################
##############################################################################
###
### Running command:
###
###   /Library/Frameworks/R.framework/Resources/bin/R CMD check --install=check:CARNIVAL.install-out.txt --library=/Library/Frameworks/R.framework/Resources/library --no-vignettes --timings CARNIVAL_2.4.0.tar.gz
###
##############################################################################
##############################################################################
* using log directory ‘/Users/biocbuild/bbs-3.14-bioc/meat/CARNIVAL.Rcheck’
* using R version 4.1.3 (2022-03-10)
* using platform: x86_64-apple-darwin17.0 (64-bit)
* using session charset: UTF-8
* using option ‘--no-vignettes’
* checking for file ‘CARNIVAL/DESCRIPTION’ ... OK
* this is package ‘CARNIVAL’ version ‘2.4.0’
* package encoding: UTF-8
* checking package namespace information ... OK
* checking package dependencies ... OK
* checking if this is a source package ... OK
* checking if there is a namespace ... OK
* checking for hidden files and directories ... NOTE
Found the following hidden files and directories:
  .travis.yml
These were most likely included in error. See section ‘Package
structure’ in the ‘Writing R Extensions’ manual.
* checking for portable file names ... OK
* checking for sufficient/correct file permissions ... OK
* checking whether package ‘CARNIVAL’ can be installed ... OK
* checking installed package size ... OK
* checking package directory ... OK
* checking ‘build’ directory ... OK
* checking DESCRIPTION meta-information ... OK
* checking top-level files ... OK
* checking for left-over files ... OK
* checking index information ... OK
* checking package subdirectories ... OK
* checking R files for non-ASCII characters ... OK
* checking R files for syntax errors ... OK
* checking whether the package can be loaded ... OK
* checking whether the package can be loaded with stated dependencies ... OK
* checking whether the package can be unloaded cleanly ... OK
* checking whether the namespace can be loaded with stated dependencies ... OK
* checking whether the namespace can be unloaded cleanly ... OK
* checking dependencies in R code ... NOTE
Namespaces in Imports field not imported from:
  ‘methods’ ‘rmarkdown’
  All declared Imports should be used.
* checking S3 generic/method consistency ... OK
* checking replacement functions ... OK
* checking foreign function calls ... OK
* checking R code for possible problems ... NOTE
convergenceTextToTable: no visible binding for global variable ‘.’
convergenceTextToTable: no visible binding for global variable ‘Gap’
convergenceTextToTable: no visible global function definition for
  ‘across’
convergenceTextToTable: no visible global function definition for
  ‘everything’
convergenceTextToTable: no visible binding for global variable
  ‘Objective’
convergenceTextToTable: no visible binding for global variable ‘Best
  Bound’
convergenceTextToTable: no visible global function definition for ‘n’
convergenceTextToTable: no visible binding for global variable ‘index’
defaultCbcSolveCarnivalOptions: no visible binding for global variable
  ‘solverPath’
exportIlpSolutionResultFromXml: no visible global function definition
  for ‘is’
parseCplexLog: no visible binding for global variable ‘.’
prepareLPMatrixSingle: no visible global function definition for
  ‘error’
solveWithCbc: no visible global function definition for ‘read.csv2’
solveWithCplex: no visible global function definition for ‘read.delim’
timeStringToTable: no visible binding for global variable ‘.’
timeStringToTable: no visible binding for global variable ‘ticks’
timeStringToTable: no visible binding for global variable ‘Solutions’
timeStringToTable: no visible global function definition for ‘across’
timeStringToTable: no visible global function definition for
  ‘everything’
writeCplexCommandFileFromJson: no visible global function definition
  for ‘fromJSON’
Undefined global functions or variables:
  . Best Bound Gap Objective Solutions across error everything fromJSON
  index is n read.csv2 read.delim solverPath ticks
Consider adding
  importFrom("methods", "is")
  importFrom("utils", "read.csv2", "read.delim")
to your NAMESPACE file (and ensure that your DESCRIPTION Imports field
contains 'methods').
* checking Rd files ... NOTE
prepare_Rd: checkData.Rd:23-25: Dropping empty section \value
prepare_Rd: checkOptionsValidity.Rd:14-16: Dropping empty section \value
prepare_Rd: defaultCbcSolveCarnivalOptions.Rd:12-14: Dropping empty section \value
prepare_Rd: defaultCplexSpecificOptions.Rd:12-14: Dropping empty section \value
prepare_Rd: defaultLpSolveCarnivalOptions.Rd:12-14: Dropping empty section \value
prepare_Rd: setCarnivalOptions.Rd:14-16: Dropping empty section \value
prepare_Rd: solveWithCbc.Rd:12-14: Dropping empty section \value
prepare_Rd: suggestedCbcSpecificOptions.Rd:12-14: Dropping empty section \value
prepare_Rd: suggestedCplexSpecificOptions.Rd:12-14: Dropping empty section \value
* checking Rd metadata ... OK
* checking Rd cross-references ... OK
* checking for missing documentation entries ... OK
* checking for code/documentation mismatches ... OK
* checking Rd \usage sections ... OK
* checking Rd contents ... OK
* checking for unstated dependencies in examples ... OK
* checking R/sysdata.rda ... OK
* checking files in ‘vignettes’ ... OK
* checking examples ... OK
* checking for unstated dependencies in vignettes ... OK
* checking package vignettes in ‘inst/doc’ ... OK
* checking running R code from vignettes ... SKIPPED
* checking re-building of vignette outputs ... SKIPPED
* checking PDF version of manual ... OK
* DONE
Status: 4 NOTEs
See
  ‘/Users/biocbuild/bbs-3.14-bioc/meat/CARNIVAL.Rcheck/00check.log’
for details.
CARNIVAL.Rcheck/00install.out
############################################################################## ############################################################################## ### ### Running command: ### ### /Library/Frameworks/R.framework/Resources/bin/R CMD INSTALL CARNIVAL ### ############################################################################## ############################################################################## * installing to library ‘/Library/Frameworks/R.framework/Versions/4.1/Resources/library’ * installing *source* package ‘CARNIVAL’ ... ** using staged installation ** R ** inst ** byte-compile and prepare package for lazy loading ** help *** installing help indices ** building package indices ** installing vignettes ** testing if installed package can be loaded from temporary location ** testing if installed package can be loaded from final location ** testing if installed package keeps a record of temporary installation path * DONE (CARNIVAL)
CARNIVAL.Rcheck/CARNIVAL-Ex.timings
| name | user | system | elapsed | |
| checkOptionsValidity | 0.001 | 0.001 | 0.001 | |
| defaultCbcSolveCarnivalOptions | 0.000 | 0.001 | 0.001 | |
| defaultLpSolveCarnivalOptions | 0.000 | 0.001 | 0.001 | |
| generateLpFileCarnival | 0.003 | 0.002 | 0.006 | |
| runCARNIVAL | 0.003 | 0.002 | 0.005 | |
| runFromLpCarnival | 0.002 | 0.002 | 0.004 | |
| runInverseCarnival | 0.001 | 0.002 | 0.003 | |
| runVanillaCarnival | 0.003 | 0.002 | 0.004 | |
| setCarnivalOptions | 0 | 0 | 0 | |
| suggestedCbcSpecificOptions | 0.000 | 0.001 | 0.000 | |
| suggestedCplexSpecificOptions | 0.000 | 0.000 | 0.001 | |