| Back to Multiple platform build/check report for BioC 3.14 |
|
This page was generated on 2022-04-13 12:06:16 -0400 (Wed, 13 Apr 2022).
| Hostname | OS | Arch (*) | R version | Installed pkgs |
|---|---|---|---|---|
| nebbiolo2 | Linux (Ubuntu 20.04.4 LTS) | x86_64 | 4.1.3 (2022-03-10) -- "One Push-Up" | 4324 |
| tokay2 | Windows Server 2012 R2 Standard | x64 | 4.1.3 (2022-03-10) -- "One Push-Up" | 4077 |
| machv2 | macOS 10.14.6 Mojave | x86_64 | 4.1.3 (2022-03-10) -- "One Push-Up" | 4137 |
| Click on any hostname to see more info about the system (e.g. compilers) (*) as reported by 'uname -p', except on Windows and Mac OS X | ||||
|
To the developers/maintainers of the CAGEfightR package: - Please allow up to 24 hours (and sometimes 48 hours) for your latest push to git@git.bioconductor.org:packages/CAGEfightR.git to reflect on this report. See How and When does the builder pull? When will my changes propagate? for more information. - Make sure to use the following settings in order to reproduce any error or warning you see on this page. |
| Package 235/2083 | Hostname | OS / Arch | INSTALL | BUILD | CHECK | BUILD BIN | ||||||||
| CAGEfightR 1.14.0 (landing page) Malte Thodberg
| nebbiolo2 | Linux (Ubuntu 20.04.4 LTS) / x86_64 | OK | OK | OK | |||||||||
| tokay2 | Windows Server 2012 R2 Standard / x64 | OK | OK | OK | OK | |||||||||
| machv2 | macOS 10.14.6 Mojave / x86_64 | OK | OK | OK | OK | |||||||||
| Package: CAGEfightR |
| Version: 1.14.0 |
| Command: rm -rf CAGEfightR.buildbin-libdir && mkdir CAGEfightR.buildbin-libdir && C:\Users\biocbuild\bbs-3.14-bioc\R\bin\R.exe CMD INSTALL --merge-multiarch --build --library=CAGEfightR.buildbin-libdir CAGEfightR_1.14.0.tar.gz |
| StartedAt: 2022-04-13 05:45:51 -0400 (Wed, 13 Apr 2022) |
| EndedAt: 2022-04-13 05:47:28 -0400 (Wed, 13 Apr 2022) |
| EllapsedTime: 97.2 seconds |
| RetCode: 0 |
| Status: OK |
| PackageFile: CAGEfightR_1.14.0.zip |
| PackageFileSize: 3.075 MiB |
##############################################################################
##############################################################################
###
### Running command:
###
### rm -rf CAGEfightR.buildbin-libdir && mkdir CAGEfightR.buildbin-libdir && C:\Users\biocbuild\bbs-3.14-bioc\R\bin\R.exe CMD INSTALL --merge-multiarch --build --library=CAGEfightR.buildbin-libdir CAGEfightR_1.14.0.tar.gz
###
##############################################################################
##############################################################################
install for i386
* installing *source* package 'CAGEfightR' ...
** using staged installation
** R
** data
*** moving datasets to lazyload DB
** inst
** byte-compile and prepare package for lazy loading
** help
*** installing help indices
converting help for package 'CAGEfightR'
finding HTML links ... done
assignGeneID html
assignMissingID html
assignTxID html
assignTxType html
balanceBC html
balanceD html
bwCommonGenome html
bwGenomeCompatibility html
bwValid html
calcBidirectionality html
calcComposition html
calcPooled html
calcShape html
calcSupport html
calcTPM html
calcTotalTags html
checkCTSSs html
checkPeaked html
checkPooled html
clusterBidirectionally html
clusterUnidirectionally html
combineClusters html
convertBAM2BigWig html
convertBED2BigWig html
convertGRanges2GPos html
exampleDesign html
findLinks html
findStretches html
quantifyCTSSs html
quantifyCTSSs2 html
quantifyClusters html
quantifyGenes html
quickEnhancers html
quickGenes html
quickTSSs html
shapeEntropy html
shapeIQR html
shapeMean html
shapeMultimodality html
subsetByBidirectionality html
subsetByComposition html
subsetBySupport html
swapRanges html
swapScores html
trackBalance html
trackCTSS html
trackClusters html
trackLinks html
trimToPeak html
trimToPercentiles html
tuneTagClustering html
utilsAggregateRows html
utilsDeStrand html
utilsScoreOverlaps html
utilsSimplifyTxDb html
** building package indices
** installing vignettes
** testing if installed package can be loaded from temporary location
** testing if installed package can be loaded from final location
** testing if installed package keeps a record of temporary installation path
install for x64
* installing *source* package 'CAGEfightR' ...
** testing if installed package can be loaded
* MD5 sums
packaged installation of 'CAGEfightR' as CAGEfightR_1.14.0.zip
* DONE (CAGEfightR)