| Back to Multiple platform build/check report for BioC 3.14 |
|
This page was generated on 2022-04-13 12:06:15 -0400 (Wed, 13 Apr 2022).
| Hostname | OS | Arch (*) | R version | Installed pkgs |
|---|---|---|---|---|
| nebbiolo2 | Linux (Ubuntu 20.04.4 LTS) | x86_64 | 4.1.3 (2022-03-10) -- "One Push-Up" | 4324 |
| tokay2 | Windows Server 2012 R2 Standard | x64 | 4.1.3 (2022-03-10) -- "One Push-Up" | 4077 |
| machv2 | macOS 10.14.6 Mojave | x86_64 | 4.1.3 (2022-03-10) -- "One Push-Up" | 4137 |
| Click on any hostname to see more info about the system (e.g. compilers) (*) as reported by 'uname -p', except on Windows and Mac OS X | ||||
|
To the developers/maintainers of the BioNetStat package: - Please allow up to 24 hours (and sometimes 48 hours) for your latest push to git@git.bioconductor.org:packages/BioNetStat.git to reflect on this report. See How and When does the builder pull? When will my changes propagate? for more information. - Make sure to use the following settings in order to reproduce any error or warning you see on this page. |
| Package 189/2083 | Hostname | OS / Arch | INSTALL | BUILD | CHECK | BUILD BIN | ||||||||
| BioNetStat 1.14.0 (landing page) Vinicius Jardim
| nebbiolo2 | Linux (Ubuntu 20.04.4 LTS) / x86_64 | OK | OK | OK | |||||||||
| tokay2 | Windows Server 2012 R2 Standard / x64 | OK | OK | OK | OK | |||||||||
| machv2 | macOS 10.14.6 Mojave / x86_64 | OK | OK | OK | OK | |||||||||
| Package: BioNetStat |
| Version: 1.14.0 |
| Command: rm -rf BioNetStat.buildbin-libdir && mkdir BioNetStat.buildbin-libdir && C:\Users\biocbuild\bbs-3.14-bioc\R\bin\R.exe CMD INSTALL --merge-multiarch --build --library=BioNetStat.buildbin-libdir BioNetStat_1.14.0.tar.gz |
| StartedAt: 2022-04-13 05:43:13 -0400 (Wed, 13 Apr 2022) |
| EndedAt: 2022-04-13 05:44:08 -0400 (Wed, 13 Apr 2022) |
| EllapsedTime: 55.0 seconds |
| RetCode: 0 |
| Status: OK |
| PackageFile: BioNetStat_1.14.0.zip |
| PackageFileSize: 3.096 MiB |
##############################################################################
##############################################################################
###
### Running command:
###
### rm -rf BioNetStat.buildbin-libdir && mkdir BioNetStat.buildbin-libdir && C:\Users\biocbuild\bbs-3.14-bioc\R\bin\R.exe CMD INSTALL --merge-multiarch --build --library=BioNetStat.buildbin-libdir BioNetStat_1.14.0.tar.gz
###
##############################################################################
##############################################################################
install for i386
* installing *source* package 'BioNetStat' ...
** using staged installation
** R
** data
** inst
** byte-compile and prepare package for lazy loading
** help
*** installing help indices
converting help for package 'BioNetStat'
finding HTML links ... done
KLdegree html
KLspectrum html
adjacencyMatrix html
centralityPathPlot html
diffNetAnalysis html
doLabels html
edgeTest html
labels html
nDegreeDensities html
nSpectralDensities html
networkFeature html
networkTest html
nodeScores html
nodeTest html
pathPlot html
readSetFile html
readVarFile html
runBioNetStat html
varFile html
** building package indices
** installing vignettes
** testing if installed package can be loaded from temporary location
** testing if installed package can be loaded from final location
** testing if installed package keeps a record of temporary installation path
install for x64
* installing *source* package 'BioNetStat' ...
** testing if installed package can be loaded
* MD5 sums
packaged installation of 'BioNetStat' as BioNetStat_1.14.0.zip
* DONE (BioNetStat)