| Back to Multiple platform build/check report for BioC 3.14 |
|
This page was generated on 2022-04-13 12:06:13 -0400 (Wed, 13 Apr 2022).
| Hostname | OS | Arch (*) | R version | Installed pkgs |
|---|---|---|---|---|
| nebbiolo2 | Linux (Ubuntu 20.04.4 LTS) | x86_64 | 4.1.3 (2022-03-10) -- "One Push-Up" | 4324 |
| tokay2 | Windows Server 2012 R2 Standard | x64 | 4.1.3 (2022-03-10) -- "One Push-Up" | 4077 |
| machv2 | macOS 10.14.6 Mojave | x86_64 | 4.1.3 (2022-03-10) -- "One Push-Up" | 4137 |
| Click on any hostname to see more info about the system (e.g. compilers) (*) as reported by 'uname -p', except on Windows and Mac OS X | ||||
|
To the developers/maintainers of the BiGGR package: - Please allow up to 24 hours (and sometimes 48 hours) for your latest push to git@git.bioconductor.org:packages/BiGGR.git to reflect on this report. See How and When does the builder pull? When will my changes propagate? for more information. - Make sure to use the following settings in order to reproduce any error or warning you see on this page. |
| Package 147/2083 | Hostname | OS / Arch | INSTALL | BUILD | CHECK | BUILD BIN | ||||||||
| BiGGR 1.30.0 (landing page) Anand K. Gavai
| nebbiolo2 | Linux (Ubuntu 20.04.4 LTS) / x86_64 | OK | OK | OK | |||||||||
| tokay2 | Windows Server 2012 R2 Standard / x64 | OK | OK | OK | OK | |||||||||
| machv2 | macOS 10.14.6 Mojave / x86_64 | ... NOT SUPPORTED ... | ||||||||||||
| Package: BiGGR |
| Version: 1.30.0 |
| Command: chmod a+r BiGGR -R && C:\Users\biocbuild\bbs-3.14-bioc\R\bin\R.exe --arch x64 CMD build --keep-empty-dirs --no-resave-data BiGGR |
| StartedAt: 2022-04-12 08:15:30 -0400 (Tue, 12 Apr 2022) |
| EndedAt: 2022-04-12 08:16:06 -0400 (Tue, 12 Apr 2022) |
| EllapsedTime: 36.5 seconds |
| RetCode: 0 |
| Status: OK |
| PackageFile: BiGGR_1.30.0.tar.gz |
| PackageFileSize: 4.235 MiB |
##############################################################################
##############################################################################
###
### Running command:
###
### chmod a+r BiGGR -R && C:\Users\biocbuild\bbs-3.14-bioc\R\bin\R.exe --arch x64 CMD build --keep-empty-dirs --no-resave-data BiGGR
###
##############################################################################
##############################################################################
* checking for file 'BiGGR/DESCRIPTION' ... OK
* preparing 'BiGGR':
* checking DESCRIPTION meta-information ... OK
* installing the package to build vignettes
* creating vignettes ... OK
Warning: 'inst/doc' files
'BiGGR.Rnw', 'BiGGR.pdf', 'BiGGR.R'
ignored as vignettes have been rebuilt.
Run R CMD build with --no-build-vignettes to prevent rebuilding.
* checking for LF line-endings in source and make files and shell scripts
* checking for empty or unneeded directories
* looking to see if a 'data/datalist' file should be added
* building 'BiGGR_1.30.0.tar.gz'