| Back to Multiple platform build/check report for BioC 3.14 |
|
This page was generated on 2022-04-13 12:07:40 -0400 (Wed, 13 Apr 2022).
| Hostname | OS | Arch (*) | R version | Installed pkgs |
|---|---|---|---|---|
| nebbiolo2 | Linux (Ubuntu 20.04.4 LTS) | x86_64 | 4.1.3 (2022-03-10) -- "One Push-Up" | 4324 |
| tokay2 | Windows Server 2012 R2 Standard | x64 | 4.1.3 (2022-03-10) -- "One Push-Up" | 4077 |
| machv2 | macOS 10.14.6 Mojave | x86_64 | 4.1.3 (2022-03-10) -- "One Push-Up" | 4137 |
| Click on any hostname to see more info about the system (e.g. compilers) (*) as reported by 'uname -p', except on Windows and Mac OS X | ||||
|
To the developers/maintainers of the BgeeCall package: - Please allow up to 24 hours (and sometimes 48 hours) for your latest push to git@git.bioconductor.org:packages/BgeeCall.git to reflect on this report. See How and When does the builder pull? When will my changes propagate? for more information. - Make sure to use the following settings in order to reproduce any error or warning you see on this page. |
| Package 140/2083 | Hostname | OS / Arch | INSTALL | BUILD | CHECK | BUILD BIN | ||||||||
| BgeeCall 1.10.0 (landing page) Julien Wollbrett
| nebbiolo2 | Linux (Ubuntu 20.04.4 LTS) / x86_64 | OK | OK | OK | |||||||||
| tokay2 | Windows Server 2012 R2 Standard / x64 | OK | OK | OK | OK | |||||||||
| machv2 | macOS 10.14.6 Mojave / x86_64 | OK | OK | OK | OK | |||||||||
| Package: BgeeCall |
| Version: 1.10.0 |
| Command: /Library/Frameworks/R.framework/Resources/bin/R CMD check --install=check:BgeeCall.install-out.txt --library=/Library/Frameworks/R.framework/Resources/library --no-vignettes --timings BgeeCall_1.10.0.tar.gz |
| StartedAt: 2022-04-12 10:42:19 -0400 (Tue, 12 Apr 2022) |
| EndedAt: 2022-04-12 10:49:57 -0400 (Tue, 12 Apr 2022) |
| EllapsedTime: 457.7 seconds |
| RetCode: 0 |
| Status: OK |
| CheckDir: BgeeCall.Rcheck |
| Warnings: 0 |
##############################################################################
##############################################################################
###
### Running command:
###
### /Library/Frameworks/R.framework/Resources/bin/R CMD check --install=check:BgeeCall.install-out.txt --library=/Library/Frameworks/R.framework/Resources/library --no-vignettes --timings BgeeCall_1.10.0.tar.gz
###
##############################################################################
##############################################################################
* using log directory ‘/Users/biocbuild/bbs-3.14-bioc/meat/BgeeCall.Rcheck’
* using R version 4.1.3 (2022-03-10)
* using platform: x86_64-apple-darwin17.0 (64-bit)
* using session charset: UTF-8
* using option ‘--no-vignettes’
* checking for file ‘BgeeCall/DESCRIPTION’ ... OK
* checking extension type ... Package
* this is package ‘BgeeCall’ version ‘1.10.0’
* package encoding: UTF-8
* checking package namespace information ... OK
* checking package dependencies ... OK
* checking if this is a source package ... OK
* checking if there is a namespace ... OK
* checking for hidden files and directories ... OK
* checking for portable file names ... OK
* checking for sufficient/correct file permissions ... OK
* checking whether package ‘BgeeCall’ can be installed ... OK
* checking installed package size ... NOTE
installed size is 9.1Mb
sub-directories of 1Mb or more:
extdata 8.6Mb
* checking package directory ... OK
* checking ‘build’ directory ... OK
* checking DESCRIPTION meta-information ... OK
* checking top-level files ... OK
* checking for left-over files ... OK
* checking index information ... OK
* checking package subdirectories ... OK
* checking R files for non-ASCII characters ... OK
* checking R files for syntax errors ... OK
* checking whether the package can be loaded ... OK
* checking whether the package can be loaded with stated dependencies ... OK
* checking whether the package can be unloaded cleanly ... OK
* checking whether the namespace can be loaded with stated dependencies ... OK
* checking whether the namespace can be unloaded cleanly ... OK
* checking dependencies in R code ... OK
* checking S3 generic/method consistency ... OK
* checking replacement functions ... OK
* checking foreign function calls ... OK
* checking R code for possible problems ... NOTE
approachesMerging : <anonymous>: no visible global function definition
for ‘p.adjust’
generate_calls_workflow: no visible binding for global variable
‘myUserMetadata’
generate_qValue: no visible global function definition for ‘approxfun’
generate_qValue: no visible global function definition for ‘integrate’
generate_qValue : calculate_qValue: no visible global function
definition for ‘integrate’
generate_theoretical_pValue: no visible binding for global variable
‘abundance’
generate_theoretical_pValue: no visible binding for global variable
‘type’
generate_theoretical_pValue: no visible global function definition for
‘pnorm’
merging_libraries: no visible binding for global variable ‘read.delim’
should_ignore_tx_version: no visible global function definition for
‘complete.cases’
Undefined global functions or variables:
abundance approxfun complete.cases integrate myUserMetadata p.adjust
pnorm read.delim type
Consider adding
importFrom("stats", "approxfun", "complete.cases", "integrate",
"p.adjust", "pnorm")
importFrom("utils", "read.delim")
to your NAMESPACE file.
* checking Rd files ... OK
* checking Rd metadata ... OK
* checking Rd cross-references ... OK
* checking for missing documentation entries ... OK
* checking for code/documentation mismatches ... OK
* checking Rd \usage sections ... OK
* checking Rd contents ... OK
* checking for unstated dependencies in examples ... OK
* checking files in ‘vignettes’ ... OK
* checking examples ... OK
Examples with CPU (user + system) or elapsed time > 5s
user system elapsed
generate_presence_absence 5.687 0.281 11.432
setAnnotationFromFile 3.382 0.728 6.754
merge_transcriptome_and_intergenic 0.459 0.202 7.289
list_bgee_ref_intergenic_species 0.019 0.012 8.116
* checking for unstated dependencies in ‘tests’ ... OK
* checking tests ...
Running ‘testthat.R’
OK
* checking for unstated dependencies in vignettes ... OK
* checking package vignettes in ‘inst/doc’ ... OK
* checking running R code from vignettes ... SKIPPED
* checking re-building of vignette outputs ... SKIPPED
* checking PDF version of manual ... OK
* DONE
Status: 2 NOTEs
See
‘/Users/biocbuild/bbs-3.14-bioc/meat/BgeeCall.Rcheck/00check.log’
for details.
BgeeCall.Rcheck/00install.out
############################################################################## ############################################################################## ### ### Running command: ### ### /Library/Frameworks/R.framework/Resources/bin/R CMD INSTALL BgeeCall ### ############################################################################## ############################################################################## * installing to library ‘/Library/Frameworks/R.framework/Versions/4.1/Resources/library’ * installing *source* package ‘BgeeCall’ ... ** using staged installation ** R ** inst ** byte-compile and prepare package for lazy loading ** help *** installing help indices ** building package indices ** installing vignettes ** testing if installed package can be loaded from temporary location ** testing if installed package can be loaded from final location ** testing if installed package keeps a record of temporary installation path * DONE (BgeeCall)
BgeeCall.Rcheck/tests/testthat.Rout
R version 4.1.3 (2022-03-10) -- "One Push-Up"
Copyright (C) 2022 The R Foundation for Statistical Computing
Platform: x86_64-apple-darwin17.0 (64-bit)
R is free software and comes with ABSOLUTELY NO WARRANTY.
You are welcome to redistribute it under certain conditions.
Type 'license()' or 'licence()' for distribution details.
R is a collaborative project with many contributors.
Type 'contributors()' for more information and
'citation()' on how to cite R or R packages in publications.
Type 'demo()' for some demos, 'help()' for on-line help, or
'help.start()' for an HTML browser interface to help.
Type 'q()' to quit R.
> library(testthat)
> library(BgeeCall)
>
> Sys.setenv("R_TESTS" = "")
> test_check("BgeeCall")
trying URL 'ftp://ftp.bgee.org/intergenic/0.1/ref_intergenic/6239_intergenic.fa.gz'
Content type 'unknown' length 4420457 bytes (4.2 MB)
==================================================
trying URL 'ftp://ftp.bgee.org/intergenic/0.1/ref_intergenic/6239_intergenic.fa.gz'
Content type 'unknown' length 4420457 bytes (4.2 MB)
==================================================
trying URL 'ftp://ftp.bgee.org/intergenic/0.1/ref_intergenic/6239_intergenic.fa.gz'
Content type 'unknown' length 4420457 bytes (4.2 MB)
==================================================
trying URL 'ftp://ftp.bgee.org/intergenic/0.1/ref_intergenic/6239_intergenic.fa.gz'
Content type 'unknown' length 4420457 bytes (4.2 MB)
==================================================
[ FAIL 0 | WARN 0 | SKIP 0 | PASS 15 ]
>
> proc.time()
user system elapsed
35.939 2.230 68.894
BgeeCall.Rcheck/BgeeCall-Ex.timings
| name | user | system | elapsed | |
| create_kallisto_index | 0.000 | 0.001 | 0.001 | |
| download_fasta_intergenic | 0.001 | 0.000 | 0.001 | |
| download_kallisto | 0.099 | 0.053 | 1.136 | |
| generate_calls_workflow | 0.000 | 0.001 | 0.001 | |
| generate_presence_absence | 5.687 | 0.281 | 11.432 | |
| generate_slurm_calls | 0 | 0 | 0 | |
| generate_slurm_indexes | 0 | 0 | 0 | |
| getIntergenicPrefix | 0.005 | 0.004 | 1.803 | |
| getIntergenicRelease | 0.006 | 0.003 | 1.925 | |
| getRunIds | 0.001 | 0.000 | 0.000 | |
| getSimpleArborescence | 0 | 0 | 0 | |
| getWorkingPath | 0 | 0 | 0 | |
| list_bgee_ref_intergenic_species | 0.019 | 0.012 | 8.116 | |
| list_community_ref_intergenic_species | 0.172 | 0.008 | 0.964 | |
| list_intergenic_release | 0.008 | 0.004 | 1.877 | |
| merge_transcriptome_and_intergenic | 0.459 | 0.202 | 7.289 | |
| merging_libraries | 0 | 0 | 0 | |
| run_kallisto | 0.001 | 0.000 | 0.001 | |
| run_tximport | 1.403 | 0.053 | 3.759 | |
| setAnnotationFromFile | 3.382 | 0.728 | 6.754 | |
| setAnnotationFromObject | 0.453 | 0.011 | 1.377 | |
| setIntergenicRelease | 0.006 | 0.004 | 1.804 | |
| setOutputDir | 0.000 | 0.000 | 0.001 | |
| setRNASeqLibPath | 0.000 | 0.001 | 0.001 | |
| setRunIds | 0.000 | 0.000 | 0.001 | |
| setSimpleArborescence | 0.001 | 0.000 | 0.001 | |
| setTranscriptomeFromFile | 0.025 | 0.002 | 0.027 | |
| setTranscriptomeFromObject | 0.007 | 0.001 | 0.008 | |
| setWorkingPath | 0.000 | 0.000 | 0.001 | |