| Back to Multiple platform build/check report for BioC 3.14 |
|
This page was generated on 2022-04-13 12:06:12 -0400 (Wed, 13 Apr 2022).
| Hostname | OS | Arch (*) | R version | Installed pkgs |
|---|---|---|---|---|
| nebbiolo2 | Linux (Ubuntu 20.04.4 LTS) | x86_64 | 4.1.3 (2022-03-10) -- "One Push-Up" | 4324 |
| tokay2 | Windows Server 2012 R2 Standard | x64 | 4.1.3 (2022-03-10) -- "One Push-Up" | 4077 |
| machv2 | macOS 10.14.6 Mojave | x86_64 | 4.1.3 (2022-03-10) -- "One Push-Up" | 4137 |
| Click on any hostname to see more info about the system (e.g. compilers) (*) as reported by 'uname -p', except on Windows and Mac OS X | ||||
|
To the developers/maintainers of the BatchQC package: - Please allow up to 24 hours (and sometimes 48 hours) for your latest push to git@git.bioconductor.org:packages/BatchQC.git to reflect on this report. See How and When does the builder pull? When will my changes propagate? for more information. - Make sure to use the following settings in order to reproduce any error or warning you see on this page. |
| Package 123/2083 | Hostname | OS / Arch | INSTALL | BUILD | CHECK | BUILD BIN | ||||||||
| BatchQC 1.22.0 (landing page) Solaiappan Manimaran
| nebbiolo2 | Linux (Ubuntu 20.04.4 LTS) / x86_64 | OK | OK | OK | |||||||||
| tokay2 | Windows Server 2012 R2 Standard / x64 | OK | OK | OK | OK | |||||||||
| machv2 | macOS 10.14.6 Mojave / x86_64 | OK | OK | OK | OK | |||||||||
| Package: BatchQC |
| Version: 1.22.0 |
| Command: C:\cygwin\bin\curl.exe -O http://155.52.207.166/BBS/3.14/bioc/src/contrib/BatchQC_1.22.0.tar.gz && rm -rf BatchQC.buildbin-libdir && mkdir BatchQC.buildbin-libdir && C:\Users\biocbuild\bbs-3.14-bioc\R\bin\R.exe CMD INSTALL --merge-multiarch --build --library=BatchQC.buildbin-libdir BatchQC_1.22.0.tar.gz && C:\Users\biocbuild\bbs-3.14-bioc\R\bin\R.exe CMD INSTALL BatchQC_1.22.0.zip && rm BatchQC_1.22.0.tar.gz BatchQC_1.22.0.zip |
| StartedAt: 2022-04-12 06:22:57 -0400 (Tue, 12 Apr 2022) |
| EndedAt: 2022-04-12 06:24:51 -0400 (Tue, 12 Apr 2022) |
| EllapsedTime: 113.7 seconds |
| RetCode: 0 |
| Status: OK |
##############################################################################
##############################################################################
###
### Running command:
###
### C:\cygwin\bin\curl.exe -O http://155.52.207.166/BBS/3.14/bioc/src/contrib/BatchQC_1.22.0.tar.gz && rm -rf BatchQC.buildbin-libdir && mkdir BatchQC.buildbin-libdir && C:\Users\biocbuild\bbs-3.14-bioc\R\bin\R.exe CMD INSTALL --merge-multiarch --build --library=BatchQC.buildbin-libdir BatchQC_1.22.0.tar.gz && C:\Users\biocbuild\bbs-3.14-bioc\R\bin\R.exe CMD INSTALL BatchQC_1.22.0.zip && rm BatchQC_1.22.0.tar.gz BatchQC_1.22.0.zip
###
##############################################################################
##############################################################################
% Total % Received % Xferd Average Speed Time Time Time Current
Dload Upload Total Spent Left Speed
0 0 0 0 0 0 0 0 --:--:-- --:--:-- --:--:-- 0
0 1263k 0 2487 0 0 30791 0 0:00:42 --:--:-- 0:00:42 30703
100 1263k 100 1263k 0 0 1534k 0 --:--:-- --:--:-- --:--:-- 1534k
install for i386
* installing *source* package 'BatchQC' ...
** using staged installation
** R
** data
** inst
** byte-compile and prepare package for lazy loading
** help
*** installing help indices
converting help for package 'BatchQC'
finding HTML links ... done
BatchQCout-class html
batchQC html
batchQC_analyze html
batchQC_condition_adjusted html
batchQC_filter_genes html
batchQC_fsva_adjusted html
batchQC_num.sv html
batchQC_shapeVariation html
batchQC_sva html
batchQC_svregress_adjusted html
batchqc_circosplot html
batchqc_correlation html
batchqc_corscatter html
batchqc_explained_variation html
batchqc_heatmap html
batchqc_pc_explained_variation html
batchqc_pca html
batchqc_pca_svd html
batchtest html
combatPlot html
example_batchqc_data html
getShinyInput html
getShinyInputCombat html
getShinyInputOrig html
getShinyInputSVA html
getShinyInputSVAf html
getShinyInputSVAr html
gnormalize html
lmFitC html
log2CPM html
makeSVD html
pcRes html
plotPC html
plot_genewise_moments html
plot_samplewise_moments html
protein_example_data html
rnaseq_sim html
setShinyInput html
setShinyInputCombat html
setShinyInputOrig html
setShinyInputSVA html
setShinyInputSVAf html
setShinyInputSVAr html
** building package indices
** installing vignettes
** testing if installed package can be loaded from temporary location
** testing if installed package can be loaded from final location
** testing if installed package keeps a record of temporary installation path
install for x64
* installing *source* package 'BatchQC' ...
** testing if installed package can be loaded
* MD5 sums
packaged installation of 'BatchQC' as BatchQC_1.22.0.zip
* DONE (BatchQC)
* installing to library 'C:/Users/biocbuild/bbs-3.14-bioc/R/library'
package 'BatchQC' successfully unpacked and MD5 sums checked