| Back to Multiple platform build/check report for BioC 3.14 |
|
This page was generated on 2022-04-13 12:07:40 -0400 (Wed, 13 Apr 2022).
| Hostname | OS | Arch (*) | R version | Installed pkgs |
|---|---|---|---|---|
| nebbiolo2 | Linux (Ubuntu 20.04.4 LTS) | x86_64 | 4.1.3 (2022-03-10) -- "One Push-Up" | 4324 |
| tokay2 | Windows Server 2012 R2 Standard | x64 | 4.1.3 (2022-03-10) -- "One Push-Up" | 4077 |
| machv2 | macOS 10.14.6 Mojave | x86_64 | 4.1.3 (2022-03-10) -- "One Push-Up" | 4137 |
| Click on any hostname to see more info about the system (e.g. compilers) (*) as reported by 'uname -p', except on Windows and Mac OS X | ||||
|
To the developers/maintainers of the BEclear package: - Please allow up to 24 hours (and sometimes 48 hours) for your latest push to git@git.bioconductor.org:packages/BEclear.git to reflect on this report. See How and When does the builder pull? When will my changes propagate? for more information. - Make sure to use the following settings in order to reproduce any error or warning you see on this page. |
| Package 138/2083 | Hostname | OS / Arch | INSTALL | BUILD | CHECK | BUILD BIN | ||||||||
| BEclear 2.10.0 (landing page) David Rasp
| nebbiolo2 | Linux (Ubuntu 20.04.4 LTS) / x86_64 | OK | OK | OK | |||||||||
| tokay2 | Windows Server 2012 R2 Standard / x64 | OK | OK | OK | OK | |||||||||
| machv2 | macOS 10.14.6 Mojave / x86_64 | OK | OK | OK | OK | |||||||||
| Package: BEclear |
| Version: 2.10.0 |
| Command: /Library/Frameworks/R.framework/Resources/bin/R CMD check --install=check:BEclear.install-out.txt --library=/Library/Frameworks/R.framework/Resources/library --no-vignettes --timings BEclear_2.10.0.tar.gz |
| StartedAt: 2022-04-12 10:41:08 -0400 (Tue, 12 Apr 2022) |
| EndedAt: 2022-04-12 10:42:56 -0400 (Tue, 12 Apr 2022) |
| EllapsedTime: 107.4 seconds |
| RetCode: 0 |
| Status: OK |
| CheckDir: BEclear.Rcheck |
| Warnings: 0 |
##############################################################################
##############################################################################
###
### Running command:
###
### /Library/Frameworks/R.framework/Resources/bin/R CMD check --install=check:BEclear.install-out.txt --library=/Library/Frameworks/R.framework/Resources/library --no-vignettes --timings BEclear_2.10.0.tar.gz
###
##############################################################################
##############################################################################
* using log directory ‘/Users/biocbuild/bbs-3.14-bioc/meat/BEclear.Rcheck’
* using R version 4.1.3 (2022-03-10)
* using platform: x86_64-apple-darwin17.0 (64-bit)
* using session charset: UTF-8
* using option ‘--no-vignettes’
* checking for file ‘BEclear/DESCRIPTION’ ... OK
* checking extension type ... Package
* this is package ‘BEclear’ version ‘2.10.0’
* package encoding: UTF-8
* checking package namespace information ... OK
* checking package dependencies ... OK
* checking if this is a source package ... OK
* checking if there is a namespace ... OK
* checking for hidden files and directories ... NOTE
Found the following hidden files and directories:
.travis.yml
These were most likely included in error. See section ‘Package
structure’ in the ‘Writing R Extensions’ manual.
* checking for portable file names ... OK
* checking for sufficient/correct file permissions ... OK
* checking whether package ‘BEclear’ can be installed ... OK
* checking installed package size ... OK
* checking package directory ... OK
* checking ‘build’ directory ... OK
* checking DESCRIPTION meta-information ... OK
* checking top-level files ... NOTE
File
LICENSE
is not mentioned in the DESCRIPTION file.
* checking for left-over files ... OK
* checking index information ... OK
* checking package subdirectories ... OK
* checking R files for non-ASCII characters ... OK
* checking R files for syntax errors ... OK
* checking whether the package can be loaded ... OK
* checking whether the package can be loaded with stated dependencies ... OK
* checking whether the package can be unloaded cleanly ... OK
* checking whether the namespace can be loaded with stated dependencies ... OK
* checking whether the namespace can be unloaded cleanly ... OK
* checking dependencies in R code ... OK
* checking S3 generic/method consistency ... OK
* checking replacement functions ... OK
* checking foreign function calls ... OK
* checking R code for possible problems ... OK
* checking Rd files ... OK
* checking Rd metadata ... OK
* checking Rd cross-references ... OK
* checking for missing documentation entries ... OK
* checking for code/documentation mismatches ... OK
* checking Rd \usage sections ... OK
* checking Rd contents ... OK
* checking for unstated dependencies in examples ... OK
* checking contents of ‘data’ directory ... OK
* checking data for non-ASCII characters ... OK
* checking data for ASCII and uncompressed saves ... OK
* checking line endings in C/C++/Fortran sources/headers ... OK
* checking compiled code ... NOTE
Note: information on .o files is not available
* checking files in ‘vignettes’ ... OK
* checking examples ... OK
Examples with CPU (user + system) or elapsed time > 5s
user system elapsed
calcBatchEffects 9.758 0.117 9.888
* checking for unstated dependencies in ‘tests’ ... OK
* checking tests ...
Running ‘testthat.R’
OK
* checking for unstated dependencies in vignettes ... OK
* checking package vignettes in ‘inst/doc’ ... OK
* checking running R code from vignettes ... SKIPPED
* checking re-building of vignette outputs ... SKIPPED
* checking PDF version of manual ... OK
* DONE
Status: 3 NOTEs
See
‘/Users/biocbuild/bbs-3.14-bioc/meat/BEclear.Rcheck/00check.log’
for details.
BEclear.Rcheck/00install.out
############################################################################## ############################################################################## ### ### Running command: ### ### /Library/Frameworks/R.framework/Resources/bin/R CMD INSTALL BEclear ### ############################################################################## ############################################################################## * installing to library ‘/Library/Frameworks/R.framework/Versions/4.1/Resources/library’ * installing *source* package ‘BEclear’ ... ** using staged installation ** libs clang++ -mmacosx-version-min=10.13 -std=gnu++11 -I"/Library/Frameworks/R.framework/Resources/include" -DNDEBUG -I'/Library/Frameworks/R.framework/Versions/4.1/Resources/library/Rcpp/include' -I/usr/local/include -fPIC -Wall -g -O2 -c RcppExports.cpp -o RcppExports.o clang++ -mmacosx-version-min=10.13 -std=gnu++11 -I"/Library/Frameworks/R.framework/Resources/include" -DNDEBUG -I'/Library/Frameworks/R.framework/Versions/4.1/Resources/library/Rcpp/include' -I/usr/local/include -fPIC -Wall -g -O2 -c localLoss.cpp -o localLoss.o clang++ -mmacosx-version-min=10.13 -std=gnu++11 -dynamiclib -Wl,-headerpad_max_install_names -undefined dynamic_lookup -single_module -multiply_defined suppress -L/Library/Frameworks/R.framework/Resources/lib -L/usr/local/lib -o BEclear.so RcppExports.o localLoss.o -F/Library/Frameworks/R.framework/.. -framework R -Wl,-framework -Wl,CoreFoundation installing to /Library/Frameworks/R.framework/Versions/4.1/Resources/library/00LOCK-BEclear/00new/BEclear/libs ** R ** data ** inst ** byte-compile and prepare package for lazy loading ** help Loading required namespace: BEclear *** installing help indices ** building package indices ** installing vignettes ** testing if installed package can be loaded from temporary location ** checking absolute paths in shared objects and dynamic libraries ** testing if installed package can be loaded from final location ** testing if installed package keeps a record of temporary installation path * DONE (BEclear)
BEclear.Rcheck/tests/testthat.Rout
R version 4.1.3 (2022-03-10) -- "One Push-Up"
Copyright (C) 2022 The R Foundation for Statistical Computing
Platform: x86_64-apple-darwin17.0 (64-bit)
R is free software and comes with ABSOLUTELY NO WARRANTY.
You are welcome to redistribute it under certain conditions.
Type 'license()' or 'licence()' for distribution details.
R is a collaborative project with many contributors.
Type 'contributors()' for more information and
'citation()' on how to cite R or R packages in publications.
Type 'demo()' for some demos, 'help()' for on-line help, or
'help.start()' for an HTML browser interface to help.
Type 'q()' to quit R.
> library(testthat)
> library(BEclear)
Loading required package: BiocParallel
>
> test_check("BEclear")
INFO [2022-04-12 10:42:43] Calculate the batch effects for 2 batches
INFO [2022-04-12 10:42:43] Calculate the batch effects for 3 batches
INFO [2022-04-12 10:42:43] Calculate the batch effects for 3 batches
INFO [2022-04-12 10:42:43] Adjusting p-values
INFO [2022-04-12 10:42:44] Transforming matrix to data.table
INFO [2022-04-12 10:42:44] Calculate the batch effects for 4 batches
INFO [2022-04-12 10:42:44] Adjusting p-values
INFO [2022-04-12 10:42:44] Generating a summary table
INFO [2022-04-12 10:42:44] Calculating the scores for 4 batches
INFO [2022-04-12 10:42:44] Generating a summary table
INFO [2022-04-12 10:42:44] Generating a summary table
INFO [2022-04-12 10:42:44] 3 values outside of the boundaries found
INFO [2022-04-12 10:42:44] Starting the imputation of missing values.
INFO [2022-04-12 10:42:44] This might take a while.
INFO [2022-04-12 10:42:44] BEclear imputation is started:
INFO [2022-04-12 10:42:44] block size: 10 x 10
[ FAIL 0 | WARN 0 | SKIP 0 | PASS 80 ]
>
> proc.time()
user system elapsed
5.927 0.355 6.264
BEclear.Rcheck/BEclear-Ex.timings
| name | user | system | elapsed | |
| BEclear-package | 2.896 | 0.063 | 2.966 | |
| calcBatchEffects | 9.758 | 0.117 | 9.888 | |
| calcScore | 0.384 | 0.005 | 0.389 | |
| calcSummary | 0.333 | 0.004 | 0.338 | |
| clearBEgenes | 0.373 | 0.005 | 0.379 | |
| correctBatchEffect | 0.614 | 0.016 | 0.629 | |
| countValuesToPredict | 0.390 | 0.005 | 0.395 | |
| findOutsideValues | 0.726 | 0.014 | 0.741 | |
| imputeMissingData | 0.595 | 0.016 | 0.611 | |
| makeBoxplot | 0.436 | 0.007 | 0.443 | |
| preprocessBEclear | 0.007 | 0.001 | 0.008 | |
| replaceOutsideValues | 0.014 | 0.002 | 0.015 | |