| Back to Multiple platform build/check report for BioC 3.14 |
|
This page was generated on 2022-04-13 12:05:04 -0400 (Wed, 13 Apr 2022).
| Hostname | OS | Arch (*) | R version | Installed pkgs |
|---|---|---|---|---|
| nebbiolo2 | Linux (Ubuntu 20.04.4 LTS) | x86_64 | 4.1.3 (2022-03-10) -- "One Push-Up" | 4324 |
| tokay2 | Windows Server 2012 R2 Standard | x64 | 4.1.3 (2022-03-10) -- "One Push-Up" | 4077 |
| machv2 | macOS 10.14.6 Mojave | x86_64 | 4.1.3 (2022-03-10) -- "One Push-Up" | 4137 |
| Click on any hostname to see more info about the system (e.g. compilers) (*) as reported by 'uname -p', except on Windows and Mac OS X | ||||
|
To the developers/maintainers of the AUCell package: - Please allow up to 24 hours (and sometimes 48 hours) for your latest push to git@git.bioconductor.org:packages/AUCell.git to reflect on this report. See How and When does the builder pull? When will my changes propagate? for more information. - Make sure to use the following settings in order to reproduce any error or warning you see on this page. |
| Package 98/2083 | Hostname | OS / Arch | INSTALL | BUILD | CHECK | BUILD BIN | ||||||||
| AUCell 1.16.0 (landing page) Sara Aibar
| nebbiolo2 | Linux (Ubuntu 20.04.4 LTS) / x86_64 | OK | OK | OK | |||||||||
| tokay2 | Windows Server 2012 R2 Standard / x64 | OK | OK | OK | OK | |||||||||
| machv2 | macOS 10.14.6 Mojave / x86_64 | OK | OK | OK | OK | |||||||||
| Package: AUCell |
| Version: 1.16.0 |
| Command: /home/biocbuild/bbs-3.14-bioc/R/bin/R CMD check --install=check:AUCell.install-out.txt --library=/home/biocbuild/bbs-3.14-bioc/R/library --no-vignettes --timings AUCell_1.16.0.tar.gz |
| StartedAt: 2022-04-12 06:25:35 -0400 (Tue, 12 Apr 2022) |
| EndedAt: 2022-04-12 06:28:46 -0400 (Tue, 12 Apr 2022) |
| EllapsedTime: 191.5 seconds |
| RetCode: 0 |
| Status: OK |
| CheckDir: AUCell.Rcheck |
| Warnings: 0 |
##############################################################################
##############################################################################
###
### Running command:
###
### /home/biocbuild/bbs-3.14-bioc/R/bin/R CMD check --install=check:AUCell.install-out.txt --library=/home/biocbuild/bbs-3.14-bioc/R/library --no-vignettes --timings AUCell_1.16.0.tar.gz
###
##############################################################################
##############################################################################
* using log directory ‘/home/biocbuild/bbs-3.14-bioc/meat/AUCell.Rcheck’
* using R version 4.1.3 (2022-03-10)
* using platform: x86_64-pc-linux-gnu (64-bit)
* using session charset: UTF-8
* using option ‘--no-vignettes’
* checking for file ‘AUCell/DESCRIPTION’ ... OK
* checking extension type ... Package
* this is package ‘AUCell’ version ‘1.16.0’
* checking package namespace information ... OK
* checking package dependencies ... NOTE
Package which this enhances but not available for checking: ‘doMC’
* checking if this is a source package ... OK
* checking if there is a namespace ... OK
* checking for hidden files and directories ... OK
* checking for portable file names ... OK
* checking for sufficient/correct file permissions ... OK
* checking whether package ‘AUCell’ can be installed ... OK
* checking installed package size ... NOTE
installed size is 5.1Mb
sub-directories of 1Mb or more:
doc 4.3Mb
* checking package directory ... OK
* checking ‘build’ directory ... OK
* checking DESCRIPTION meta-information ... OK
* checking top-level files ... OK
* checking for left-over files ... OK
* checking index information ... OK
* checking package subdirectories ... OK
* checking R files for non-ASCII characters ... OK
* checking R files for syntax errors ... OK
* checking whether the package can be loaded ... OK
* checking whether the package can be loaded with stated dependencies ... OK
* checking whether the package can be unloaded cleanly ... OK
* checking whether the namespace can be loaded with stated dependencies ... OK
* checking whether the namespace can be unloaded cleanly ... OK
* checking dependencies in R code ... NOTE
Namespace in Imports field not imported from: ‘S4Vectors’
All declared Imports should be used.
* checking S3 generic/method consistency ... OK
* checking replacement functions ... OK
* checking foreign function calls ... OK
* checking R code for possible problems ... NOTE
AUCell_createViewerApp : <anonymous>: no visible global function
definition for ‘%>%’
AUCell_createViewerApp : <anonymous>: no visible binding for global
variable ‘tsne1’
AUCell_createViewerApp : <anonymous>: no visible binding for global
variable ‘tsne2’
AUCell_createViewerApp : <anonymous>: no visible binding for global
variable ‘cell’
plotEmb_rgb : <anonymous>: no visible global function definition for
‘rgb’
Undefined global functions or variables:
%>% cell rgb tsne1 tsne2
Consider adding
importFrom("grDevices", "rgb")
to your NAMESPACE file.
* checking Rd files ... OK
* checking Rd metadata ... OK
* checking Rd cross-references ... OK
* checking for missing documentation entries ... OK
* checking for code/documentation mismatches ... OK
* checking Rd \usage sections ... OK
* checking Rd contents ... OK
* checking for unstated dependencies in examples ... OK
* checking installed files from ‘inst/doc’ ... OK
* checking files in ‘vignettes’ ... OK
* checking examples ... OK
* checking for unstated dependencies in ‘tests’ ... OK
* checking tests ...
Running ‘testthat.R’
OK
* checking for unstated dependencies in vignettes ... OK
* checking package vignettes in ‘inst/doc’ ... OK
* checking running R code from vignettes ... SKIPPED
* checking re-building of vignette outputs ... SKIPPED
* checking PDF version of manual ... OK
* DONE
Status: 4 NOTEs
See
‘/home/biocbuild/bbs-3.14-bioc/meat/AUCell.Rcheck/00check.log’
for details.
AUCell.Rcheck/00install.out
############################################################################## ############################################################################## ### ### Running command: ### ### /home/biocbuild/bbs-3.14-bioc/R/bin/R CMD INSTALL AUCell ### ############################################################################## ############################################################################## * installing to library ‘/home/biocbuild/bbs-3.14-bioc/R/library’ * installing *source* package ‘AUCell’ ... ** using staged installation ** R ** inst ** byte-compile and prepare package for lazy loading ** help *** installing help indices ** building package indices ** installing vignettes ‘AUCell.Rmd’ using ‘UTF-8’ ** testing if installed package can be loaded from temporary location ** testing if installed package can be loaded from final location ** testing if installed package keeps a record of temporary installation path * DONE (AUCell)
AUCell.Rcheck/tests/testthat.Rout
R version 4.1.3 (2022-03-10) -- "One Push-Up"
Copyright (C) 2022 The R Foundation for Statistical Computing
Platform: x86_64-pc-linux-gnu (64-bit)
R is free software and comes with ABSOLUTELY NO WARRANTY.
You are welcome to redistribute it under certain conditions.
Type 'license()' or 'licence()' for distribution details.
R is a collaborative project with many contributors.
Type 'contributors()' for more information and
'citation()' on how to cite R or R packages in publications.
Type 'demo()' for some demos, 'help()' for on-line help, or
'help.start()' for an HTML browser interface to help.
Type 'q()' to quit R.
> library(testthat)
> library(AUCell)
>
> test_check("AUCell")
min 1% 5% 10% 50% 100%
3 5 6 7 10 16
min 1% 5% 10% 50% 100%
3 5 6 7 10 16
[ FAIL 0 | WARN 0 | SKIP 0 | PASS 42 ]
>
> proc.time()
user system elapsed
15.566 0.711 16.260
AUCell.Rcheck/AUCell-Ex.timings
| name | user | system | elapsed | |
| AUCell_buildRankings | 0.534 | 0.064 | 0.597 | |
| AUCell_calcAUC | 1.018 | 0.028 | 1.045 | |
| AUCell_createViewerApp | 2.841 | 0.199 | 3.042 | |
| AUCell_exploreThresholds | 1.844 | 0.052 | 1.896 | |
| AUCell_plotHist | 0.528 | 0.000 | 0.529 | |
| AUCell_plotTSNE | 0.725 | 0.004 | 0.730 | |
| GeneSet-methods | 0.189 | 0.020 | 0.209 | |
| aucellResults-class | 0.669 | 0.020 | 0.689 | |
| orderAUC | 0.001 | 0.000 | 0.000 | |
| plotGeneCount | 0.003 | 0.000 | 0.004 | |
| plotTsne_cellProps | 1.501 | 0.064 | 1.565 | |
| updateAucellResults | 0.050 | 0.012 | 0.063 | |