| Back to Multiple platform build/check report for BioC 3.14 |
|
This page was generated on 2022-04-13 12:07:38 -0400 (Wed, 13 Apr 2022).
| Hostname | OS | Arch (*) | R version | Installed pkgs |
|---|---|---|---|---|
| nebbiolo2 | Linux (Ubuntu 20.04.4 LTS) | x86_64 | 4.1.3 (2022-03-10) -- "One Push-Up" | 4324 |
| tokay2 | Windows Server 2012 R2 Standard | x64 | 4.1.3 (2022-03-10) -- "One Push-Up" | 4077 |
| machv2 | macOS 10.14.6 Mojave | x86_64 | 4.1.3 (2022-03-10) -- "One Push-Up" | 4137 |
| Click on any hostname to see more info about the system (e.g. compilers) (*) as reported by 'uname -p', except on Windows and Mac OS X | ||||
|
To the developers/maintainers of the ASpli package: - Please allow up to 24 hours (and sometimes 48 hours) for your latest push to git@git.bioconductor.org:packages/ASpli.git to reflect on this report. See How and When does the builder pull? When will my changes propagate? for more information. - Make sure to use the following settings in order to reproduce any error or warning you see on this page. |
| Package 90/2083 | Hostname | OS / Arch | INSTALL | BUILD | CHECK | BUILD BIN | ||||||||
| ASpli 2.4.0 (landing page) Estefania Mancini
| nebbiolo2 | Linux (Ubuntu 20.04.4 LTS) / x86_64 | OK | OK | OK | |||||||||
| tokay2 | Windows Server 2012 R2 Standard / x64 | OK | OK | OK | OK | |||||||||
| machv2 | macOS 10.14.6 Mojave / x86_64 | OK | OK | OK | OK | |||||||||
| Package: ASpli |
| Version: 2.4.0 |
| Command: /Library/Frameworks/R.framework/Resources/bin/R CMD check --install=check:ASpli.install-out.txt --library=/Library/Frameworks/R.framework/Resources/library --no-vignettes --timings ASpli_2.4.0.tar.gz |
| StartedAt: 2022-04-12 10:25:30 -0400 (Tue, 12 Apr 2022) |
| EndedAt: 2022-04-12 10:46:04 -0400 (Tue, 12 Apr 2022) |
| EllapsedTime: 1234.0 seconds |
| RetCode: 0 |
| Status: OK |
| CheckDir: ASpli.Rcheck |
| Warnings: 0 |
##############################################################################
##############################################################################
###
### Running command:
###
### /Library/Frameworks/R.framework/Resources/bin/R CMD check --install=check:ASpli.install-out.txt --library=/Library/Frameworks/R.framework/Resources/library --no-vignettes --timings ASpli_2.4.0.tar.gz
###
##############################################################################
##############################################################################
* using log directory ‘/Users/biocbuild/bbs-3.14-bioc/meat/ASpli.Rcheck’
* using R version 4.1.3 (2022-03-10)
* using platform: x86_64-apple-darwin17.0 (64-bit)
* using session charset: UTF-8
* using option ‘--no-vignettes’
* checking for file ‘ASpli/DESCRIPTION’ ... OK
* checking extension type ... Package
* this is package ‘ASpli’ version ‘2.4.0’
* checking package namespace information ... OK
* checking package dependencies ... OK
* checking if this is a source package ... OK
* checking if there is a namespace ... OK
* checking for hidden files and directories ... OK
* checking for portable file names ... OK
* checking for sufficient/correct file permissions ... OK
* checking whether package ‘ASpli’ can be installed ... OK
* checking installed package size ... OK
* checking package directory ... OK
* checking ‘build’ directory ... OK
* checking DESCRIPTION meta-information ... OK
* checking top-level files ... OK
* checking for left-over files ... OK
* checking index information ... OK
* checking package subdirectories ... OK
* checking R files for non-ASCII characters ... OK
* checking R files for syntax errors ... OK
* checking whether the package can be loaded ... OK
* checking whether the package can be loaded with stated dependencies ... OK
* checking whether the package can be unloaded cleanly ... OK
* checking whether the namespace can be loaded with stated dependencies ... OK
* checking whether the namespace can be unloaded cleanly ... OK
* checking dependencies in R code ... OK
* checking S3 generic/method consistency ... OK
* checking replacement functions ... OK
* checking foreign function calls ... OK
* checking R code for possible problems ... OK
* checking Rd files ... OK
* checking Rd metadata ... OK
* checking Rd cross-references ... OK
* checking for missing documentation entries ... OK
* checking for code/documentation mismatches ... OK
* checking Rd \usage sections ... OK
* checking Rd contents ... OK
* checking for unstated dependencies in examples ... OK
* checking sizes of PDF files under ‘inst/doc’ ... OK
* checking installed files from ‘inst/doc’ ... OK
* checking files in ‘vignettes’ ... OK
* checking examples ... OK
Examples with CPU (user + system) or elapsed time > 5s
user system elapsed
ASpli-package 149.500 0.567 150.207
exportIntegratedSignals 81.760 0.259 82.106
integrateSignals 79.656 0.163 79.912
exportSplicingReports 79.401 0.329 79.819
splicingReport 78.335 0.159 78.618
jDUreport 77.393 0.148 77.618
jCounts-methods 76.469 0.202 76.760
gbCounts 67.505 0.105 67.658
gbDUreport-method 66.615 0.124 66.808
binGenome 7.892 0.028 7.929
* checking for unstated dependencies in vignettes ... OK
* checking package vignettes in ‘inst/doc’ ... OK
* checking running R code from vignettes ... SKIPPED
* checking re-building of vignette outputs ... SKIPPED
* checking PDF version of manual ... OK
* DONE
Status: OK
ASpli.Rcheck/00install.out
############################################################################## ############################################################################## ### ### Running command: ### ### /Library/Frameworks/R.framework/Resources/bin/R CMD INSTALL ASpli ### ############################################################################## ############################################################################## * installing to library ‘/Library/Frameworks/R.framework/Versions/4.1/Resources/library’ * installing *source* package ‘ASpli’ ... ** using staged installation ** R ** inst ** byte-compile and prepare package for lazy loading ** help *** installing help indices ** building package indices ** installing vignettes ** testing if installed package can be loaded from temporary location ** testing if installed package can be loaded from final location ** testing if installed package keeps a record of temporary installation path * DONE (ASpli)
ASpli.Rcheck/ASpli-Ex.timings
| name | user | system | elapsed | |
| ASpli-package | 149.500 | 0.567 | 150.207 | |
| DUreport | 0.000 | 0.000 | 0.001 | |
| DUreport.norm | 0 | 0 | 0 | |
| DUreport.offset | 0 | 0 | 0 | |
| DUreportBinSplice-method | 0 | 0 | 0 | |
| acc_AS | 0.000 | 0.000 | 0.001 | |
| acc_DU | 0.001 | 0.000 | 0.001 | |
| acc_counts | 0.000 | 0.001 | 0.001 | |
| acc_features | 0.450 | 0.001 | 0.451 | |
| binGenome | 7.892 | 0.028 | 7.929 | |
| containsJunctions-function | 0 | 0 | 0 | |
| example_data | 0.001 | 0.000 | 0.000 | |
| exportIntegratedSignals | 81.760 | 0.259 | 82.106 | |
| exportSplicingReports | 79.401 | 0.329 | 79.819 | |
| filterDU-method | 0.000 | 0.001 | 0.002 | |
| filterSignals | 0.001 | 0.001 | 0.000 | |
| gbCounts | 67.505 | 0.105 | 67.658 | |
| gbDUreport-method | 66.615 | 0.124 | 66.808 | |
| getConditions-function | 0.000 | 0.001 | 0.001 | |
| integrateSignals | 79.656 | 0.163 | 79.912 | |
| jCounts-methods | 76.469 | 0.202 | 76.760 | |
| jDUreport | 77.393 | 0.148 | 77.618 | |
| junctionDUreport | 0.001 | 0.000 | 0.001 | |
| loadBAM | 0.001 | 0.000 | 0.001 | |
| mergeBinDUAS-method | 0.000 | 0.001 | 0.001 | |
| plotBins | 0.001 | 0.001 | 0.002 | |
| plotGenomicRegions | 0.000 | 0.001 | 0.001 | |
| rds | 0.001 | 0.001 | 0.001 | |
| splicingReport | 78.335 | 0.159 | 78.618 | |
| subset-methods | 0.000 | 0.002 | 0.002 | |