Back to Build/check report for BioC 3.13 experimental data |
|
This page was generated on 2021-10-16 15:58:38 -0400 (Sat, 16 Oct 2021).
To the developers/maintainers of the Illumina450ProbeVariants.db package: Make sure to use the following settings in order to reproduce any error or warning you see on this page. |
Package 190/406 | Hostname | OS / Arch | INSTALL | BUILD | CHECK | ||||||||
Illumina450ProbeVariants.db 1.28.0 (landing page) Tiffany Morris
| malbec2 | Linux (Ubuntu 20.04.2 LTS) / x86_64 | OK | OK | OK | ![]() | |||||||