Back to Books build report for BioC 3.13 |
This page was generated on 2021-10-15 12:45:06 -0400 (Fri, 15 Oct 2021).
To the developers/maintainers of the OSCA.workflows package: Make sure to use the following settings in order to reproduce any error or warning you see on this page. |
Package 7/8 | Hostname | OS / Arch | INSTALL | BUILD | ||||||||
OSCA.workflows 1.0.0 (landing page) Aaron Lun
| malbec2 | Linux (Ubuntu 20.04.2 LTS) / x86_64 | OK | OK | ![]() | |||||||
Package: OSCA.workflows |
Version: 1.0.0 |
Command: /home/biocbuild/bbs-3.13-bioc/R/bin/R CMD build --keep-empty-dirs --no-resave-data OSCA.workflows |
StartedAt: 2021-10-15 04:02:33 -0400 (Fri, 15 Oct 2021) |
EndedAt: 2021-10-15 05:12:57 -0400 (Fri, 15 Oct 2021) |
EllapsedTime: 4223.9 seconds |
RetCode: 0 |
Status: OK |
PackageFile: OSCA.workflows_1.0.0.tar.gz |
PackageFileSize: 15.95 MiB |
############################################################################## ############################################################################## ### ### Running command: ### ### /home/biocbuild/bbs-3.13-bioc/R/bin/R CMD build --keep-empty-dirs --no-resave-data OSCA.workflows ### ############################################################################## ############################################################################## * checking for file ‘OSCA.workflows/DESCRIPTION’ ... OK * preparing ‘OSCA.workflows’: * checking DESCRIPTION meta-information ... OK * installing the package to build vignettes * creating vignettes ... OK * checking for LF line-endings in source and make files and shell scripts * checking for empty or unneeded directories * creating default NAMESPACE file * building ‘OSCA.workflows_1.0.0.tar.gz’ Warning in utils::tar(filepath, pkgname, compression = compression, compression_level = 9L, : storing paths of more than 100 bytes is not portable: ‘OSCA.workflows/inst/doc/book/tenx-unfiltered-pbmc4k_files/figure-html/unref-unfiltered-pbmc-mito-1.png’ Warning in utils::tar(filepath, pkgname, compression = compression, compression_level = 9L, : storing paths of more than 100 bytes is not portable: ‘OSCA.workflows/inst/doc/book/tenx-unfiltered-pbmc4k_files/figure-html/unref-unfiltered-pbmc-norm-1.png’ Warning in utils::tar(filepath, pkgname, compression = compression, compression_level = 9L, : storing paths of more than 100 bytes is not portable: ‘OSCA.workflows/inst/doc/book/tenx-unfiltered-pbmc4k_files/figure-html/unref-unfiltered-pbmc-tsne-1.png’ Warning in utils::tar(filepath, pkgname, compression = compression, compression_level = 9L, : storing paths of more than 100 bytes is not portable: ‘OSCA.workflows/inst/doc/book/tenx-unfiltered-pbmc4k_files/figure-html/unref-unfiltered-pbmc-var-1.png’