Back to Multiple platform build/check report for BioC 3.13 |
|
This page was generated on 2021-10-15 15:06:27 -0400 (Fri, 15 Oct 2021).
To the developers/maintainers of the zellkonverter package: - Please allow up to 24 hours (and sometimes 48 hours) for your latest push to git@git.bioconductor.org:packages/zellkonverter.git to reflect on this report. See How and When does the builder pull? When will my changes propagate? here for more information. - Make sure to use the following settings in order to reproduce any error or warning you see on this page. |
Package 2038/2041 | Hostname | OS / Arch | INSTALL | BUILD | CHECK | BUILD BIN | ||||||||
zellkonverter 1.2.1 (landing page) Luke Zappia
| nebbiolo1 | Linux (Ubuntu 20.04.2 LTS) / x86_64 | OK | OK | OK | ![]() | ||||||||
tokay2 | Windows Server 2012 R2 Standard / x64 | OK | OK | OK | OK | ![]() | ||||||||
machv2 | macOS 10.14.6 Mojave / x86_64 | OK | OK | OK | OK | ![]() | ||||||||
Package: zellkonverter |
Version: 1.2.1 |
Command: C:\Users\biocbuild\bbs-3.13-bioc\R\bin\R.exe --arch x64 CMD INSTALL --no-multiarch zellkonverter |
StartedAt: 2021-10-14 08:57:14 -0400 (Thu, 14 Oct 2021) |
EndedAt: 2021-10-14 08:57:38 -0400 (Thu, 14 Oct 2021) |
EllapsedTime: 23.5 seconds |
RetCode: 0 |
Status: OK |
############################################################################## ############################################################################## ### ### Running command: ### ### C:\Users\biocbuild\bbs-3.13-bioc\R\bin\R.exe --arch x64 CMD INSTALL --no-multiarch zellkonverter ### ############################################################################## ############################################################################## * installing to library 'C:/Users/biocbuild/bbs-3.13-bioc/R/library' * installing *source* package 'zellkonverter' ... ** using non-staged installation via StagedInstall field ** R ** inst ** byte-compile and prepare package for lazy loading ** help *** installing help indices converting help for package 'zellkonverter' finding HTML links ... done AnnData-Conversion html finding level-2 HTML links ... done AnnData-Environment html readH5AD html writeH5AD html zellkonverter-package html *** copying figures ** building package indices ** installing vignettes ** testing if installed package can be loaded * DONE (zellkonverter) Making 'packages.html' ... done