Back to Multiple platform build/check report for BioC 3.13 |
|
This page was generated on 2021-10-15 15:06:27 -0400 (Fri, 15 Oct 2021).
To the developers/maintainers of the yarn package: - Please allow up to 24 hours (and sometimes 48 hours) for your latest push to git@git.bioconductor.org:packages/yarn.git to reflect on this report. See How and When does the builder pull? When will my changes propagate? here for more information. - Make sure to use the following settings in order to reproduce any error or warning you see on this page. |
Package 2037/2041 | Hostname | OS / Arch | INSTALL | BUILD | CHECK | BUILD BIN | ||||||||
yarn 1.18.0 (landing page) Joseph N Paulson
| nebbiolo1 | Linux (Ubuntu 20.04.2 LTS) / x86_64 | OK | OK | OK | ![]() | ||||||||
tokay2 | Windows Server 2012 R2 Standard / x64 | OK | OK | OK | OK | ![]() | ||||||||
machv2 | macOS 10.14.6 Mojave / x86_64 | OK | OK | OK | OK | ![]() | ||||||||
Package: yarn |
Version: 1.18.0 |
Command: C:\cygwin\bin\curl.exe -O http://155.52.207.165/BBS/3.13/bioc/src/contrib/yarn_1.18.0.tar.gz && rm -rf yarn.buildbin-libdir && mkdir yarn.buildbin-libdir && C:\Users\biocbuild\bbs-3.13-bioc\R\bin\R.exe CMD INSTALL --merge-multiarch --build --library=yarn.buildbin-libdir yarn_1.18.0.tar.gz && C:\Users\biocbuild\bbs-3.13-bioc\R\bin\R.exe CMD INSTALL yarn_1.18.0.zip && rm yarn_1.18.0.tar.gz yarn_1.18.0.zip |
StartedAt: 2021-10-14 10:21:45 -0400 (Thu, 14 Oct 2021) |
EndedAt: 2021-10-14 10:22:55 -0400 (Thu, 14 Oct 2021) |
EllapsedTime: 70.5 seconds |
RetCode: 0 |
Status: OK |
############################################################################## ############################################################################## ### ### Running command: ### ### C:\cygwin\bin\curl.exe -O http://155.52.207.165/BBS/3.13/bioc/src/contrib/yarn_1.18.0.tar.gz && rm -rf yarn.buildbin-libdir && mkdir yarn.buildbin-libdir && C:\Users\biocbuild\bbs-3.13-bioc\R\bin\R.exe CMD INSTALL --merge-multiarch --build --library=yarn.buildbin-libdir yarn_1.18.0.tar.gz && C:\Users\biocbuild\bbs-3.13-bioc\R\bin\R.exe CMD INSTALL yarn_1.18.0.zip && rm yarn_1.18.0.tar.gz yarn_1.18.0.zip ### ############################################################################## ############################################################################## % Total % Received % Xferd Average Speed Time Time Time Current Dload Upload Total Spent Left Speed 0 0 0 0 0 0 0 0 --:--:-- --:--:-- --:--:-- 0 73 2707k 73 1991k 0 0 2594k 0 0:00:01 --:--:-- 0:00:01 2593k 100 2707k 100 2707k 0 0 2939k 0 --:--:-- --:--:-- --:--:-- 2940k install for i386 * installing *source* package 'yarn' ... ** using staged installation ** R ** data *** moving datasets to lazyload DB ** inst ** byte-compile and prepare package for lazy loading ** help *** installing help indices converting help for package 'yarn' finding HTML links ... done annotateFromBiomart html bladder html checkMisAnnotation html checkTissuesToMerge html downloadGTEx html extractMatrix html filterGenes html filterLowGenes html filterMissingGenes html filterSamples html normalizeTissueAware html plotCMDS html plotDensity html plotHeatmap html qsmooth html qstats html skin html ** building package indices ** installing vignettes ** testing if installed package can be loaded from temporary location ** testing if installed package can be loaded from final location ** testing if installed package keeps a record of temporary installation path install for x64 * installing *source* package 'yarn' ... ** testing if installed package can be loaded * MD5 sums packaged installation of 'yarn' as yarn_1.18.0.zip * DONE (yarn) * installing to library 'C:/Users/biocbuild/bbs-3.13-bioc/R/library' package 'yarn' successfully unpacked and MD5 sums checked