| Back to Multiple platform build/check report for BioC 3.13 | 
  | 
This page was generated on 2021-10-15 15:05:55 -0400 (Fri, 15 Oct 2021).
| 
To the developers/maintainers of the trigger package: - Please allow up to 24 hours (and sometimes 48 hours) for your latest push to git@git.bioconductor.org:packages/trigger.git to reflect on this report. See How and When does the builder pull? When will my changes propagate? here for more information. - Make sure to use the following settings in order to reproduce any error or warning you see on this page.  | 
| Package 1962/2041 | Hostname | OS / Arch | INSTALL | BUILD | CHECK | BUILD BIN | ||||||||
| trigger 1.38.0  (landing page) John D. Storey 
  | nebbiolo1 | Linux (Ubuntu 20.04.2 LTS) / x86_64 | OK | OK | OK | |||||||||
| tokay2 | Windows Server 2012 R2 Standard / x64 | OK | OK | OK | OK | |||||||||
| machv2 | macOS 10.14.6 Mojave / x86_64 | OK | OK | OK | OK | |||||||||
| Package: trigger | 
| Version: 1.38.0 | 
| Command: /home/biocbuild/bbs-3.13-bioc/R/bin/R CMD INSTALL trigger | 
| StartedAt: 2021-10-14 06:19:33 -0400 (Thu, 14 Oct 2021) | 
| EndedAt: 2021-10-14 06:19:57 -0400 (Thu, 14 Oct 2021) | 
| EllapsedTime: 24.6 seconds | 
| RetCode: 0 | 
| Status: OK | 
##############################################################################
##############################################################################
###
### Running command:
###
###   /home/biocbuild/bbs-3.13-bioc/R/bin/R CMD INSTALL trigger
###
##############################################################################
##############################################################################
* installing to library ‘/home/biocbuild/bbs-3.13-bioc/R/library’
* installing *source* package ‘trigger’ ...
** using staged installation
** libs
gcc -I"/home/biocbuild/bbs-3.13-bioc/R/include" -DNDEBUG   -I/usr/local/include   -fpic  -g -O2  -Wall -c trigger.c -o trigger.o
trigger.c: In function ‘mergeorder’:
trigger.c:25:20: warning: variable ‘n3’ set but not used [-Wunused-but-set-variable]
   25 | int i1,i2,i3,n1,n2,n3;
      |                    ^~
trigger.c: In function ‘sec_link_stat’:
trigger.c:81:10: warning: variable ‘nct’ set but not used [-Wunused-but-set-variable]
   81 | int ntr, nct, i, j;
      |          ^~~
trigger.c: In function ‘sec_link_stat_x’:
trigger.c:153:10: warning: variable ‘nct’ set but not used [-Wunused-but-set-variable]
  153 | int ntr, nct, i, j, k, nk;
      |          ^~~
trigger.c: In function ‘condi_indep_stat’:
trigger.c:233:10: warning: variable ‘nct’ set but not used [-Wunused-but-set-variable]
  233 | int ntr, nct, i, j;
      |          ^~~
trigger.c: In function ‘condi_indep_stat_x’:
trigger.c:310:10: warning: variable ‘nct’ set but not used [-Wunused-but-set-variable]
  310 | int ntr, nct, i, j, k, nk;
      |          ^~~
trigger.c: In function ‘condi_indep_stat_rx’:
trigger.c:393:10: warning: variable ‘nct’ set but not used [-Wunused-but-set-variable]
  393 | int ntr, nct, i, j, k, nk;
      |          ^~~
gcc -shared -L/home/biocbuild/bbs-3.13-bioc/R/lib -L/usr/local/lib -o trigger.so trigger.o -L/home/biocbuild/bbs-3.13-bioc/R/lib -lR
installing to /home/biocbuild/bbs-3.13-bioc/R/library/00LOCK-trigger/00new/trigger/libs
** R
** data
** inst
** byte-compile and prepare package for lazy loading
** help
*** installing help indices
** building package indices
** installing vignettes
** testing if installed package can be loaded from temporary location
** checking absolute paths in shared objects and dynamic libraries
** testing if installed package can be loaded from final location
** testing if installed package keeps a record of temporary installation path
* DONE (trigger)