| Back to Multiple platform build/check report for BioC 3.13 | 
 | 
This page was generated on 2021-10-15 15:06:26 -0400 (Fri, 15 Oct 2021).
| To the developers/maintainers of the tradeSeq package: - Please allow up to 24 hours (and sometimes 48 hours) for your latest push to git@git.bioconductor.org:packages/tradeSeq.git to reflect on this report. See How and When does the builder pull? When will my changes propagate? here for more information. - Make sure to use the following settings in order to reproduce any error or warning you see on this page. | 
| Package 1943/2041 | Hostname | OS / Arch | INSTALL | BUILD | CHECK | BUILD BIN | ||||||||
| tradeSeq 1.6.0  (landing page) Hector Roux de Bezieux 
 | nebbiolo1 | Linux (Ubuntu 20.04.2 LTS) / x86_64 | OK | OK | OK |  | ||||||||
| tokay2 | Windows Server 2012 R2 Standard / x64 | OK | OK | TIMEOUT | OK | |||||||||
| machv2 | macOS 10.14.6 Mojave / x86_64 | OK | OK | OK | OK |  | ||||||||
| Package: tradeSeq | 
| Version: 1.6.0 | 
| Command: rm -rf tradeSeq.buildbin-libdir && mkdir tradeSeq.buildbin-libdir && C:\Users\biocbuild\bbs-3.13-bioc\R\bin\R.exe CMD INSTALL --merge-multiarch --build --library=tradeSeq.buildbin-libdir tradeSeq_1.6.0.tar.gz | 
| StartedAt: 2021-10-15 12:14:55 -0400 (Fri, 15 Oct 2021) | 
| EndedAt: 2021-10-15 12:16:19 -0400 (Fri, 15 Oct 2021) | 
| EllapsedTime: 83.9 seconds | 
| RetCode: 0 | 
| Status: OK | 
| PackageFile: tradeSeq_1.6.0.zip | 
| PackageFileSize: 2.436 MiB | 
##############################################################################
##############################################################################
###
### Running command:
###
###   rm -rf tradeSeq.buildbin-libdir && mkdir tradeSeq.buildbin-libdir && C:\Users\biocbuild\bbs-3.13-bioc\R\bin\R.exe CMD INSTALL --merge-multiarch --build --library=tradeSeq.buildbin-libdir tradeSeq_1.6.0.tar.gz
###
##############################################################################
##############################################################################
install for i386
* installing *source* package 'tradeSeq' ...
** using staged installation
** R
** data
** inst
** byte-compile and prepare package for lazy loading
** help
*** installing help indices
  converting help for package 'tradeSeq'
    finding HTML links ... done
    associationTest                         html  
    celltype                                html  
    clusterExpressionPatterns               html  
    conditionTest                           html  
    countMatrix                             html  
    crv                                     html  
    diffEndTest                             html  
    earlyDETest                             html  
    evaluateK                               html  
    extract_monocle_info                    html  
    fitGAM                                  html  
    gamList                                 html  
    getSmootherPvalues                      html  
    getSmootherTestStats                    html  
    nknots                                  html  
    patternTest                             html  
    plotGeneCount                           html  
    finding level-2 HTML links ... done
    plotSmoothers                           html  
    plot_evalutateK_results                 html  
    predictCells                            html  
    predictSmooth                           html  
    sds                                     html  
    startVsEndTest                          html  
** building package indices
** installing vignettes
** testing if installed package can be loaded from temporary location
** testing if installed package can be loaded from final location
** testing if installed package keeps a record of temporary installation path
install for x64
* installing *source* package 'tradeSeq' ...
** testing if installed package can be loaded
* MD5 sums
packaged installation of 'tradeSeq' as tradeSeq_1.6.0.zip
* DONE (tradeSeq)