| Back to Multiple platform build/check report for BioC 3.13 |
|
This page was generated on 2021-10-15 15:06:25 -0400 (Fri, 15 Oct 2021).
|
To the developers/maintainers of the tkWidgets package: - Please allow up to 24 hours (and sometimes 48 hours) for your latest push to git@git.bioconductor.org:packages/tkWidgets.git to reflect on this report. See How and When does the builder pull? When will my changes propagate? here for more information. - Make sure to use the following settings in order to reproduce any error or warning you see on this page. |
| Package 1926/2041 | Hostname | OS / Arch | INSTALL | BUILD | CHECK | BUILD BIN | ||||||||
| tkWidgets 1.70.0 (landing page) J. Zhang
| nebbiolo1 | Linux (Ubuntu 20.04.2 LTS) / x86_64 | OK | OK | OK | |||||||||
| tokay2 | Windows Server 2012 R2 Standard / x64 | OK | OK | OK | OK | |||||||||
| machv2 | macOS 10.14.6 Mojave / x86_64 | OK | OK | OK | OK | |||||||||
| Package: tkWidgets |
| Version: 1.70.0 |
| Command: C:\cygwin\bin\curl.exe -O http://155.52.207.165/BBS/3.13/bioc/src/contrib/tkWidgets_1.70.0.tar.gz && rm -rf tkWidgets.buildbin-libdir && mkdir tkWidgets.buildbin-libdir && C:\Users\biocbuild\bbs-3.13-bioc\R\bin\R.exe CMD INSTALL --merge-multiarch --build --library=tkWidgets.buildbin-libdir tkWidgets_1.70.0.tar.gz && C:\Users\biocbuild\bbs-3.13-bioc\R\bin\R.exe CMD INSTALL tkWidgets_1.70.0.zip && rm tkWidgets_1.70.0.tar.gz tkWidgets_1.70.0.zip |
| StartedAt: 2021-10-14 07:14:04 -0400 (Thu, 14 Oct 2021) |
| EndedAt: 2021-10-14 07:14:56 -0400 (Thu, 14 Oct 2021) |
| EllapsedTime: 52.5 seconds |
| RetCode: 0 |
| Status: OK |
##############################################################################
##############################################################################
###
### Running command:
###
### C:\cygwin\bin\curl.exe -O http://155.52.207.165/BBS/3.13/bioc/src/contrib/tkWidgets_1.70.0.tar.gz && rm -rf tkWidgets.buildbin-libdir && mkdir tkWidgets.buildbin-libdir && C:\Users\biocbuild\bbs-3.13-bioc\R\bin\R.exe CMD INSTALL --merge-multiarch --build --library=tkWidgets.buildbin-libdir tkWidgets_1.70.0.tar.gz && C:\Users\biocbuild\bbs-3.13-bioc\R\bin\R.exe CMD INSTALL tkWidgets_1.70.0.zip && rm tkWidgets_1.70.0.tar.gz tkWidgets_1.70.0.zip
###
##############################################################################
##############################################################################
% Total % Received % Xferd Average Speed Time Time Time Current
Dload Upload Total Spent Left Speed
0 0 0 0 0 0 0 0 --:--:-- --:--:-- --:--:-- 0
0 0 0 0 0 0 0 0 --:--:-- --:--:-- --:--:-- 0
100 186k 100 186k 0 0 820k 0 --:--:-- --:--:-- --:--:-- 819k
install for i386
* installing *source* package 'tkWidgets' ...
** using staged installation
** R
** inst
** byte-compile and prepare package for lazy loading
** help
*** installing help indices
converting help for package 'tkWidgets'
finding HTML links ... done
DPExplorer html
WName html
appendSepDir html
args2XML html
argsWidget html
colInfo-class html
dataViewer html
dbArgsWidget html
eExplorer html
fileBrowser html
fileWizard html
getLightTW html
getWvalues html
guess.sep html
hasChar html
importPhenoData html
importWizard html
listSelect html
objNameToList html
objViewer html
objectBrowser html
pExplorer html
pickFiles html
pickItems html
pickObjs html
setArgsList html
stdType html
tkMIAME html
tkSampleNames html
tkphenoData html
vExplorer html
values.Widget html
widgetRender html
** building package indices
** installing vignettes
** testing if installed package can be loaded from temporary location
** testing if installed package can be loaded from final location
** testing if installed package keeps a record of temporary installation path
install for x64
* installing *source* package 'tkWidgets' ...
** testing if installed package can be loaded
* MD5 sums
packaged installation of 'tkWidgets' as tkWidgets_1.70.0.zip
* DONE (tkWidgets)
* installing to library 'C:/Users/biocbuild/bbs-3.13-bioc/R/library'
package 'tkWidgets' successfully unpacked and MD5 sums checked