| Back to Multiple platform build/check report for BioC 3.13 |
|
This page was generated on 2021-10-15 15:06:25 -0400 (Fri, 15 Oct 2021).
|
To the developers/maintainers of the tigre package: - Please allow up to 24 hours (and sometimes 48 hours) for your latest push to git@git.bioconductor.org:packages/tigre.git to reflect on this report. See How and When does the builder pull? When will my changes propagate? here for more information. - Make sure to use the following settings in order to reproduce any error or warning you see on this page. |
| Package 1915/2041 | Hostname | OS / Arch | INSTALL | BUILD | CHECK | BUILD BIN | ||||||||
| tigre 1.46.0 (landing page) Antti Honkela
| nebbiolo1 | Linux (Ubuntu 20.04.2 LTS) / x86_64 | OK | OK | OK | |||||||||
| tokay2 | Windows Server 2012 R2 Standard / x64 | OK | OK | OK | OK | |||||||||
| machv2 | macOS 10.14.6 Mojave / x86_64 | OK | OK | OK | OK | |||||||||
| Package: tigre |
| Version: 1.46.0 |
| Command: rm -rf tigre.buildbin-libdir && mkdir tigre.buildbin-libdir && C:\Users\biocbuild\bbs-3.13-bioc\R\bin\R.exe CMD INSTALL --merge-multiarch --build --library=tigre.buildbin-libdir tigre_1.46.0.tar.gz |
| StartedAt: 2021-10-15 12:11:03 -0400 (Fri, 15 Oct 2021) |
| EndedAt: 2021-10-15 12:12:34 -0400 (Fri, 15 Oct 2021) |
| EllapsedTime: 90.4 seconds |
| RetCode: 0 |
| Status: OK |
| PackageFile: tigre_1.46.0.zip |
| PackageFileSize: 1.048 MiB |
##############################################################################
##############################################################################
###
### Running command:
###
### rm -rf tigre.buildbin-libdir && mkdir tigre.buildbin-libdir && C:\Users\biocbuild\bbs-3.13-bioc\R\bin\R.exe CMD INSTALL --merge-multiarch --build --library=tigre.buildbin-libdir tigre_1.46.0.tar.gz
###
##############################################################################
##############################################################################
install for i386
* installing *source* package 'tigre' ...
** using staged installation
** libs
"C:/rtools40/mingw32/bin/"gcc -I"C:/Users/BIOCBU~1/BBS-3~1.13-/R/include" -DNDEBUG -I"c:/extsoft/include" -O2 -Wall -std=gnu99 -mfpmath=sse -msse2 -mstackrealign -c miscCFunctions.c -o miscCFunctions.o
C:/rtools40/mingw32/bin/gcc -shared -s -static-libgcc -o tigre.dll tmp.def miscCFunctions.o -Lc:/extsoft/lib/i386 -Lc:/extsoft/lib -LC:/Users/BIOCBU~1/BBS-3~1.13-/R/bin/i386 -lR
installing to C:/Users/biocbuild/bbs-3.13-bioc/meat/tigre.buildbin-libdir/00LOCK-tigre/00new/tigre/libs/i386
** R
** data
** inst
** byte-compile and prepare package for lazy loading
** help
*** installing help indices
converting help for package 'tigre'
finding HTML links ... done
ExpressionTimeSeries-class html
finding level-2 HTML links ... done
GPLearn html
GPModel-class html
GPPlot html
GPRankTargets html
SCGoptim html
drosophila_gpsim_fragment html
drosophila_mmgmos_fragment html
expTransform html
export html
generateModels html
gpsimCreate html
kernCompute html
kernCreate html
kernDiagGradX html
kernGradient html
lnDiffErfs html
modelDisplay html
modelExpandParam html
modelExtractParam html
modelGradient html
modelTieParam html
optimiDefaultConstraint html
plotTimeseries html
processData html
scoreList-class html
tigre-package html
** building package indices
** installing vignettes
** testing if installed package can be loaded from temporary location
** testing if installed package can be loaded from final location
** testing if installed package keeps a record of temporary installation path
install for x64
* installing *source* package 'tigre' ...
** libs
"C:/rtools40/mingw64/bin/"gcc -I"C:/Users/BIOCBU~1/BBS-3~1.13-/R/include" -DNDEBUG -I"C:/extsoft/include" -O2 -Wall -std=gnu99 -mfpmath=sse -msse2 -mstackrealign -c miscCFunctions.c -o miscCFunctions.o
C:/rtools40/mingw64/bin/gcc -shared -s -static-libgcc -o tigre.dll tmp.def miscCFunctions.o -LC:/extsoft/lib/x64 -LC:/extsoft/lib -LC:/Users/BIOCBU~1/BBS-3~1.13-/R/bin/x64 -lR
installing to C:/Users/biocbuild/bbs-3.13-bioc/meat/tigre.buildbin-libdir/tigre/libs/x64
** testing if installed package can be loaded
* MD5 sums
packaged installation of 'tigre' as tigre_1.46.0.zip
* DONE (tigre)