Back to Multiple platform build/check report for BioC 3.13 |
|
This page was generated on 2021-10-15 15:06:55 -0400 (Fri, 15 Oct 2021).
To the developers/maintainers of the tidybulk package: - Please allow up to 24 hours (and sometimes 48 hours) for your latest push to git@git.bioconductor.org:packages/tidybulk.git to reflect on this report. See How and When does the builder pull? When will my changes propagate? here for more information. - Make sure to use the following settings in order to reproduce any error or warning you see on this page. |
Package 1912/2041 | Hostname | OS / Arch | INSTALL | BUILD | CHECK | BUILD BIN | ||||||||
tidybulk 1.4.0 (landing page) Stefano Mangiola
| nebbiolo1 | Linux (Ubuntu 20.04.2 LTS) / x86_64 | OK | OK | OK | ![]() | ||||||||
tokay2 | Windows Server 2012 R2 Standard / x64 | OK | OK | OK | OK | ![]() | ||||||||
machv2 | macOS 10.14.6 Mojave / x86_64 | OK | OK | OK | OK | ![]() | ||||||||
Package: tidybulk |
Version: 1.4.0 |
Command: /Library/Frameworks/R.framework/Versions/Current/Resources/bin/R CMD check --install=check:tidybulk.install-out.txt --library=/Library/Frameworks/R.framework/Versions/Current/Resources/library --no-vignettes --timings tidybulk_1.4.0.tar.gz |
StartedAt: 2021-10-15 00:42:21 -0400 (Fri, 15 Oct 2021) |
EndedAt: 2021-10-15 00:53:10 -0400 (Fri, 15 Oct 2021) |
EllapsedTime: 649.0 seconds |
RetCode: 0 |
Status: OK |
CheckDir: tidybulk.Rcheck |
Warnings: 0 |
############################################################################## ############################################################################## ### ### Running command: ### ### /Library/Frameworks/R.framework/Versions/Current/Resources/bin/R CMD check --install=check:tidybulk.install-out.txt --library=/Library/Frameworks/R.framework/Versions/Current/Resources/library --no-vignettes --timings tidybulk_1.4.0.tar.gz ### ############################################################################## ############################################################################## * using log directory ‘/Users/biocbuild/bbs-3.13-bioc/meat/tidybulk.Rcheck’ * using R version 4.1.1 (2021-08-10) * using platform: x86_64-apple-darwin17.0 (64-bit) * using session charset: UTF-8 * using option ‘--no-vignettes’ * checking for file ‘tidybulk/DESCRIPTION’ ... OK * checking extension type ... Package * this is package ‘tidybulk’ version ‘1.4.0’ * package encoding: UTF-8 * checking package namespace information ... OK * checking package dependencies ... OK * checking if this is a source package ... OK * checking if there is a namespace ... OK * checking for hidden files and directories ... NOTE Found the following hidden files and directories: .git_fetch_output.txt .git_merge_output.txt These were most likely included in error. See section ‘Package structure’ in the ‘Writing R Extensions’ manual. * checking for portable file names ... OK * checking for sufficient/correct file permissions ... OK * checking whether package ‘tidybulk’ can be installed ... OK * checking installed package size ... OK * checking package directory ... OK * checking ‘build’ directory ... OK * checking DESCRIPTION meta-information ... OK * checking top-level files ... OK * checking for left-over files ... OK * checking index information ... OK * checking package subdirectories ... OK * checking R files for non-ASCII characters ... OK * checking R files for syntax errors ... OK * checking whether the package can be loaded ... OK * checking whether the package can be loaded with stated dependencies ... OK * checking whether the package can be unloaded cleanly ... OK * checking whether the namespace can be loaded with stated dependencies ... OK * checking whether the namespace can be unloaded cleanly ... OK * checking dependencies in R code ... OK * checking S3 generic/method consistency ... OK * checking replacement functions ... OK * checking foreign function calls ... OK * checking R code for possible problems ... NOTE .adjust_abundance_se: no visible binding for global variable ‘.’ .adjust_abundance_se: no visible binding for global variable ‘x’ .as_SummarizedExperiment: no visible binding for global variable ‘.’ .cluster_elements_se: no visible binding for global variable ‘.’ .deconvolve_cellularity_se: no visible binding for global variable ‘X_cibersort’ .deconvolve_cellularity_se: no visible binding for global variable ‘.’ .describe_transcript: no visible binding for global variable ‘.’ .describe_transcript_SE: no visible binding for global variable ‘.’ .describe_transcript_SE: no visible binding for global variable ‘transcript’ .describe_transcript_SE: no visible binding for global variable ‘description’ .get_bibliography: no visible binding for global variable ‘.’ .identify_abundant_se: no visible binding for global variable ‘.’ .keep_abundant: no visible binding for global variable ‘.abundant’ .keep_variable_se: no visible binding for global variable ‘.’ .pivot_sample: no visible binding for global variable ‘.’ .pivot_transcript: no visible binding for global variable ‘.’ .reduce_dimensions_se: no visible binding for global variable ‘.’ .rotate_dimensions_se: no visible binding for global variable ‘.’ .scale_abundance: no visible binding for global variable ‘x’ .scale_abundance: no visible binding for global variable ‘multiplier’ .scale_abundance_se: no visible binding for global variable ‘.’ .scale_abundance_se: no visible binding for global variable ‘x’ .test_differential_abundance_se: no visible binding for global variable ‘.’ .test_differential_cellularity: no visible binding for global variable ‘X_cibersort’ .test_differential_cellularity: no visible binding for global variable ‘.’ .test_differential_cellularity_se: no visible binding for global variable ‘X_cibersort’ .test_differential_cellularity_se: no visible binding for global variable ‘cell_type’ .test_differential_cellularity_se: no visible binding for global variable ‘prop’ .test_differential_cellularity_se: no visible binding for global variable ‘.cell_type’ .test_gene_enrichment_SE: no visible global function definition for ‘buildCustomIdx’ .test_gene_enrichment_SE: no visible global function definition for ‘buildIdx’ .test_gene_enrichment_SE: no visible global function definition for ‘egsea’ .test_gene_enrichment_SE: no visible binding for global variable ‘pathway’ .test_gene_enrichment_SE: no visible binding for global variable ‘data_base’ .test_gene_enrichment_SE: no visible binding for global variable ‘web_page’ .test_stratification_cellularity: no visible binding for global variable ‘X_cibersort’ .test_stratification_cellularity: no visible binding for global variable ‘.’ .test_stratification_cellularity_SE: no visible binding for global variable ‘X_cibersort’ .test_stratification_cellularity_SE: no visible binding for global variable ‘.’ .test_stratification_cellularity_SE: no visible binding for global variable ‘.cell_type’ .tidybulk_se: no visible binding for global variable ‘.’ .tidybulk_se: no visible binding for global variable ‘feature’ add_scaled_counts_bulk.calcNormFactor: no visible binding for global variable ‘transcript’ add_scaled_counts_bulk.get_low_expressed: no visible binding for global variable ‘transcript’ add_scaled_counts_bulk.get_low_expressed: no visible binding for global variable ‘.’ aggregate_duplicated_transcripts_bulk: no visible binding for global variable ‘.abundance_scaled’ aggregate_duplicated_transcripts_bulk: no visible binding for global variable ‘n_aggr’ as_matrix: no visible binding for global variable ‘variable’ check_if_duplicated_genes: no visible binding for global variable ‘transcript’ check_if_duplicated_genes: no visible binding for global variable ‘read count’ counts_scaled_exist_SE: no visible binding for global variable ‘tt_columns’ counts_scaled_exist_SE: no visible binding for global variable ‘.’ create_tt_from_bam_sam_bulk: no visible binding for global variable ‘.’ create_tt_from_bam_sam_bulk: no visible binding for global variable ‘temp’ create_tt_from_bam_sam_bulk: no visible binding for global variable ‘Status’ create_tt_from_bam_sam_bulk: no visible binding for global variable ‘counts’ create_tt_from_bam_sam_bulk: no visible binding for global variable ‘GeneID’ create_tt_from_bam_sam_bulk: no visible binding for global variable ‘genes’ create_tt_from_bam_sam_bulk: no visible binding for global variable ‘samples’ create_tt_from_bam_sam_bulk: no visible binding for global variable ‘transcript’ eliminate_sparse_transcripts: no visible binding for global variable ‘my_n’ entrez_over_to_gsea: no visible binding for global variable ‘gs_cat’ entrez_over_to_gsea: no visible binding for global variable ‘test’ entrez_over_to_gsea: no visible binding for global variable ‘geneID’ entrez_rank_to_gsea: no visible binding for global variable ‘gs_cat’ entrez_rank_to_gsea: no visible binding for global variable ‘fit’ error_if_duplicated_genes: no visible binding for global variable ‘transcript’ error_if_duplicated_genes: no visible binding for global variable ‘read count’ error_if_log_transformed: no visible binding for global variable ‘m’ fill_NA_using_formula: no visible binding for global variable ‘ct_data’ fill_NA_using_formula: no visible binding for global variable ‘cov_data’ get_abundance_norm_if_exists: no visible binding for global variable ‘.abundance_scaled’ get_adjusted_counts_for_unwanted_variation_bulk: no visible binding for global variable ‘.’ get_assay_scaled_if_exists_SE: no visible binding for global variable ‘tt_columns’ get_assay_scaled_if_exists_SE: no visible binding for global variable ‘.abundance_scaled’ get_cell_type_proportions: no visible binding for global variable ‘.’ get_clusters_SNN_bulk: no visible binding for global variable ‘seurat_clusters’ get_clusters_SNN_bulk_SE: no visible binding for global variable ‘.’ get_clusters_SNN_bulk_SE: no visible binding for global variable ‘seurat_clusters’ get_clusters_kmeans_bulk: no visible binding for global variable ‘.’ get_clusters_kmeans_bulk: no visible binding for global variable ‘cluster’ get_clusters_kmeans_bulk: no visible binding for global variable ‘cluster kmeans’ get_clusters_kmeans_bulk_SE: no visible binding for global variable ‘.’ get_clusters_kmeans_bulk_SE: no visible binding for global variable ‘cluster’ get_differential_transcript_abundance_bulk: no visible binding for global variable ‘.’ get_differential_transcript_abundance_bulk_SE: no visible binding for global variable ‘.’ get_differential_transcript_abundance_bulk_voom: no visible binding for global variable ‘.’ get_differential_transcript_abundance_bulk_voom_SE: no visible binding for global variable ‘.’ get_differential_transcript_abundance_deseq2: no visible binding for global variable ‘counts’ get_differential_transcript_abundance_deseq2: no visible binding for global variable ‘.’ get_differential_transcript_abundance_deseq2_SE: no visible binding for global variable ‘.’ get_reduced_dimensions_MDS_bulk: no visible binding for global variable ‘Component’ get_reduced_dimensions_MDS_bulk: no visible binding for global variable ‘Component value’ get_reduced_dimensions_MDS_bulk_SE: no visible binding for global variable ‘Component’ get_reduced_dimensions_MDS_bulk_SE: no visible binding for global variable ‘Component value’ get_reduced_dimensions_PCA_bulk: no visible binding for global variable ‘sdev’ get_reduced_dimensions_PCA_bulk: no visible binding for global variable ‘name’ get_reduced_dimensions_PCA_bulk: no visible binding for global variable ‘value’ get_reduced_dimensions_PCA_bulk: no visible binding for global variable ‘x’ get_reduced_dimensions_PCA_bulk_SE: no visible binding for global variable ‘sdev’ get_reduced_dimensions_PCA_bulk_SE: no visible binding for global variable ‘name’ get_reduced_dimensions_PCA_bulk_SE: no visible binding for global variable ‘value’ get_reduced_dimensions_PCA_bulk_SE: no visible binding for global variable ‘x’ get_reduced_dimensions_TSNE_bulk: no visible binding for global variable ‘Y’ get_reduced_dimensions_TSNE_bulk_SE: no visible binding for global variable ‘.element’ get_reduced_dimensions_TSNE_bulk_SE: no visible binding for global variable ‘Y’ get_rotated_dimensions: no visible binding for global variable ‘value’ get_rotated_dimensions: no visible binding for global variable ‘rotated dimensions’ get_scaled_counts_bulk: no visible binding for global variable ‘med’ get_scaled_counts_bulk: no visible binding for global variable ‘tot_filt’ get_scaled_counts_bulk: no visible binding for global variable ‘nf’ get_scaled_counts_bulk: no visible binding for global variable ‘.’ get_scaled_counts_bulk: no visible binding for global variable ‘tot’ get_symbol_from_ensembl: no visible binding for global variable ‘ensembl_id’ get_symbol_from_ensembl: no visible binding for global variable ‘transcript’ get_symbol_from_ensembl: no visible binding for global variable ‘ref_genome’ get_tt_columns: no visible binding for global variable ‘tt_columns’ initialise_tt_internals: no visible binding for global variable ‘.’ memorise_methods_used: no visible binding for global variable ‘.’ multivariable_differential_tissue_composition: no visible binding for global variable ‘.’ multivariable_differential_tissue_composition: no visible binding for global variable ‘.cell_type’ multivariable_differential_tissue_composition: no visible binding for global variable ‘term’ multivariable_differential_tissue_composition_SE: no visible binding for global variable ‘.’ multivariable_differential_tissue_composition_SE: no visible binding for global variable ‘.cell_type’ multivariable_differential_tissue_composition_SE: no visible binding for global variable ‘term’ remove_redundancy_elements_though_reduced_dimensions: no visible binding for global variable ‘sample b’ remove_redundancy_elements_though_reduced_dimensions: no visible binding for global variable ‘sample a’ remove_redundancy_elements_though_reduced_dimensions: no visible binding for global variable ‘sample 1’ remove_redundancy_elements_though_reduced_dimensions: no visible binding for global variable ‘sample 2’ remove_redundancy_elements_though_reduced_dimensions_SE: no visible binding for global variable ‘sample b’ remove_redundancy_elements_though_reduced_dimensions_SE: no visible binding for global variable ‘sample a’ remove_redundancy_elements_though_reduced_dimensions_SE: no visible binding for global variable ‘sample 1’ remove_redundancy_elements_though_reduced_dimensions_SE: no visible binding for global variable ‘sample 2’ remove_redundancy_elements_through_correlation: no visible binding for global variable ‘rc’ remove_redundancy_elements_through_correlation: no visible binding for global variable ‘transcript’ remove_redundancy_elements_through_correlation: no visible binding for global variable ‘correlation’ remove_redundancy_elements_through_correlation: no visible binding for global variable ‘item1’ remove_redundancy_elements_through_correlation_SE: no visible binding for global variable ‘abundance’ remove_redundancy_elements_through_correlation_SE: no visible binding for global variable ‘transcript’ remove_redundancy_elements_through_correlation_SE: no visible binding for global variable ‘element’ remove_redundancy_elements_through_correlation_SE: no visible binding for global variable ‘feature’ remove_redundancy_elements_through_correlation_SE: no visible binding for global variable ‘rc’ remove_redundancy_elements_through_correlation_SE: no visible binding for global variable ‘correlation’ remove_redundancy_elements_through_correlation_SE: no visible binding for global variable ‘item1’ run_epic: no visible global function definition for ‘EPIC’ run_llsr: no visible binding for global variable ‘X_cibersort’ scale_design: no visible binding for global variable ‘value’ scale_design: no visible binding for global variable ‘sample_idx’ scale_design: no visible binding for global variable ‘(Intercept)’ select_closest_pairs: no visible binding for global variable ‘sample 1’ select_closest_pairs: no visible binding for global variable ‘sample 2’ symbol_to_entrez: no visible binding for global variable ‘transcript_upper’ symbol_to_entrez: no visible binding for global variable ‘.’ symbol_to_entrez: no visible binding for global variable ‘entrez’ test_differential_cellularity: no visible binding for global variable ‘X_cibersort’ test_differential_cellularity_: no visible binding for global variable ‘cell_type’ test_differential_cellularity_: no visible binding for global variable ‘prop’ test_differential_cellularity_: no visible binding for global variable ‘.cell_type’ test_gene_enrichment_bulk_EGSEA: no visible global function definition for ‘buildCustomIdx’ test_gene_enrichment_bulk_EGSEA: no visible global function definition for ‘buildIdx’ test_gene_enrichment_bulk_EGSEA: no visible global function definition for ‘egsea’ test_gene_enrichment_bulk_EGSEA: no visible binding for global variable ‘pathway’ test_gene_enrichment_bulk_EGSEA: no visible binding for global variable ‘data_base’ test_gene_enrichment_bulk_EGSEA: no visible binding for global variable ‘web_page’ test_stratification_cellularity: no visible binding for global variable ‘X_cibersort’ test_stratification_cellularity_: no visible binding for global variable ‘.cell_type’ tidybulk_to_SummarizedExperiment: no visible binding for global variable ‘.’ univariable_differential_tissue_composition: no visible binding for global variable ‘.proportion’ univariable_differential_tissue_composition: no visible binding for global variable ‘.cell_type’ univariable_differential_tissue_composition: no visible binding for global variable ‘cell_type_proportions’ univariable_differential_tissue_composition: no visible binding for global variable ‘surv_test’ univariable_differential_tissue_composition_SE: no visible binding for global variable ‘.proportion’ univariable_differential_tissue_composition_SE: no visible binding for global variable ‘.cell_type’ univariable_differential_tissue_composition_SE: no visible binding for global variable ‘cell_type_proportions’ univariable_differential_tissue_composition_SE: no visible binding for global variable ‘surv_test’ univariable_differential_tissue_stratification: no visible binding for global variable ‘.cell_type’ univariable_differential_tissue_stratification: no visible binding for global variable ‘cell_type_proportions’ univariable_differential_tissue_stratification: no visible binding for global variable ‘surv_test’ univariable_differential_tissue_stratification_SE: no visible binding for global variable ‘.cell_type’ univariable_differential_tissue_stratification_SE: no visible binding for global variable ‘cell_type_proportions’ univariable_differential_tissue_stratification_SE: no visible binding for global variable ‘surv_test’ adjust_abundance,RangedSummarizedExperiment: no visible binding for global variable ‘.’ adjust_abundance,RangedSummarizedExperiment: no visible binding for global variable ‘x’ adjust_abundance,SummarizedExperiment: no visible binding for global variable ‘.’ adjust_abundance,SummarizedExperiment: no visible binding for global variable ‘x’ as_SummarizedExperiment,spec_tbl_df: no visible binding for global variable ‘.’ as_SummarizedExperiment,tbl_df: no visible binding for global variable ‘.’ as_SummarizedExperiment,tidybulk: no visible binding for global variable ‘.’ cluster_elements,RangedSummarizedExperiment: no visible binding for global variable ‘.’ cluster_elements,SummarizedExperiment: no visible binding for global variable ‘.’ deconvolve_cellularity,RangedSummarizedExperiment: no visible binding for global variable ‘.’ deconvolve_cellularity,SummarizedExperiment: no visible binding for global variable ‘.’ describe_transcript,RangedSummarizedExperiment: no visible binding for global variable ‘.’ describe_transcript,RangedSummarizedExperiment: no visible binding for global variable ‘transcript’ describe_transcript,RangedSummarizedExperiment: no visible binding for global variable ‘description’ describe_transcript,SummarizedExperiment: no visible binding for global variable ‘.’ describe_transcript,SummarizedExperiment: no visible binding for global variable ‘transcript’ describe_transcript,SummarizedExperiment: no visible binding for global variable ‘description’ describe_transcript,spec_tbl_df: no visible binding for global variable ‘.’ describe_transcript,tbl_df: no visible binding for global variable ‘.’ describe_transcript,tidybulk: no visible binding for global variable ‘.’ get_bibliography,RangedSummarizedExperiment: no visible binding for global variable ‘.’ get_bibliography,SummarizedExperiment: no visible binding for global variable ‘.’ get_bibliography,spec_tbl_df: no visible binding for global variable ‘.’ get_bibliography,tbl: no visible binding for global variable ‘.’ get_bibliography,tbl_df: no visible binding for global variable ‘.’ get_bibliography,tidybulk: no visible binding for global variable ‘.’ identify_abundant,RangedSummarizedExperiment: no visible binding for global variable ‘.’ identify_abundant,SummarizedExperiment: no visible binding for global variable ‘.’ keep_abundant,spec_tbl_df: no visible binding for global variable ‘.abundant’ keep_abundant,tbl_df: no visible binding for global variable ‘.abundant’ keep_abundant,tidybulk: no visible binding for global variable ‘.abundant’ keep_variable,RangedSummarizedExperiment: no visible binding for global variable ‘.’ keep_variable,SummarizedExperiment: no visible binding for global variable ‘.’ pivot_sample,RangedSummarizedExperiment: no visible binding for global variable ‘.’ pivot_sample,SummarizedExperiment: no visible binding for global variable ‘.’ pivot_transcript,RangedSummarizedExperiment: no visible binding for global variable ‘.’ pivot_transcript,SummarizedExperiment: no visible binding for global variable ‘.’ reduce_dimensions,RangedSummarizedExperiment: no visible binding for global variable ‘.’ reduce_dimensions,SummarizedExperiment: no visible binding for global variable ‘.’ rotate_dimensions,RangedSummarizedExperiment: no visible binding for global variable ‘.’ rotate_dimensions,SummarizedExperiment: no visible binding for global variable ‘.’ scale_abundance,RangedSummarizedExperiment: no visible binding for global variable ‘.’ scale_abundance,RangedSummarizedExperiment: no visible binding for global variable ‘x’ scale_abundance,SummarizedExperiment: no visible binding for global variable ‘.’ scale_abundance,SummarizedExperiment: no visible binding for global variable ‘x’ scale_abundance,spec_tbl_df: no visible binding for global variable ‘x’ scale_abundance,spec_tbl_df: no visible binding for global variable ‘multiplier’ scale_abundance,tbl_df: no visible binding for global variable ‘x’ scale_abundance,tbl_df: no visible binding for global variable ‘multiplier’ scale_abundance,tidybulk: no visible binding for global variable ‘x’ scale_abundance,tidybulk: no visible binding for global variable ‘multiplier’ test_differential_abundance,RangedSummarizedExperiment: no visible binding for global variable ‘.’ test_differential_abundance,SummarizedExperiment: no visible binding for global variable ‘.’ test_differential_cellularity,RangedSummarizedExperiment: no visible binding for global variable ‘X_cibersort’ test_differential_cellularity,RangedSummarizedExperiment: no visible binding for global variable ‘cell_type’ test_differential_cellularity,RangedSummarizedExperiment: no visible binding for global variable ‘prop’ test_differential_cellularity,RangedSummarizedExperiment: no visible binding for global variable ‘.cell_type’ test_differential_cellularity,SummarizedExperiment: no visible binding for global variable ‘X_cibersort’ test_differential_cellularity,SummarizedExperiment: no visible binding for global variable ‘cell_type’ test_differential_cellularity,SummarizedExperiment: no visible binding for global variable ‘prop’ test_differential_cellularity,SummarizedExperiment: no visible binding for global variable ‘.cell_type’ test_differential_cellularity,spec_tbl_df: no visible binding for global variable ‘X_cibersort’ test_differential_cellularity,spec_tbl_df: no visible binding for global variable ‘.’ test_differential_cellularity,tbl_df: no visible binding for global variable ‘X_cibersort’ test_differential_cellularity,tbl_df: no visible binding for global variable ‘.’ test_differential_cellularity,tidybulk: no visible binding for global variable ‘X_cibersort’ test_differential_cellularity,tidybulk: no visible binding for global variable ‘.’ test_gene_enrichment,RangedSummarizedExperiment: no visible global function definition for ‘buildCustomIdx’ test_gene_enrichment,RangedSummarizedExperiment: no visible global function definition for ‘buildIdx’ test_gene_enrichment,RangedSummarizedExperiment: no visible global function definition for ‘egsea’ test_gene_enrichment,RangedSummarizedExperiment: no visible binding for global variable ‘pathway’ test_gene_enrichment,RangedSummarizedExperiment: no visible binding for global variable ‘data_base’ test_gene_enrichment,RangedSummarizedExperiment: no visible binding for global variable ‘web_page’ test_gene_enrichment,SummarizedExperiment: no visible global function definition for ‘buildCustomIdx’ test_gene_enrichment,SummarizedExperiment: no visible global function definition for ‘buildIdx’ test_gene_enrichment,SummarizedExperiment: no visible global function definition for ‘egsea’ test_gene_enrichment,SummarizedExperiment: no visible binding for global variable ‘pathway’ test_gene_enrichment,SummarizedExperiment: no visible binding for global variable ‘data_base’ test_gene_enrichment,SummarizedExperiment: no visible binding for global variable ‘web_page’ test_stratification_cellularity,RangedSummarizedExperiment: no visible binding for global variable ‘X_cibersort’ test_stratification_cellularity,RangedSummarizedExperiment: no visible binding for global variable ‘.’ test_stratification_cellularity,RangedSummarizedExperiment: no visible binding for global variable ‘.cell_type’ test_stratification_cellularity,SummarizedExperiment: no visible binding for global variable ‘X_cibersort’ test_stratification_cellularity,SummarizedExperiment: no visible binding for global variable ‘.’ test_stratification_cellularity,SummarizedExperiment: no visible binding for global variable ‘.cell_type’ test_stratification_cellularity,spec_tbl_df: no visible binding for global variable ‘X_cibersort’ test_stratification_cellularity,spec_tbl_df: no visible binding for global variable ‘.’ test_stratification_cellularity,tbl_df: no visible binding for global variable ‘X_cibersort’ test_stratification_cellularity,tbl_df: no visible binding for global variable ‘.’ test_stratification_cellularity,tidybulk: no visible binding for global variable ‘X_cibersort’ test_stratification_cellularity,tidybulk: no visible binding for global variable ‘.’ tidybulk,RangedSummarizedExperiment: no visible binding for global variable ‘.’ tidybulk,RangedSummarizedExperiment: no visible binding for global variable ‘feature’ tidybulk,SummarizedExperiment: no visible binding for global variable ‘.’ tidybulk,SummarizedExperiment: no visible binding for global variable ‘feature’ Undefined global functions or variables: (Intercept) . .abundance_scaled .abundant .cell_type .element .proportion Component Component value EPIC GeneID Status X_cibersort Y abundance buildCustomIdx buildIdx cell_type cell_type_proportions cluster cluster kmeans correlation counts cov_data ct_data data_base description egsea element ensembl_id entrez feature fit geneID genes gs_cat item1 m med multiplier my_n n_aggr name nf pathway prop rc read count ref_genome rotated dimensions sample 1 sample 2 sample a sample b sample_idx samples sdev seurat_clusters surv_test temp term test tot tot_filt transcript transcript_upper tt_columns value variable web_page x Consider adding importFrom("base", "sample") importFrom("stats", "kmeans") to your NAMESPACE file. * checking Rd files ... NOTE prepare_Rd: remove_redundancy-methods.Rd:136-138: Dropping empty section \details * checking Rd metadata ... OK * checking Rd cross-references ... OK * checking for missing documentation entries ... OK * checking for code/documentation mismatches ... OK * checking Rd \usage sections ... OK * checking Rd contents ... OK * checking for unstated dependencies in examples ... OK * checking contents of ‘data’ directory ... OK * checking data for non-ASCII characters ... OK * checking LazyData ... OK * checking data for ASCII and uncompressed saves ... OK * checking files in ‘vignettes’ ... OK * checking examples ... OK Examples with CPU (user + system) or elapsed time > 5s user system elapsed test_gene_overrepresentation-methods 28.444 1.061 29.522 test_gene_rank-methods 24.589 1.202 21.358 test_differential_cellularity-methods 17.244 0.116 17.373 test_differential_abundance-methods 15.883 0.107 16.002 test_stratification_cellularity-methods 9.594 0.189 9.794 join-methods 5.761 0.981 6.751 * checking for unstated dependencies in ‘tests’ ... OK * checking tests ... Running ‘testthat.R’ OK * checking for unstated dependencies in vignettes ... OK * checking package vignettes in ‘inst/doc’ ... OK * checking running R code from vignettes ... SKIPPED * checking re-building of vignette outputs ... SKIPPED * checking PDF version of manual ... OK * DONE Status: 3 NOTEs See ‘/Users/biocbuild/bbs-3.13-bioc/meat/tidybulk.Rcheck/00check.log’ for details.
tidybulk.Rcheck/00install.out
############################################################################## ############################################################################## ### ### Running command: ### ### /Library/Frameworks/R.framework/Versions/Current/Resources/bin/R CMD INSTALL tidybulk ### ############################################################################## ############################################################################## * installing to library ‘/Library/Frameworks/R.framework/Versions/4.1/Resources/library’ * installing *source* package ‘tidybulk’ ... ** using staged installation ** R ** data *** moving datasets to lazyload DB ** inst ** byte-compile and prepare package for lazy loading Note: wrong number of arguments to 'floor' Note: wrong number of arguments to 'floor' ** help *** installing help indices *** copying figures ** building package indices ** installing vignettes ** testing if installed package can be loaded from temporary location ** testing if installed package can be loaded from final location ** testing if installed package keeps a record of temporary installation path * DONE (tidybulk)
tidybulk.Rcheck/tests/testthat.Rout
R version 4.1.1 (2021-08-10) -- "Kick Things" Copyright (C) 2021 The R Foundation for Statistical Computing Platform: x86_64-apple-darwin17.0 (64-bit) R is free software and comes with ABSOLUTELY NO WARRANTY. You are welcome to redistribute it under certain conditions. Type 'license()' or 'licence()' for distribution details. R is a collaborative project with many contributors. Type 'contributors()' for more information and 'citation()' on how to cite R or R packages in publications. Type 'demo()' for some demos, 'help()' for on-line help, or 'help.start()' for an HTML browser interface to help. Type 'q()' to quit R. > library(testthat) > library(tidybulk) ======================================== tidybulk version 1.4.0 If you use TIDYBULK in published research, please cite: Mangiola et al. tidybulk: an R tidy framework for modular transcriptomic data analysis. Genome Biology 2021. This message can be suppressed by: suppressPackageStartupMessages(library(tidybulk)) ======================================== Attaching package: 'tidybulk' The following object is masked from 'package:stats': filter > > test_check("tidybulk") Coefficients not estimable: conditionTRUE Coefficients not estimable: conditionTRUE Performing PCA Read the 251 x 50 data matrix successfully! Using no_dims = 2, perplexity = 30.000000, and theta = 0.500000 Computing input similarities... Building tree... Done in 0.03 seconds (sparsity = 0.492881)! Learning embedding... Iteration 50: error is 54.411470 (50 iterations in 0.05 seconds) Iteration 100: error is 56.255216 (50 iterations in 0.04 seconds) Iteration 150: error is 55.688813 (50 iterations in 0.04 seconds) Iteration 200: error is 56.857727 (50 iterations in 0.05 seconds) Iteration 250: error is 56.180978 (50 iterations in 0.07 seconds) Iteration 300: error is 1.038730 (50 iterations in 0.06 seconds) Iteration 350: error is 0.809180 (50 iterations in 0.06 seconds) Iteration 400: error is 0.798082 (50 iterations in 0.05 seconds) Iteration 450: error is 0.792331 (50 iterations in 0.03 seconds) Iteration 500: error is 0.792358 (50 iterations in 0.03 seconds) Iteration 550: error is 0.791574 (50 iterations in 0.03 seconds) Iteration 600: error is 0.790992 (50 iterations in 0.04 seconds) Iteration 650: error is 0.791531 (50 iterations in 0.04 seconds) Iteration 700: error is 0.791588 (50 iterations in 0.03 seconds) Iteration 750: error is 0.791912 (50 iterations in 0.03 seconds) Iteration 800: error is 0.792286 (50 iterations in 0.03 seconds) Iteration 850: error is 0.793177 (50 iterations in 0.03 seconds) Iteration 900: error is 0.793194 (50 iterations in 0.03 seconds) Iteration 950: error is 0.791644 (50 iterations in 0.04 seconds) Iteration 1000: error is 0.790824 (50 iterations in 0.05 seconds) Fitting performed in 0.86 seconds. Performing PCA Read the 251 x 50 data matrix successfully! Using no_dims = 2, perplexity = 30.000000, and theta = 0.500000 Computing input similarities... Building tree... Done in 0.03 seconds (sparsity = 0.492881)! Learning embedding... Iteration 50: error is 54.411470 (50 iterations in 0.04 seconds) Iteration 100: error is 56.255216 (50 iterations in 0.05 seconds) Iteration 150: error is 55.688813 (50 iterations in 0.05 seconds) Iteration 200: error is 56.857727 (50 iterations in 0.05 seconds) Iteration 250: error is 56.180978 (50 iterations in 0.05 seconds) Iteration 300: error is 1.038730 (50 iterations in 0.06 seconds) Iteration 350: error is 0.809180 (50 iterations in 0.05 seconds) Iteration 400: error is 0.798082 (50 iterations in 0.04 seconds) Iteration 450: error is 0.792331 (50 iterations in 0.04 seconds) Iteration 500: error is 0.792358 (50 iterations in 0.04 seconds) Iteration 550: error is 0.791574 (50 iterations in 0.03 seconds) Iteration 600: error is 0.790992 (50 iterations in 0.04 seconds) Iteration 650: error is 0.791531 (50 iterations in 0.03 seconds) Iteration 700: error is 0.791588 (50 iterations in 0.04 seconds) Iteration 750: error is 0.791912 (50 iterations in 0.04 seconds) Iteration 800: error is 0.792286 (50 iterations in 0.04 seconds) Iteration 850: error is 0.793177 (50 iterations in 0.05 seconds) Iteration 900: error is 0.793194 (50 iterations in 0.04 seconds) Iteration 950: error is 0.791644 (50 iterations in 0.03 seconds) Iteration 1000: error is 0.790824 (50 iterations in 0.04 seconds) Fitting performed in 0.85 seconds. @Article{tidybulk, title = {tidybulk: an R tidy framework for modular transcriptomic data analysis}, author = {Stefano Mangiola and Ramyar Molania and Ruining Dong and Maria A. Doyle & Anthony T. Papenfuss}, journal = {Genome Biology}, year = {2021}, volume = {22}, number = {42}, url = {https://genomebiology.biomedcentral.com/articles/10.1186/s13059-020-02233-7}, } @article{wickham2019welcome, title={Welcome to the Tidyverse}, author={Wickham, Hadley and Averick, Mara and Bryan, Jennifer and Chang, Winston and McGowan, Lucy D'Agostino and Francois, Romain and Grolemund, Garrett and Hayes, Alex and Henry, Lionel and Hester, Jim and others}, journal={Journal of Open Source Software}, volume={4}, number={43}, pages={1686}, year={2019} } @article{robinson2010edger, title={edgeR: a Bioconductor package for differential expression analysis of digital gene expression data}, author={Robinson, Mark D and McCarthy, Davis J and Smyth, Gordon K}, journal={Bioinformatics}, volume={26}, number={1}, pages={139--140}, year={2010}, publisher={Oxford University Press} } @article{robinson2010scaling, title={A scaling normalization method for differential expression analysis of RNA-seq data}, author={Robinson, Mark D and Oshlack, Alicia}, journal={Genome biology}, volume={11}, number={3}, pages={1--9}, year={2010}, publisher={BioMed Central} } ══ Skipped tests ═══════════════════════════════════════════════════════════════ • empty test (2) [ FAIL 0 | WARN 22 | SKIP 2 | PASS 206 ] > > proc.time() user system elapsed 284.003 5.285 289.560
tidybulk.Rcheck/tidybulk-Ex.timings
name | user | system | elapsed | |
adjust_abundance-methods | 4.713 | 0.145 | 4.863 | |
aggregate_duplicates-methods | 0.602 | 0.008 | 0.610 | |
arrange-methods | 0.008 | 0.002 | 0.012 | |
as_matrix | 0.127 | 0.011 | 0.138 | |
bind-methods | 0.005 | 0.002 | 0.007 | |
cluster_elements-methods | 0.110 | 0.011 | 0.122 | |
deconvolve_cellularity-methods | 1.941 | 0.034 | 1.976 | |
describe_transcript-methods | 0.950 | 0.080 | 1.031 | |
distinct-methods | 0.132 | 0.014 | 0.146 | |
dplyr-methods | 1.693 | 0.393 | 2.089 | |
ensembl_to_symbol-methods | 1.890 | 0.188 | 2.080 | |
fill_missing_abundance-methods | 0.242 | 0.015 | 0.257 | |
filter-methods | 0 | 0 | 0 | |
get_bibliography-methods | 0.079 | 0.002 | 0.082 | |
group_by-methods | 0.004 | 0.001 | 0.004 | |
identify_abundant-methods | 0.048 | 0.001 | 0.049 | |
impute_missing_abundance-methods | 0.073 | 0.002 | 0.074 | |
join-methods | 5.761 | 0.981 | 6.751 | |
keep_abundant-methods | 0.057 | 0.003 | 0.101 | |
keep_variable-methods | 0.065 | 0.001 | 0.067 | |
log10_reverse_trans | 0.285 | 0.015 | 0.326 | |
logit_trans | 0.151 | 0.003 | 0.154 | |
mutate-methods | 0.062 | 0.000 | 0.063 | |
nest-methods | 2.432 | 0.059 | 2.491 | |
pivot_sample-methods | 0.030 | 0.001 | 0.031 | |
pivot_transcript-methods | 0.021 | 0.000 | 0.021 | |
reduce_dimensions-methods | 0.298 | 0.004 | 0.303 | |
remove_redundancy-methods | 0.473 | 0.015 | 0.494 | |
rename-methods | 0.028 | 0.001 | 0.029 | |
rotate_dimensions-methods | 0.154 | 0.001 | 0.155 | |
rowwise-methods | 0.052 | 0.000 | 0.053 | |
scale_abundance-methods | 0.161 | 0.001 | 0.163 | |
summarise-methods | 0.005 | 0.000 | 0.005 | |
symbol_to_entrez | 0.313 | 0.003 | 0.317 | |
test_differential_abundance-methods | 15.883 | 0.107 | 16.002 | |
test_differential_cellularity-methods | 17.244 | 0.116 | 17.373 | |
test_gene_enrichment-methods | 0.001 | 0.001 | 0.001 | |
test_gene_overrepresentation-methods | 28.444 | 1.061 | 29.522 | |
test_gene_rank-methods | 24.589 | 1.202 | 21.358 | |
test_stratification_cellularity-methods | 9.594 | 0.189 | 9.794 | |
tidybulk-methods | 0.067 | 0.001 | 0.068 | |