| Back to Multiple platform build/check report for BioC 3.13 |
|
This page was generated on 2021-10-15 15:05:55 -0400 (Fri, 15 Oct 2021).
|
To the developers/maintainers of the tidySummarizedExperiment package: - Please allow up to 24 hours (and sometimes 48 hours) for your latest push to git@git.bioconductor.org:packages/tidySummarizedExperiment.git to reflect on this report. See How and When does the builder pull? When will my changes propagate? here for more information. - Make sure to use the following settings in order to reproduce any error or warning you see on this page. |
| Package 1914/2041 | Hostname | OS / Arch | INSTALL | BUILD | CHECK | BUILD BIN | ||||||||
| tidySummarizedExperiment 1.2.0 (landing page) Stefano Mangiola
| nebbiolo1 | Linux (Ubuntu 20.04.2 LTS) / x86_64 | OK | OK | OK | |||||||||
| tokay2 | Windows Server 2012 R2 Standard / x64 | OK | OK | OK | OK | |||||||||
| machv2 | macOS 10.14.6 Mojave / x86_64 | OK | OK | OK | OK | |||||||||
| Package: tidySummarizedExperiment |
| Version: 1.2.0 |
| Command: /home/biocbuild/bbs-3.13-bioc/R/bin/R CMD check --install=check:tidySummarizedExperiment.install-out.txt --library=/home/biocbuild/bbs-3.13-bioc/R/library --no-vignettes --timings tidySummarizedExperiment_1.2.0.tar.gz |
| StartedAt: 2021-10-14 11:51:14 -0400 (Thu, 14 Oct 2021) |
| EndedAt: 2021-10-14 11:54:36 -0400 (Thu, 14 Oct 2021) |
| EllapsedTime: 201.8 seconds |
| RetCode: 0 |
| Status: OK |
| CheckDir: tidySummarizedExperiment.Rcheck |
| Warnings: 0 |
##############################################################################
##############################################################################
###
### Running command:
###
### /home/biocbuild/bbs-3.13-bioc/R/bin/R CMD check --install=check:tidySummarizedExperiment.install-out.txt --library=/home/biocbuild/bbs-3.13-bioc/R/library --no-vignettes --timings tidySummarizedExperiment_1.2.0.tar.gz
###
##############################################################################
##############################################################################
* using log directory ‘/home/biocbuild/bbs-3.13-bioc/meat/tidySummarizedExperiment.Rcheck’
* using R version 4.1.1 (2021-08-10)
* using platform: x86_64-pc-linux-gnu (64-bit)
* using session charset: UTF-8
* using option ‘--no-vignettes’
* checking for file ‘tidySummarizedExperiment/DESCRIPTION’ ... OK
* checking extension type ... Package
* this is package ‘tidySummarizedExperiment’ version ‘1.2.0’
* package encoding: UTF-8
* checking package namespace information ... OK
* checking package dependencies ... OK
* checking if this is a source package ... OK
* checking if there is a namespace ... OK
* checking for hidden files and directories ... OK
* checking for portable file names ... OK
* checking for sufficient/correct file permissions ... OK
* checking whether package ‘tidySummarizedExperiment’ can be installed ... OK
* checking installed package size ... OK
* checking package directory ... OK
* checking ‘build’ directory ... OK
* checking DESCRIPTION meta-information ... NOTE
Malformed Description field: should contain one or more complete sentences.
* checking top-level files ... OK
* checking for left-over files ... OK
* checking index information ... OK
* checking package subdirectories ... OK
* checking R files for non-ASCII characters ... OK
* checking R files for syntax errors ... OK
* checking whether the package can be loaded ... OK
* checking whether the package can be loaded with stated dependencies ... OK
* checking whether the package can be unloaded cleanly ... OK
* checking whether the namespace can be loaded with stated dependencies ... OK
* checking whether the namespace can be unloaded cleanly ... OK
* checking dependencies in R code ... OK
* checking S3 generic/method consistency ... OK
* checking replacement functions ... OK
* checking foreign function calls ... OK
* checking R code for possible problems ... NOTE
change_reserved_column_names: no visible global function definition for
‘setNames’
change_reserved_column_names: no visible binding for global variable
‘.’
get_special_columns: no visible binding for global variable ‘feature’
is_not_duplicated: no visible binding for global variable ‘feature’
is_rectangular: no visible binding for global variable ‘feature’
nest.SummarizedExperiment: no visible binding for global variable ‘.’
print.SummarizedExperiment: no visible binding for global variable ‘.’
subset_tibble_output: no visible binding for global variable ‘.’
update_SE_from_tibble: no visible binding for global variable ‘feature’
update_SE_from_tibble: no visible binding for global variable ‘value’
update_SE_from_tibble: no visible binding for global variable ‘data___’
update_SE_from_tibble: no visible binding for global variable ‘name’
show,SummarizedExperiment: no visible global function definition for
‘getMethod’
Undefined global functions or variables:
. data___ feature getMethod name setNames value
Consider adding
importFrom("methods", "getMethod")
importFrom("stats", "setNames")
to your NAMESPACE file (and ensure that your DESCRIPTION Imports field
contains 'methods').
* checking Rd files ... OK
* checking Rd metadata ... OK
* checking Rd cross-references ... OK
* checking for missing documentation entries ... OK
* checking for code/documentation mismatches ... OK
* checking Rd \usage sections ... OK
* checking Rd contents ... OK
* checking for unstated dependencies in examples ... OK
* checking contents of ‘data’ directory ... OK
* checking data for non-ASCII characters ... OK
* checking LazyData ... OK
* checking data for ASCII and uncompressed saves ... OK
* checking files in ‘vignettes’ ... OK
* checking examples ... OK
Examples with CPU (user + system) or elapsed time > 5s
user system elapsed
tidyr-methods 14.117 0.220 14.337
dplyr-methods 10.271 0.963 11.235
* checking for unstated dependencies in ‘tests’ ... OK
* checking tests ...
Running ‘testthat.R’
OK
* checking for unstated dependencies in vignettes ... OK
* checking package vignettes in ‘inst/doc’ ... OK
* checking running R code from vignettes ... SKIPPED
* checking re-building of vignette outputs ... SKIPPED
* checking PDF version of manual ... OK
* DONE
Status: 2 NOTEs
See
‘/home/biocbuild/bbs-3.13-bioc/meat/tidySummarizedExperiment.Rcheck/00check.log’
for details.
tidySummarizedExperiment.Rcheck/00install.out
############################################################################## ############################################################################## ### ### Running command: ### ### /home/biocbuild/bbs-3.13-bioc/R/bin/R CMD INSTALL tidySummarizedExperiment ### ############################################################################## ############################################################################## * installing to library ‘/home/biocbuild/bbs-3.13-bioc/R/library’ * installing *source* package ‘tidySummarizedExperiment’ ... ** using staged installation ** R ** data *** moving datasets to lazyload DB ** byte-compile and prepare package for lazy loading Note: wrong number of arguments to '>' ** help *** installing help indices *** copying figures ** building package indices ** installing vignettes ** testing if installed package can be loaded from temporary location ** testing if installed package can be loaded from final location ** testing if installed package keeps a record of temporary installation path * DONE (tidySummarizedExperiment)
tidySummarizedExperiment.Rcheck/tests/testthat.Rout
R version 4.1.1 (2021-08-10) -- "Kick Things"
Copyright (C) 2021 The R Foundation for Statistical Computing
Platform: x86_64-pc-linux-gnu (64-bit)
R is free software and comes with ABSOLUTELY NO WARRANTY.
You are welcome to redistribute it under certain conditions.
Type 'license()' or 'licence()' for distribution details.
R is a collaborative project with many contributors.
Type 'contributors()' for more information and
'citation()' on how to cite R or R packages in publications.
Type 'demo()' for some demos, 'help()' for on-line help, or
'help.start()' for an HTML browser interface to help.
Type 'q()' to quit R.
> library(testthat)
> library(tidySummarizedExperiment)
Loading required package: SummarizedExperiment
Loading required package: MatrixGenerics
Loading required package: matrixStats
Attaching package: 'MatrixGenerics'
The following objects are masked from 'package:matrixStats':
colAlls, colAnyNAs, colAnys, colAvgsPerRowSet, colCollapse,
colCounts, colCummaxs, colCummins, colCumprods, colCumsums,
colDiffs, colIQRDiffs, colIQRs, colLogSumExps, colMadDiffs,
colMads, colMaxs, colMeans2, colMedians, colMins, colOrderStats,
colProds, colQuantiles, colRanges, colRanks, colSdDiffs, colSds,
colSums2, colTabulates, colVarDiffs, colVars, colWeightedMads,
colWeightedMeans, colWeightedMedians, colWeightedSds,
colWeightedVars, rowAlls, rowAnyNAs, rowAnys, rowAvgsPerColSet,
rowCollapse, rowCounts, rowCummaxs, rowCummins, rowCumprods,
rowCumsums, rowDiffs, rowIQRDiffs, rowIQRs, rowLogSumExps,
rowMadDiffs, rowMads, rowMaxs, rowMeans2, rowMedians, rowMins,
rowOrderStats, rowProds, rowQuantiles, rowRanges, rowRanks,
rowSdDiffs, rowSds, rowSums2, rowTabulates, rowVarDiffs, rowVars,
rowWeightedMads, rowWeightedMeans, rowWeightedMedians,
rowWeightedSds, rowWeightedVars
Loading required package: GenomicRanges
Loading required package: stats4
Loading required package: BiocGenerics
Loading required package: parallel
Attaching package: 'BiocGenerics'
The following objects are masked from 'package:parallel':
clusterApply, clusterApplyLB, clusterCall, clusterEvalQ,
clusterExport, clusterMap, parApply, parCapply, parLapply,
parLapplyLB, parRapply, parSapply, parSapplyLB
The following objects are masked from 'package:stats':
IQR, mad, sd, var, xtabs
The following objects are masked from 'package:base':
Filter, Find, Map, Position, Reduce, anyDuplicated, append,
as.data.frame, basename, cbind, colnames, dirname, do.call,
duplicated, eval, evalq, get, grep, grepl, intersect, is.unsorted,
lapply, mapply, match, mget, order, paste, pmax, pmax.int, pmin,
pmin.int, rank, rbind, rownames, sapply, setdiff, sort, table,
tapply, union, unique, unsplit, which.max, which.min
Loading required package: S4Vectors
Attaching package: 'S4Vectors'
The following objects are masked from 'package:base':
I, expand.grid, unname
Loading required package: IRanges
Loading required package: GenomeInfoDb
Loading required package: Biobase
Welcome to Bioconductor
Vignettes contain introductory material; view with
'browseVignettes()'. To cite Bioconductor, see
'citation("Biobase")', and for packages 'citation("pkgname")'.
Attaching package: 'Biobase'
The following object is masked from 'package:MatrixGenerics':
rowMedians
The following objects are masked from 'package:matrixStats':
anyMissing, rowMedians
Attaching package: 'tidySummarizedExperiment'
The following object is masked from 'package:IRanges':
slice
The following object is masked from 'package:S4Vectors':
rename
The following object is masked from 'package:matrixStats':
count
The following object is masked from 'package:stats':
filter
>
> test_check("tidySummarizedExperiment")
══ Skipped tests ═══════════════════════════════════════════════════════════════
• empty test (1)
[ FAIL 0 | WARN 1 | SKIP 1 | PASS 26 ]
>
> proc.time()
user system elapsed
31.559 0.945 32.490
tidySummarizedExperiment.Rcheck/tidySummarizedExperiment-Ex.timings
| name | user | system | elapsed | |
| bind | 2.772 | 0.144 | 2.918 | |
| count | 0.104 | 0.000 | 0.104 | |
| dplyr-methods | 10.271 | 0.963 | 11.235 | |
| formatting | 0.096 | 0.012 | 0.107 | |
| ggplot2-methods | 0.635 | 0.008 | 0.643 | |
| plot_ly | 0.001 | 0.000 | 0.001 | |
| tibble-methods | 0.244 | 0.028 | 0.272 | |
| tidy | 0.087 | 0.000 | 0.088 | |
| tidyr-methods | 14.117 | 0.220 | 14.337 | |