Back to Multiple platform build/check report for BioC 3.13 |
|
This page was generated on 2021-10-15 15:06:55 -0400 (Fri, 15 Oct 2021).
To the developers/maintainers of the ternarynet package: - Please allow up to 24 hours (and sometimes 48 hours) for your latest push to git@git.bioconductor.org:packages/ternarynet.git to reflect on this report. See How and When does the builder pull? When will my changes propagate? here for more information. - Make sure to use the following settings in order to reproduce any error or warning you see on this page. |
Package 1906/2041 | Hostname | OS / Arch | INSTALL | BUILD | CHECK | BUILD BIN | ||||||||
ternarynet 1.36.0 (landing page) McCall N. Matthew
| nebbiolo1 | Linux (Ubuntu 20.04.2 LTS) / x86_64 | OK | OK | OK | ![]() | ||||||||
tokay2 | Windows Server 2012 R2 Standard / x64 | OK | OK | OK | OK | ![]() | ||||||||
machv2 | macOS 10.14.6 Mojave / x86_64 | OK | OK | OK | OK | ![]() | ||||||||
Package: ternarynet |
Version: 1.36.0 |
Command: rm -rf ternarynet.buildbin-libdir && mkdir ternarynet.buildbin-libdir && /Users/biocbuild/BBS/utils/build-universal.sh ternarynet_1.36.0.tar.gz /Library/Frameworks/R.framework/Versions/Current/Resources/bin/R ternarynet.buildbin-libdir |
StartedAt: 2021-10-15 04:12:49 -0400 (Fri, 15 Oct 2021) |
EndedAt: 2021-10-15 04:14:01 -0400 (Fri, 15 Oct 2021) |
EllapsedTime: 72.1 seconds |
RetCode: 0 |
Status: OK |
PackageFile: ternarynet_1.36.0.tgz |
PackageFileSize: 452.5 KiB |
############################################################################## ############################################################################## ### ### Running command: ### ### rm -rf ternarynet.buildbin-libdir && mkdir ternarynet.buildbin-libdir && /Users/biocbuild/BBS/utils/build-universal.sh ternarynet_1.36.0.tar.gz /Library/Frameworks/R.framework/Versions/Current/Resources/bin/R ternarynet.buildbin-libdir ### ############################################################################## ############################################################################## >>>>>>> >>>>>>> INSTALLATION WITH 'R CMD INSTALL --preclean --no-multiarch --library=ternarynet.buildbin-libdir ternarynet_1.36.0.tar.gz' >>>>>>> * installing *source* package ‘ternarynet’ ... ** using staged installation ** libs clang -mmacosx-version-min=10.13 -I"/Library/Frameworks/R.framework/Resources/include" -DNDEBUG -I/usr/local/include -fPIC -Wall -g -O2 -c array.c -o array.o clang -mmacosx-version-min=10.13 -I"/Library/Frameworks/R.framework/Resources/include" -DNDEBUG -I/usr/local/include -fPIC -Wall -g -O2 -c gn.c -o gn.o clang -mmacosx-version-min=10.13 -I"/Library/Frameworks/R.framework/Resources/include" -DNDEBUG -I/usr/local/include -fPIC -Wall -g -O2 -c gn_Rwrap.c -o gn_Rwrap.o clang -mmacosx-version-min=10.13 -I"/Library/Frameworks/R.framework/Resources/include" -DNDEBUG -I/usr/local/include -fPIC -Wall -g -O2 -c init.c -o init.o clang++ -mmacosx-version-min=10.13 -std=gnu++14 -I"/Library/Frameworks/R.framework/Resources/include" -DNDEBUG -I/usr/local/include -fPIC -Wall -g -O2 -c tnetfit.cc -o tnetfit.o tnetfit.cc:73:39: warning: unused variable 'tempi' [-Wunused-variable] int nOutcomes=3, l0, stage_count, tempi, jtrans, nTransition; ^ 1 warning generated. clang++ -mmacosx-version-min=10.13 -std=gnu++14 -I"/Library/Frameworks/R.framework/Resources/include" -DNDEBUG -I/usr/local/include -fPIC -Wall -g -O2 -c tnetfuncs.cc -o tnetfuncs.o tnetfuncs.cc:427:5: warning: unused variable 'tableWidth' [-Wunused-variable] int tableWidth = powi(nOutcomes,maxDegree); ^ tnetfuncs.cc:435:5: warning: unused variable 'ipause' [-Wunused-variable] int ipause; ^ tnetfuncs.cc:517:6: warning: unused variable 'ipause' [-Wunused-variable] int ipause; ^ tnetfuncs.cc:521:16: warning: unused variable 'i' [-Wunused-variable] int m1, m2, i; ^ 4 warnings generated. clang++ -mmacosx-version-min=10.13 -std=gnu++14 -I"/Library/Frameworks/R.framework/Resources/include" -DNDEBUG -I/usr/local/include -fPIC -Wall -g -O2 -c tnetpost.cc -o tnetpost.o tnetpost.cc:30:9: warning: unused variable 'l0' [-Wunused-variable] int l0, stage_count, tempi, jtrans, nTransition; ^ tnetpost.cc:30:13: warning: unused variable 'stage_count' [-Wunused-variable] int l0, stage_count, tempi, jtrans, nTransition; ^ tnetpost.cc:30:26: warning: unused variable 'tempi' [-Wunused-variable] int l0, stage_count, tempi, jtrans, nTransition; ^ tnetpost.cc:30:33: warning: unused variable 'jtrans' [-Wunused-variable] int l0, stage_count, tempi, jtrans, nTransition; ^ tnetpost.cc:30:41: warning: unused variable 'nTransition' [-Wunused-variable] int l0, stage_count, tempi, jtrans, nTransition; ^ tnetpost.cc:25:9: warning: unused variable 'ipause' [-Wunused-variable] int ipause; ^ tnetpost.cc:27:9: warning: unused variable 'm0fit' [-Wunused-variable] int m0fit; ^ tnetpost.cc:28:42: warning: unused variable 'finalScore' [-Wunused-variable] double newScore, oldScore, minScore, finalScore; ^ 8 warnings generated. clang -mmacosx-version-min=10.13 -I"/Library/Frameworks/R.framework/Resources/include" -DNDEBUG -I/usr/local/include -fPIC -Wall -g -O2 -c util.c -o util.o clang++ -mmacosx-version-min=10.13 -std=gnu++14 -dynamiclib -Wl,-headerpad_max_install_names -undefined dynamic_lookup -single_module -multiply_defined suppress -L/Library/Frameworks/R.framework/Resources/lib -L/usr/local/lib -o ternarynet.so array.o gn.o gn_Rwrap.o init.o tnetfit.o tnetfuncs.o tnetpost.o util.o -F/Library/Frameworks/R.framework/.. -framework R -Wl,-framework -Wl,CoreFoundation installing to /Users/biocbuild/bbs-3.13-bioc/meat/ternarynet.buildbin-libdir/00LOCK-ternarynet/00new/ternarynet/libs ** R ** inst ** byte-compile and prepare package for lazy loading ** help *** installing help indices ** building package indices ** installing vignettes ** testing if installed package can be loaded from temporary location ** checking absolute paths in shared objects and dynamic libraries ** testing if installed package can be loaded from final location ** testing if installed package keeps a record of temporary installation path * DONE (ternarynet) >>>>>>> >>>>>>> FIXING LINKS FOR ternarynet.buildbin-libdir/ternarynet/libs/ternarynet.so >>>>>>> install_name_tool -change "/usr/local/lib/libgcc_s.1.dylib" "/Library/Frameworks/R.framework/Versions/4.1/Resources/lib/libgcc_s.1.dylib" "ternarynet.buildbin-libdir/ternarynet/libs/ternarynet.so" install_name_tool -change "/usr/local/lib/libgfortran.5.dylib" "/Library/Frameworks/R.framework/Versions/4.1/Resources/lib/libgfortran.5.dylib" "ternarynet.buildbin-libdir/ternarynet/libs/ternarynet.so" install_name_tool -change "/usr/local/lib/libquadmath.0.dylib" "/Library/Frameworks/R.framework/Versions/4.1/Resources/lib/libquadmath.0.dylib" "ternarynet.buildbin-libdir/ternarynet/libs/ternarynet.so"