| Back to Multiple platform build/check report for BioC 3.13 |
|
This page was generated on 2021-10-15 15:06:25 -0400 (Fri, 15 Oct 2021).
|
To the developers/maintainers of the systemPipeTools package: - Please allow up to 24 hours (and sometimes 48 hours) for your latest push to git@git.bioconductor.org:packages/systemPipeTools.git to reflect on this report. See How and When does the builder pull? When will my changes propagate? here for more information. - Make sure to use the following settings in order to reproduce any error or warning you see on this page. |
| Package 1890/2041 | Hostname | OS / Arch | INSTALL | BUILD | CHECK | BUILD BIN | ||||||||
| systemPipeTools 1.0.0 (landing page) Daniela Cassol
| nebbiolo1 | Linux (Ubuntu 20.04.2 LTS) / x86_64 | OK | OK | OK | |||||||||
| tokay2 | Windows Server 2012 R2 Standard / x64 | OK | OK | OK | OK | |||||||||
| machv2 | macOS 10.14.6 Mojave / x86_64 | OK | OK | OK | OK | |||||||||
| Package: systemPipeTools |
| Version: 1.0.0 |
| Command: C:\cygwin\bin\curl.exe -O http://155.52.207.165/BBS/3.13/bioc/src/contrib/systemPipeTools_1.0.0.tar.gz && rm -rf systemPipeTools.buildbin-libdir && mkdir systemPipeTools.buildbin-libdir && C:\Users\biocbuild\bbs-3.13-bioc\R\bin\R.exe CMD INSTALL --merge-multiarch --build --library=systemPipeTools.buildbin-libdir systemPipeTools_1.0.0.tar.gz && C:\Users\biocbuild\bbs-3.13-bioc\R\bin\R.exe CMD INSTALL systemPipeTools_1.0.0.zip && rm systemPipeTools_1.0.0.tar.gz systemPipeTools_1.0.0.zip |
| StartedAt: 2021-10-14 09:55:59 -0400 (Thu, 14 Oct 2021) |
| EndedAt: 2021-10-14 09:57:02 -0400 (Thu, 14 Oct 2021) |
| EllapsedTime: 63.3 seconds |
| RetCode: 0 |
| Status: OK |
##############################################################################
##############################################################################
###
### Running command:
###
### C:\cygwin\bin\curl.exe -O http://155.52.207.165/BBS/3.13/bioc/src/contrib/systemPipeTools_1.0.0.tar.gz && rm -rf systemPipeTools.buildbin-libdir && mkdir systemPipeTools.buildbin-libdir && C:\Users\biocbuild\bbs-3.13-bioc\R\bin\R.exe CMD INSTALL --merge-multiarch --build --library=systemPipeTools.buildbin-libdir systemPipeTools_1.0.0.tar.gz && C:\Users\biocbuild\bbs-3.13-bioc\R\bin\R.exe CMD INSTALL systemPipeTools_1.0.0.zip && rm systemPipeTools_1.0.0.tar.gz systemPipeTools_1.0.0.zip
###
##############################################################################
##############################################################################
% Total % Received % Xferd Average Speed Time Time Time Current
Dload Upload Total Spent Left Speed
0 0 0 0 0 0 0 0 --:--:-- --:--:-- --:--:-- 0
14 5774k 14 848k 0 0 1401k 0 0:00:04 --:--:-- 0:00:04 1400k
63 5774k 63 3690k 0 0 2337k 0 0:00:02 0:00:01 0:00:01 2336k
100 5774k 100 5774k 0 0 2670k 0 0:00:02 0:00:02 --:--:-- 2672k
install for i386
* installing *source* package 'systemPipeTools' ...
** using staged installation
** R
** byte-compile and prepare package for lazy loading
** help
*** installing help indices
converting help for package 'systemPipeTools'
finding HTML links ... done
GLMplot html
MAplot html
MDSplot html
PCAplot html
exploreDDS html
exploreDDSplot html
hclustplot html
heatMaplot html
showDT html
tSNEplot html
volcanoplot html
** building package indices
** installing vignettes
** testing if installed package can be loaded from temporary location
** testing if installed package can be loaded from final location
** testing if installed package keeps a record of temporary installation path
install for x64
* installing *source* package 'systemPipeTools' ...
** testing if installed package can be loaded
* MD5 sums
packaged installation of 'systemPipeTools' as systemPipeTools_1.0.0.zip
* DONE (systemPipeTools)
* installing to library 'C:/Users/biocbuild/bbs-3.13-bioc/R/library'
package 'systemPipeTools' successfully unpacked and MD5 sums checked