Back to Multiple platform build/check report for BioC 3.13 |
|
This page was generated on 2021-10-15 15:06:25 -0400 (Fri, 15 Oct 2021).
To the developers/maintainers of the systemPipeShiny package: - Please allow up to 24 hours (and sometimes 48 hours) for your latest push to git@git.bioconductor.org:packages/systemPipeShiny.git to reflect on this report. See How and When does the builder pull? When will my changes propagate? here for more information. - Make sure to use the following settings in order to reproduce any error or warning you see on this page. |
Package 1889/2041 | Hostname | OS / Arch | INSTALL | BUILD | CHECK | BUILD BIN | ||||||||
systemPipeShiny 1.2.0 (landing page) Le Zhang
| nebbiolo1 | Linux (Ubuntu 20.04.2 LTS) / x86_64 | OK | OK | OK | |||||||||
tokay2 | Windows Server 2012 R2 Standard / x64 | OK | OK | OK | OK | |||||||||
machv2 | macOS 10.14.6 Mojave / x86_64 | OK | OK | OK | OK | |||||||||
Package: systemPipeShiny |
Version: 1.2.0 |
Command: C:\cygwin\bin\curl.exe -O http://155.52.207.165/BBS/3.13/bioc/src/contrib/systemPipeShiny_1.2.0.tar.gz && rm -rf systemPipeShiny.buildbin-libdir && mkdir systemPipeShiny.buildbin-libdir && C:\Users\biocbuild\bbs-3.13-bioc\R\bin\R.exe CMD INSTALL --merge-multiarch --build --library=systemPipeShiny.buildbin-libdir systemPipeShiny_1.2.0.tar.gz && C:\Users\biocbuild\bbs-3.13-bioc\R\bin\R.exe CMD INSTALL systemPipeShiny_1.2.0.zip && rm systemPipeShiny_1.2.0.tar.gz systemPipeShiny_1.2.0.zip |
StartedAt: 2021-10-14 09:56:49 -0400 (Thu, 14 Oct 2021) |
EndedAt: 2021-10-14 09:57:53 -0400 (Thu, 14 Oct 2021) |
EllapsedTime: 64.6 seconds |
RetCode: 0 |
Status: OK |
############################################################################## ############################################################################## ### ### Running command: ### ### C:\cygwin\bin\curl.exe -O http://155.52.207.165/BBS/3.13/bioc/src/contrib/systemPipeShiny_1.2.0.tar.gz && rm -rf systemPipeShiny.buildbin-libdir && mkdir systemPipeShiny.buildbin-libdir && C:\Users\biocbuild\bbs-3.13-bioc\R\bin\R.exe CMD INSTALL --merge-multiarch --build --library=systemPipeShiny.buildbin-libdir systemPipeShiny_1.2.0.tar.gz && C:\Users\biocbuild\bbs-3.13-bioc\R\bin\R.exe CMD INSTALL systemPipeShiny_1.2.0.zip && rm systemPipeShiny_1.2.0.tar.gz systemPipeShiny_1.2.0.zip ### ############################################################################## ############################################################################## % Total % Received % Xferd Average Speed Time Time Time Current Dload Upload Total Spent Left Speed 0 0 0 0 0 0 0 0 --:--:-- --:--:-- --:--:-- 0 55 2612k 55 1451k 0 0 1902k 0 0:00:01 --:--:-- 0:00:01 1902k 100 2612k 100 2612k 0 0 2237k 0 0:00:01 0:00:01 --:--:-- 2240k install for i386 * installing *source* package 'systemPipeShiny' ... ** using staged installation ** R ** inst ** byte-compile and prepare package for lazy loading ** help *** installing help indices converting help for package 'systemPipeShiny' finding HTML links ... done canvasBtn html dynamicFile html finding level-2 HTML links ... done genGallery html genHrefTable html loadDF html removeSpsTab html sps html spsAccount html spsCoreTabReplace html spsDb html spsEncryption html spsEzUI html spsInit html spsNewTab html spsOptDefaults html spsTabInfo html ** building package indices ** installing vignettes ** testing if installed package can be loaded from temporary location ** testing if installed package can be loaded from final location ** testing if installed package keeps a record of temporary installation path install for x64 * installing *source* package 'systemPipeShiny' ... ** testing if installed package can be loaded * MD5 sums packaged installation of 'systemPipeShiny' as systemPipeShiny_1.2.0.zip * DONE (systemPipeShiny) * installing to library 'C:/Users/biocbuild/bbs-3.13-bioc/R/library' package 'systemPipeShiny' successfully unpacked and MD5 sums checked