| Back to Multiple platform build/check report for BioC 3.13 | 
 | 
This page was generated on 2021-10-15 15:06:24 -0400 (Fri, 15 Oct 2021).
| To the developers/maintainers of the supraHex package: - Please allow up to 24 hours (and sometimes 48 hours) for your latest push to git@git.bioconductor.org:packages/supraHex.git to reflect on this report. See How and When does the builder pull? When will my changes propagate? here for more information. - Make sure to use the following settings in order to reproduce any error or warning you see on this page. | 
| Package 1872/2041 | Hostname | OS / Arch | INSTALL | BUILD | CHECK | BUILD BIN | ||||||||
| supraHex 1.30.0  (landing page) Hai Fang 
 | nebbiolo1 | Linux (Ubuntu 20.04.2 LTS) / x86_64 | OK | OK | OK |  | ||||||||
| tokay2 | Windows Server 2012 R2 Standard / x64 | OK | OK | OK | OK |  | ||||||||
| machv2 | macOS 10.14.6 Mojave / x86_64 | OK | OK | OK | OK |  | ||||||||
| Package: supraHex | 
| Version: 1.30.0 | 
| Command: C:\cygwin\bin\curl.exe -O http://155.52.207.165/BBS/3.13/bioc/src/contrib/supraHex_1.30.0.tar.gz && rm -rf supraHex.buildbin-libdir && mkdir supraHex.buildbin-libdir && C:\Users\biocbuild\bbs-3.13-bioc\R\bin\R.exe CMD INSTALL --merge-multiarch --build --library=supraHex.buildbin-libdir supraHex_1.30.0.tar.gz && C:\Users\biocbuild\bbs-3.13-bioc\R\bin\R.exe CMD INSTALL supraHex_1.30.0.zip && rm supraHex_1.30.0.tar.gz supraHex_1.30.0.zip | 
| StartedAt: 2021-10-14 11:01:00 -0400 (Thu, 14 Oct 2021) | 
| EndedAt: 2021-10-14 11:01:28 -0400 (Thu, 14 Oct 2021) | 
| EllapsedTime: 28.5 seconds | 
| RetCode: 0 | 
| Status: OK | 
##############################################################################
##############################################################################
###
### Running command:
###
###   C:\cygwin\bin\curl.exe -O http://155.52.207.165/BBS/3.13/bioc/src/contrib/supraHex_1.30.0.tar.gz && rm -rf supraHex.buildbin-libdir && mkdir supraHex.buildbin-libdir && C:\Users\biocbuild\bbs-3.13-bioc\R\bin\R.exe CMD INSTALL --merge-multiarch --build --library=supraHex.buildbin-libdir supraHex_1.30.0.tar.gz && C:\Users\biocbuild\bbs-3.13-bioc\R\bin\R.exe CMD INSTALL supraHex_1.30.0.zip && rm supraHex_1.30.0.tar.gz supraHex_1.30.0.zip
###
##############################################################################
##############################################################################
  % Total    % Received % Xferd  Average Speed   Time    Time     Time  Current
                                 Dload  Upload   Total   Spent    Left  Speed
  0     0    0     0    0     0      0      0 --:--:-- --:--:-- --:--:--     0
  3 2937k    3 94285    0     0   456k      0  0:00:06 --:--:--  0:00:06  455k
 91 2937k   91 2699k    0     0  2229k      0  0:00:01  0:00:01 --:--:-- 2229k
100 2937k  100 2937k    0     0  2335k      0  0:00:01  0:00:01 --:--:-- 2335k
install for i386
* installing *source* package 'supraHex' ...
** using staged installation
** R
** data
** inst
** byte-compile and prepare package for lazy loading
** help
*** installing help indices
  converting help for package 'supraHex'
    finding HTML links ... done
    Fang                                    html  
    Golub                                   html  
    Xiang                                   html  
    sBMH                                    html  
    sCompReorder                            html  
    sDistance                               html  
    sDmat                                   html  
    sDmatCluster                            html  
    sDmatMinima                             html  
    sHexDist                                html  
    sHexGrid                                html  
    sHexGridVariant                         html  
    sHexPolygon                             html  
    sInitial                                html  
    sMapOverlay                             html  
    sNeighAny                               html  
    sNeighDirect                            html  
    sPipeline                               html  
    sTopology                               html  
    sTrainBatch                             html  
    sTrainSeq                               html  
    sTrainology                             html  
    sWriteData                              html  
    visColoralpha                           html  
    visColorbar                             html  
    visColormap                             html  
    visCompReorder                          html  
    visDmatCluster                          html  
    visDmatHeatmap                          html  
    visHeatmap                              html  
    visHeatmapAdv                           html  
    visHexAnimate                           html  
    visHexBarplot                           html  
    visHexComp                              html  
    visHexGrid                              html  
    visHexMapping                           html  
    visHexMulComp                           html  
    visHexPattern                           html  
    visKernels                              html  
    visTreeBSclust                          html  
    visTreeBootstrap                        html  
    visVp                                   html  
** building package indices
** installing vignettes
** testing if installed package can be loaded from temporary location
** testing if installed package can be loaded from final location
** testing if installed package keeps a record of temporary installation path
install for x64
* installing *source* package 'supraHex' ...
** testing if installed package can be loaded
* MD5 sums
packaged installation of 'supraHex' as supraHex_1.30.0.zip
* DONE (supraHex)
* installing to library 'C:/Users/biocbuild/bbs-3.13-bioc/R/library'
package 'supraHex' successfully unpacked and MD5 sums checked