| Back to Multiple platform build/check report for BioC 3.13 |
|
This page was generated on 2021-10-15 15:06:24 -0400 (Fri, 15 Oct 2021).
|
To the developers/maintainers of the staRank package: - Please allow up to 24 hours (and sometimes 48 hours) for your latest push to git@git.bioconductor.org:packages/staRank.git to reflect on this report. See How and When does the builder pull? When will my changes propagate? here for more information. - Make sure to use the following settings in order to reproduce any error or warning you see on this page. |
| Package 1853/2041 | Hostname | OS / Arch | INSTALL | BUILD | CHECK | BUILD BIN | ||||||||
| staRank 1.34.0 (landing page) Juliane Siebourg
| nebbiolo1 | Linux (Ubuntu 20.04.2 LTS) / x86_64 | OK | OK | OK | |||||||||
| tokay2 | Windows Server 2012 R2 Standard / x64 | OK | OK | OK | OK | |||||||||
| machv2 | macOS 10.14.6 Mojave / x86_64 | OK | OK | OK | OK | |||||||||
| Package: staRank |
| Version: 1.34.0 |
| Command: rm -rf staRank.buildbin-libdir && mkdir staRank.buildbin-libdir && C:\Users\biocbuild\bbs-3.13-bioc\R\bin\R.exe CMD INSTALL --merge-multiarch --build --library=staRank.buildbin-libdir staRank_1.34.0.tar.gz |
| StartedAt: 2021-10-15 12:01:14 -0400 (Fri, 15 Oct 2021) |
| EndedAt: 2021-10-15 12:02:28 -0400 (Fri, 15 Oct 2021) |
| EllapsedTime: 73.9 seconds |
| RetCode: 0 |
| Status: OK |
| PackageFile: staRank_1.34.0.zip |
| PackageFileSize: 1.121 MiB |
##############################################################################
##############################################################################
###
### Running command:
###
### rm -rf staRank.buildbin-libdir && mkdir staRank.buildbin-libdir && C:\Users\biocbuild\bbs-3.13-bioc\R\bin\R.exe CMD INSTALL --merge-multiarch --build --library=staRank.buildbin-libdir staRank_1.34.0.tar.gz
###
##############################################################################
##############################################################################
install for i386
* installing *source* package 'staRank' ...
** using staged installation
** R
** data
** inst
** byte-compile and prepare package for lazy loading
** help
*** installing help indices
converting help for package 'staRank'
finding HTML links ... done
Pi-methods html
RankSummary-class html
aggregRank html
avrgRank-methods html
baseRank-methods html
dataFormatRSA html
getRankmatrix html
getSampleScores-methods html
getStability html
method-methods html
mwTest2samp html
rankCor-methods html
runRSA html
salmonellaInfection html
salmonellaStability html
show-methods html
staRank-package html
stabRank-methods html
stabilityRanking-methods html
stableSetSize-methods html
summary-methods html
summaryStats-methods html
uniqueRSARanking html
** building package indices
** installing vignettes
** testing if installed package can be loaded from temporary location
** testing if installed package can be loaded from final location
** testing if installed package keeps a record of temporary installation path
install for x64
* installing *source* package 'staRank' ...
** testing if installed package can be loaded
* MD5 sums
packaged installation of 'staRank' as staRank_1.34.0.zip
* DONE (staRank)