| Back to Multiple platform build/check report for BioC 3.13 |
|
This page was generated on 2021-10-15 15:06:24 -0400 (Fri, 15 Oct 2021).
|
To the developers/maintainers of the ssviz package: - Please allow up to 24 hours (and sometimes 48 hours) for your latest push to git@git.bioconductor.org:packages/ssviz.git to reflect on this report. See How and When does the builder pull? When will my changes propagate? here for more information. - Make sure to use the following settings in order to reproduce any error or warning you see on this page. |
| Package 1850/2041 | Hostname | OS / Arch | INSTALL | BUILD | CHECK | BUILD BIN | ||||||||
| ssviz 1.26.0 (landing page) Diana Low
| nebbiolo1 | Linux (Ubuntu 20.04.2 LTS) / x86_64 | OK | OK | OK | |||||||||
| tokay2 | Windows Server 2012 R2 Standard / x64 | OK | OK | OK | OK | |||||||||
| machv2 | macOS 10.14.6 Mojave / x86_64 | OK | OK | OK | OK | |||||||||
| Package: ssviz |
| Version: 1.26.0 |
| Command: C:\cygwin\bin\curl.exe -O http://155.52.207.165/BBS/3.13/bioc/src/contrib/ssviz_1.26.0.tar.gz && rm -rf ssviz.buildbin-libdir && mkdir ssviz.buildbin-libdir && C:\Users\biocbuild\bbs-3.13-bioc\R\bin\R.exe CMD INSTALL --merge-multiarch --build --library=ssviz.buildbin-libdir ssviz_1.26.0.tar.gz && C:\Users\biocbuild\bbs-3.13-bioc\R\bin\R.exe CMD INSTALL ssviz_1.26.0.zip && rm ssviz_1.26.0.tar.gz ssviz_1.26.0.zip |
| StartedAt: 2021-10-14 08:30:53 -0400 (Thu, 14 Oct 2021) |
| EndedAt: 2021-10-14 08:31:44 -0400 (Thu, 14 Oct 2021) |
| EllapsedTime: 51.0 seconds |
| RetCode: 0 |
| Status: OK |
##############################################################################
##############################################################################
###
### Running command:
###
### C:\cygwin\bin\curl.exe -O http://155.52.207.165/BBS/3.13/bioc/src/contrib/ssviz_1.26.0.tar.gz && rm -rf ssviz.buildbin-libdir && mkdir ssviz.buildbin-libdir && C:\Users\biocbuild\bbs-3.13-bioc\R\bin\R.exe CMD INSTALL --merge-multiarch --build --library=ssviz.buildbin-libdir ssviz_1.26.0.tar.gz && C:\Users\biocbuild\bbs-3.13-bioc\R\bin\R.exe CMD INSTALL ssviz_1.26.0.zip && rm ssviz_1.26.0.tar.gz ssviz_1.26.0.zip
###
##############################################################################
##############################################################################
% Total % Received % Xferd Average Speed Time Time Time Current
Dload Upload Total Spent Left Speed
0 0 0 0 0 0 0 0 --:--:-- --:--:-- --:--:-- 0
0 0 0 0 0 0 0 0 --:--:-- --:--:-- --:--:-- 0
100 822k 100 822k 0 0 1621k 0 --:--:-- --:--:-- --:--:-- 1622k
install for i386
* installing *source* package 'ssviz' ...
** using staged installation
** R
** data
** inst
** byte-compile and prepare package for lazy loading
** help
*** installing help indices
converting help for package 'ssviz'
finding HTML links ... done
counts html
ctrlbam html
getCountMatrix-methods html
getCountMatrix html
logicalORmissing-class html
ntfreq-methods html
ntfreq html
pctrlbam html
pingpong-methods html
pingpong html
plotDistro-methods html
plotDistro html
plotFreq-methods html
plotFreq html
plotPP-methods html
plotPP html
plotRegion-methods html
plotRegion html
ptreatbam html
readBam-methods html
readBam html
ssviz-package html
treatbam html
** building package indices
** installing vignettes
** testing if installed package can be loaded from temporary location
** testing if installed package can be loaded from final location
** testing if installed package keeps a record of temporary installation path
install for x64
* installing *source* package 'ssviz' ...
** testing if installed package can be loaded
* MD5 sums
packaged installation of 'ssviz' as ssviz_1.26.0.zip
* DONE (ssviz)
* installing to library 'C:/Users/biocbuild/bbs-3.13-bioc/R/library'
package 'ssviz' successfully unpacked and MD5 sums checked