| Back to Multiple platform build/check report for BioC 3.13 | 
 | 
This page was generated on 2021-10-15 15:06:24 -0400 (Fri, 15 Oct 2021).
| To the developers/maintainers of the ssPATHS package: - Please allow up to 24 hours (and sometimes 48 hours) for your latest push to git@git.bioconductor.org:packages/ssPATHS.git to reflect on this report. See How and When does the builder pull? When will my changes propagate? here for more information. - Make sure to use the following settings in order to reproduce any error or warning you see on this page. | 
| Package 1848/2041 | Hostname | OS / Arch | INSTALL | BUILD | CHECK | BUILD BIN | ||||||||
| ssPATHS 1.6.0  (landing page) Natalie R. Davidson 
 | nebbiolo1 | Linux (Ubuntu 20.04.2 LTS) / x86_64 | OK | OK | OK |  | ||||||||
| tokay2 | Windows Server 2012 R2 Standard / x64 | OK | OK | OK | OK |  | ||||||||
| machv2 | macOS 10.14.6 Mojave / x86_64 | OK | OK | OK | OK |  | ||||||||
| Package: ssPATHS | 
| Version: 1.6.0 | 
| Command: C:\cygwin\bin\curl.exe -O http://155.52.207.165/BBS/3.13/bioc/src/contrib/ssPATHS_1.6.0.tar.gz && rm -rf ssPATHS.buildbin-libdir && mkdir ssPATHS.buildbin-libdir && C:\Users\biocbuild\bbs-3.13-bioc\R\bin\R.exe CMD INSTALL --merge-multiarch --build --library=ssPATHS.buildbin-libdir ssPATHS_1.6.0.tar.gz && C:\Users\biocbuild\bbs-3.13-bioc\R\bin\R.exe CMD INSTALL ssPATHS_1.6.0.zip && rm ssPATHS_1.6.0.tar.gz ssPATHS_1.6.0.zip | 
| StartedAt: 2021-10-14 11:19:08 -0400 (Thu, 14 Oct 2021) | 
| EndedAt: 2021-10-14 11:19:55 -0400 (Thu, 14 Oct 2021) | 
| EllapsedTime: 47.5 seconds | 
| RetCode: 0 | 
| Status: OK | 
##############################################################################
##############################################################################
###
### Running command:
###
###   C:\cygwin\bin\curl.exe -O http://155.52.207.165/BBS/3.13/bioc/src/contrib/ssPATHS_1.6.0.tar.gz && rm -rf ssPATHS.buildbin-libdir && mkdir ssPATHS.buildbin-libdir && C:\Users\biocbuild\bbs-3.13-bioc\R\bin\R.exe CMD INSTALL --merge-multiarch --build --library=ssPATHS.buildbin-libdir ssPATHS_1.6.0.tar.gz && C:\Users\biocbuild\bbs-3.13-bioc\R\bin\R.exe CMD INSTALL ssPATHS_1.6.0.zip && rm ssPATHS_1.6.0.tar.gz ssPATHS_1.6.0.zip
###
##############################################################################
##############################################################################
  % Total    % Received % Xferd  Average Speed   Time    Time     Time  Current
                                 Dload  Upload   Total   Spent    Left  Speed
  0     0    0     0    0     0      0      0 --:--:-- --:--:-- --:--:--     0
  0 3578k    0  3837    0     0  46804      0  0:01:18 --:--:--  0:01:18 46792
 55 3578k   55 1974k    0     0  1858k      0  0:00:01  0:00:01 --:--:-- 1859k
100 3578k  100 3578k    0     0  1849k      0  0:00:01  0:00:01 --:--:-- 1849k
install for i386
* installing *source* package 'ssPATHS' ...
** using staged installation
** R
** data
*** moving datasets to lazyload DB
** byte-compile and prepare package for lazy loading
** help
*** installing help indices
  converting help for package 'ssPATHS'
    finding HTML links ... done
    expected_score_output                   html  
    gene_weights_reference                  html  
    get_classification_accuracy             html  
    get_gene_weights                        html  
    get_hypoxia_genes                       html  
    get_new_samp_score                      html  
    new_samp_df                             html  
    tcga_expr_df                            html  
** building package indices
** installing vignettes
** testing if installed package can be loaded from temporary location
** testing if installed package can be loaded from final location
** testing if installed package keeps a record of temporary installation path
install for x64
* installing *source* package 'ssPATHS' ...
** testing if installed package can be loaded
* MD5 sums
packaged installation of 'ssPATHS' as ssPATHS_1.6.0.zip
* DONE (ssPATHS)
* installing to library 'C:/Users/biocbuild/bbs-3.13-bioc/R/library'
package 'ssPATHS' successfully unpacked and MD5 sums checked