| Back to Multiple platform build/check report for BioC 3.13 |
|
This page was generated on 2021-10-15 15:06:23 -0400 (Fri, 15 Oct 2021).
|
To the developers/maintainers of the specL package: - Please allow up to 24 hours (and sometimes 48 hours) for your latest push to git@git.bioconductor.org:packages/specL.git to reflect on this report. See How and When does the builder pull? When will my changes propagate? here for more information. - Make sure to use the following settings in order to reproduce any error or warning you see on this page. |
| Package 1818/2041 | Hostname | OS / Arch | INSTALL | BUILD | CHECK | BUILD BIN | ||||||||
| specL 1.26.0 (landing page) Christian Panse
| nebbiolo1 | Linux (Ubuntu 20.04.2 LTS) / x86_64 | OK | OK | OK | |||||||||
| tokay2 | Windows Server 2012 R2 Standard / x64 | OK | OK | OK | OK | |||||||||
| machv2 | macOS 10.14.6 Mojave / x86_64 | OK | OK | OK | OK | |||||||||
| Package: specL |
| Version: 1.26.0 |
| Command: rm -rf specL.buildbin-libdir && mkdir specL.buildbin-libdir && C:\Users\biocbuild\bbs-3.13-bioc\R\bin\R.exe CMD INSTALL --merge-multiarch --build --library=specL.buildbin-libdir specL_1.26.0.tar.gz |
| StartedAt: 2021-10-15 11:56:32 -0400 (Fri, 15 Oct 2021) |
| EndedAt: 2021-10-15 11:58:03 -0400 (Fri, 15 Oct 2021) |
| EllapsedTime: 91.6 seconds |
| RetCode: 0 |
| Status: OK |
| PackageFile: specL_1.26.0.zip |
| PackageFileSize: 1.396 MiB |
##############################################################################
##############################################################################
###
### Running command:
###
### rm -rf specL.buildbin-libdir && mkdir specL.buildbin-libdir && C:\Users\biocbuild\bbs-3.13-bioc\R\bin\R.exe CMD INSTALL --merge-multiarch --build --library=specL.buildbin-libdir specL_1.26.0.tar.gz
###
##############################################################################
##############################################################################
install for i386
* installing *source* package 'specL' ...
** using staged installation
** R
** data
*** moving datasets to lazyload DB
** inst
** byte-compile and prepare package for lazy loading
** help
*** installing help indices
converting help for package 'specL'
finding HTML links ... done
annotate.protein_id html
cdsw html
genSwathIonLib html
REDIRECT:topic Previous alias or file overwritten by alias: C:/Users/biocbuild/bbs-3.13-bioc/meat/specL.buildbin-libdir/00LOCK-specL/00new/specL/help/swath.html
iRTpeptides html
REDIRECT:topic Previous alias or file overwritten by alias: C:/Users/biocbuild/bbs-3.13-bioc/meat/specL.buildbin-libdir/00LOCK-specL/00new/specL/help/iRT.html
ms1.p2069 html
peptideStd html
plot-methods html
read.bibliospec html
REDIRECT:topic Previous alias or file overwritten by alias: C:/Users/biocbuild/bbs-3.13-bioc/meat/specL.buildbin-libdir/00LOCK-specL/00new/specL/help/BiblioSpec.html
REDIRECT:topic Previous alias or file overwritten by alias: C:/Users/biocbuild/bbs-3.13-bioc/meat/specL.buildbin-libdir/00LOCK-specL/00new/specL/help/Skyline.html
show-methods html
specL-class html
specLSet-class html
write.spectronaut-methods html
** building package indices
** installing vignettes
** testing if installed package can be loaded from temporary location
** testing if installed package can be loaded from final location
** testing if installed package keeps a record of temporary installation path
install for x64
* installing *source* package 'specL' ...
** testing if installed package can be loaded
* MD5 sums
packaged installation of 'specL' as specL_1.26.0.zip
* DONE (specL)