| Back to Multiple platform build/check report for BioC 3.13 | 
  | 
This page was generated on 2021-10-15 15:06:23 -0400 (Fri, 15 Oct 2021).
| 
To the developers/maintainers of the soGGi package: - Please allow up to 24 hours (and sometimes 48 hours) for your latest push to git@git.bioconductor.org:packages/soGGi.git to reflect on this report. See How and When does the builder pull? When will my changes propagate? here for more information. - Make sure to use the following settings in order to reproduce any error or warning you see on this page.  | 
| Package 1804/2041 | Hostname | OS / Arch | INSTALL | BUILD | CHECK | BUILD BIN | ||||||||
| soGGi 1.24.1  (landing page) Tom Carroll 
  | nebbiolo1 | Linux (Ubuntu 20.04.2 LTS) / x86_64 | OK | OK | OK | |||||||||
| tokay2 | Windows Server 2012 R2 Standard / x64 | OK | OK | OK | OK | |||||||||
| machv2 | macOS 10.14.6 Mojave / x86_64 | OK | OK | OK | OK | |||||||||
| Package: soGGi | 
| Version: 1.24.1 | 
| Command: chmod a+r soGGi -R && C:\Users\biocbuild\bbs-3.13-bioc\R\bin\R.exe CMD build --keep-empty-dirs --no-resave-data soGGi | 
| StartedAt: 2021-10-14 18:26:36 -0400 (Thu, 14 Oct 2021) | 
| EndedAt: 2021-10-14 18:28:26 -0400 (Thu, 14 Oct 2021) | 
| EllapsedTime: 109.9 seconds | 
| RetCode: 0 | 
| Status: OK | 
| PackageFile: soGGi_1.24.1.tar.gz | 
| PackageFileSize: 3.055 MiB | 
##############################################################################
##############################################################################
###
### Running command:
###
###   chmod a+r soGGi -R && C:\Users\biocbuild\bbs-3.13-bioc\R\bin\R.exe CMD build --keep-empty-dirs --no-resave-data soGGi
###
##############################################################################
##############################################################################
* checking for file 'soGGi/DESCRIPTION' ... OK
* preparing 'soGGi':
* checking DESCRIPTION meta-information ... OK
* installing the package to build vignettes
* creating vignettes ... OK
Warning: 'inst/doc' files
    'soggi.Rnw', 'soggi.pdf'
  ignored as vignettes have been rebuilt.
  Run R CMD build with --no-build-vignettes to prevent rebuilding.
* checking for LF line-endings in source and make files and shell scripts
* checking for empty or unneeded directories
* looking to see if a 'data/datalist' file should be added
* building 'soGGi_1.24.1.tar.gz'