| Back to Multiple platform build/check report for BioC 3.13 |
|
This page was generated on 2021-10-15 15:05:53 -0400 (Fri, 15 Oct 2021).
|
To the developers/maintainers of the snapcount package: - Please allow up to 24 hours (and sometimes 48 hours) for your latest push to git@git.bioconductor.org:packages/snapcount.git to reflect on this report. See How and When does the builder pull? When will my changes propagate? here for more information. - Make sure to use the following settings in order to reproduce any error or warning you see on this page. |
| Package 1797/2041 | Hostname | OS / Arch | INSTALL | BUILD | CHECK | BUILD BIN | ||||||||
| snapcount 1.4.0 (landing page) Rone Charles
| nebbiolo1 | Linux (Ubuntu 20.04.2 LTS) / x86_64 | OK | OK | OK | |||||||||
| tokay2 | Windows Server 2012 R2 Standard / x64 | OK | OK | OK | OK | |||||||||
| machv2 | macOS 10.14.6 Mojave / x86_64 | OK | OK | OK | OK | |||||||||
| Package: snapcount |
| Version: 1.4.0 |
| Command: /home/biocbuild/bbs-3.13-bioc/R/bin/R CMD check --install=check:snapcount.install-out.txt --library=/home/biocbuild/bbs-3.13-bioc/R/library --no-vignettes --timings snapcount_1.4.0.tar.gz |
| StartedAt: 2021-10-14 11:40:40 -0400 (Thu, 14 Oct 2021) |
| EndedAt: 2021-10-14 11:45:34 -0400 (Thu, 14 Oct 2021) |
| EllapsedTime: 293.3 seconds |
| RetCode: 0 |
| Status: OK |
| CheckDir: snapcount.Rcheck |
| Warnings: 0 |
##############################################################################
##############################################################################
###
### Running command:
###
### /home/biocbuild/bbs-3.13-bioc/R/bin/R CMD check --install=check:snapcount.install-out.txt --library=/home/biocbuild/bbs-3.13-bioc/R/library --no-vignettes --timings snapcount_1.4.0.tar.gz
###
##############################################################################
##############################################################################
* using log directory ‘/home/biocbuild/bbs-3.13-bioc/meat/snapcount.Rcheck’
* using R version 4.1.1 (2021-08-10)
* using platform: x86_64-pc-linux-gnu (64-bit)
* using session charset: UTF-8
* using option ‘--no-vignettes’
* checking for file ‘snapcount/DESCRIPTION’ ... OK
* checking extension type ... Package
* this is package ‘snapcount’ version ‘1.4.0’
* package encoding: UTF-8
* checking package namespace information ... OK
* checking package dependencies ... OK
* checking if this is a source package ... OK
* checking if there is a namespace ... OK
* checking for hidden files and directories ... OK
* checking for portable file names ... OK
* checking for sufficient/correct file permissions ... OK
* checking whether package ‘snapcount’ can be installed ... OK
* checking installed package size ... OK
* checking package directory ... OK
* checking ‘build’ directory ... OK
* checking DESCRIPTION meta-information ... OK
* checking top-level files ... OK
* checking for left-over files ... OK
* checking index information ... OK
* checking package subdirectories ... OK
* checking R files for non-ASCII characters ... OK
* checking R files for syntax errors ... OK
* checking whether the package can be loaded ... OK
* checking whether the package can be loaded with stated dependencies ... OK
* checking whether the package can be unloaded cleanly ... OK
* checking whether the namespace can be loaded with stated dependencies ... OK
* checking whether the namespace can be unloaded cleanly ... OK
* checking dependencies in R code ... OK
* checking S3 generic/method consistency ... OK
* checking replacement functions ... OK
* checking foreign function calls ... OK
* checking R code for possible problems ... OK
* checking Rd files ... OK
* checking Rd metadata ... OK
* checking Rd cross-references ... OK
* checking for missing documentation entries ... OK
* checking for code/documentation mismatches ... OK
* checking Rd \usage sections ... OK
* checking Rd contents ... OK
* checking for unstated dependencies in examples ... OK
* checking files in ‘vignettes’ ... OK
* checking examples ... OK
Examples with CPU (user + system) or elapsed time > 5s
user system elapsed
junction_intersection 8.328 0.984 13.360
junction_union 3.564 0.184 5.481
Compilation 2.829 0.132 6.059
* checking for unstated dependencies in ‘tests’ ... OK
* checking tests ...
Running ‘testthat.R’
OK
* checking for unstated dependencies in vignettes ... OK
* checking package vignettes in ‘inst/doc’ ... OK
* checking running R code from vignettes ... SKIPPED
* checking re-building of vignette outputs ... SKIPPED
* checking PDF version of manual ... OK
* DONE
Status: OK
snapcount.Rcheck/00install.out
############################################################################## ############################################################################## ### ### Running command: ### ### /home/biocbuild/bbs-3.13-bioc/R/bin/R CMD INSTALL snapcount ### ############################################################################## ############################################################################## * installing to library ‘/home/biocbuild/bbs-3.13-bioc/R/library’ * installing *source* package ‘snapcount’ ... ** using staged installation ** R ** inst ** byte-compile and prepare package for lazy loading ** help *** installing help indices ** building package indices ** installing vignettes ** testing if installed package can be loaded from temporary location ** testing if installed package can be loaded from final location ** testing if installed package keeps a record of temporary installation path * DONE (snapcount)
snapcount.Rcheck/tests/testthat.Rout
R version 4.1.1 (2021-08-10) -- "Kick Things"
Copyright (C) 2021 The R Foundation for Statistical Computing
Platform: x86_64-pc-linux-gnu (64-bit)
R is free software and comes with ABSOLUTELY NO WARRANTY.
You are welcome to redistribute it under certain conditions.
Type 'license()' or 'licence()' for distribution details.
R is a collaborative project with many contributors.
Type 'contributors()' for more information and
'citation()' on how to cite R or R packages in publications.
Type 'demo()' for some demos, 'help()' for on-line help, or
'help.start()' for an HTML browser interface to help.
Type 'q()' to quit R.
> library(testthat)
> library(snapcount)
>
> test_check("snapcount")
Read 2 items
[ FAIL 0 | WARN 0 | SKIP 0 | PASS 82 ]
>
> proc.time()
user system elapsed
10.375 0.641 71.268
snapcount.Rcheck/snapcount-Ex.timings
| name | user | system | elapsed | |
| Compilation | 2.829 | 0.132 | 6.059 | |
| Coordinates | 0.015 | 0.002 | 0.018 | |
| QueryBuilder | 0.128 | 0.012 | 0.141 | |
| from_url | 0.002 | 0.008 | 1.394 | |
| get_column_filters | 0.107 | 0.029 | 0.135 | |
| get_compilation | 0.001 | 0.000 | 0.001 | |
| get_coordinate_modifier | 0.001 | 0.000 | 0.001 | |
| get_regions | 0.060 | 0.007 | 0.069 | |
| get_row_filters | 0.002 | 0.001 | 0.002 | |
| get_sids | 0.001 | 0.000 | 0.001 | |
| junction_inclusion_ratio | 0.194 | 0.012 | 2.524 | |
| junction_intersection | 8.328 | 0.984 | 13.360 | |
| junction_union | 3.564 | 0.184 | 5.481 | |
| percent_spliced_in | 0.091 | 0.001 | 3.353 | |
| query_jx | 0.910 | 0.008 | 3.164 | |
| shared_sample_counts | 0.173 | 0.000 | 1.969 | |
| tissue_specificity | 0.050 | 0.004 | 1.861 | |
| uri_of_last_successful_request | 1.125 | 0.051 | 2.830 | |