| Back to Multiple platform build/check report for BioC 3.13 |
|
This page was generated on 2021-10-15 15:06:53 -0400 (Fri, 15 Oct 2021).
|
To the developers/maintainers of the snapCGH package: - Please allow up to 24 hours (and sometimes 48 hours) for your latest push to git@git.bioconductor.org:packages/snapCGH.git to reflect on this report. See How and When does the builder pull? When will my changes propagate? here for more information. - Make sure to use the following settings in order to reproduce any error or warning you see on this page. |
| Package 1796/2041 | Hostname | OS / Arch | INSTALL | BUILD | CHECK | BUILD BIN | ||||||||
| snapCGH 1.62.0 (landing page) John Marioni
| nebbiolo1 | Linux (Ubuntu 20.04.2 LTS) / x86_64 | OK | OK | OK | |||||||||
| tokay2 | Windows Server 2012 R2 Standard / x64 | OK | OK | OK | OK | |||||||||
| machv2 | macOS 10.14.6 Mojave / x86_64 | OK | OK | OK | OK | |||||||||
| Package: snapCGH |
| Version: 1.62.0 |
| Command: /Library/Frameworks/R.framework/Versions/Current/Resources/bin/R CMD INSTALL snapCGH |
| StartedAt: 2021-10-14 09:24:49 -0400 (Thu, 14 Oct 2021) |
| EndedAt: 2021-10-14 09:25:29 -0400 (Thu, 14 Oct 2021) |
| EllapsedTime: 40.5 seconds |
| RetCode: 0 |
| Status: OK |
##############################################################################
##############################################################################
###
### Running command:
###
### /Library/Frameworks/R.framework/Versions/Current/Resources/bin/R CMD INSTALL snapCGH
###
##############################################################################
##############################################################################
* installing to library ‘/Library/Frameworks/R.framework/Versions/4.1/Resources/library’
* installing *source* package ‘snapCGH’ ...
** using staged installation
** libs
clang -mmacosx-version-min=10.13 -I"/Library/Frameworks/R.framework/Resources/include" -DNDEBUG -I/usr/local/include -fPIC -Wall -g -O2 -c optimizer.c -o optimizer.o
optimizer.c:26:23: warning: unused variable 'temp2' [-Wunused-variable]
double denom, temp, temp2, temp3;
^
optimizer.c:26:10: warning: unused variable 'denom' [-Wunused-variable]
double denom, temp, temp2, temp3;
^
optimizer.c:26:30: warning: unused variable 'temp3' [-Wunused-variable]
double denom, temp, temp2, temp3;
^
optimizer.c:194:69: warning: unused variable 'alphahat' [-Wunused-variable]
double gammaA[3][3], gammaB[3][3], gammaC[3][3], alpha[3][nrow1], alphahat[3][nrow1], emis_prob[3][nrow1];
^
optimizer.c:195:10: warning: unused variable 'denom' [-Wunused-variable]
double denom, temp, temp2, temp3;
^
optimizer.c:195:23: warning: unused variable 'temp2' [-Wunused-variable]
double denom, temp, temp2, temp3;
^
optimizer.c:195:30: warning: unused variable 'temp3' [-Wunused-variable]
double denom, temp, temp2, temp3;
^
optimizer.c:413:10: warning: unused variable 'denom' [-Wunused-variable]
double denom, temp, temp2, temp3;
^
optimizer.c:412:69: warning: unused variable 'alphahat' [-Wunused-variable]
double gammaA[4][4], gammaB[4][4], gammaC[4][4], alpha[4][nrow1], alphahat[4][nrow1], emis_prob[4][nrow1];
^
optimizer.c:413:30: warning: unused variable 'temp3' [-Wunused-variable]
double denom, temp, temp2, temp3;
^
optimizer.c:413:23: warning: unused variable 'temp2' [-Wunused-variable]
double denom, temp, temp2, temp3;
^
optimizer.c:687:30: warning: unused variable 'temp3' [-Wunused-variable]
double denom, temp, temp2, temp3;
^
optimizer.c:687:10: warning: unused variable 'denom' [-Wunused-variable]
double denom, temp, temp2, temp3;
^
optimizer.c:687:23: warning: unused variable 'temp2' [-Wunused-variable]
double denom, temp, temp2, temp3;
^
optimizer.c:686:69: warning: unused variable 'alphahat' [-Wunused-variable]
double gammaA[5][5], gammaB[5][5], gammaC[5][5], alpha[5][nrow1], alphahat[5][nrow1], emis_prob[5][nrow1];
^
15 warnings generated.
clang -mmacosx-version-min=10.13 -dynamiclib -Wl,-headerpad_max_install_names -undefined dynamic_lookup -single_module -multiply_defined suppress -L/Library/Frameworks/R.framework/Resources/lib -L/usr/local/lib -o snapCGH.so optimizer.o -F/Library/Frameworks/R.framework/.. -framework R -Wl,-framework -Wl,CoreFoundation
installing to /Library/Frameworks/R.framework/Versions/4.1/Resources/library/00LOCK-snapCGH/00new/snapCGH/libs
** R
** inst
** byte-compile and prepare package for lazy loading
** help
*** installing help indices
** building package indices
** installing vignettes
** testing if installed package can be loaded from temporary location
** checking absolute paths in shared objects and dynamic libraries
** testing if installed package can be loaded from final location
** testing if installed package keeps a record of temporary installation path
* DONE (snapCGH)