Back to Multiple platform build/check report for BioC 3.13 |
|
This page was generated on 2021-10-15 15:06:23 -0400 (Fri, 15 Oct 2021).
To the developers/maintainers of the sizepower package: - Please allow up to 24 hours (and sometimes 48 hours) for your latest push to git@git.bioconductor.org:packages/sizepower.git to reflect on this report. See How and When does the builder pull? When will my changes propagate? here for more information. - Make sure to use the following settings in order to reproduce any error or warning you see on this page. |
Package 1785/2041 | Hostname | OS / Arch | INSTALL | BUILD | CHECK | BUILD BIN | ||||||||
sizepower 1.62.0 (landing page) Weiliang Qiu
| nebbiolo1 | Linux (Ubuntu 20.04.2 LTS) / x86_64 | OK | OK | OK | ![]() | ||||||||
tokay2 | Windows Server 2012 R2 Standard / x64 | OK | OK | OK | OK | ![]() | ||||||||
machv2 | macOS 10.14.6 Mojave / x86_64 | OK | OK | OK | OK | ![]() | ||||||||
Package: sizepower |
Version: 1.62.0 |
Command: C:\cygwin\bin\curl.exe -O http://155.52.207.165/BBS/3.13/bioc/src/contrib/sizepower_1.62.0.tar.gz && rm -rf sizepower.buildbin-libdir && mkdir sizepower.buildbin-libdir && C:\Users\biocbuild\bbs-3.13-bioc\R\bin\R.exe CMD INSTALL --merge-multiarch --build --library=sizepower.buildbin-libdir sizepower_1.62.0.tar.gz && C:\Users\biocbuild\bbs-3.13-bioc\R\bin\R.exe CMD INSTALL sizepower_1.62.0.zip && rm sizepower_1.62.0.tar.gz sizepower_1.62.0.zip |
StartedAt: 2021-10-14 07:00:06 -0400 (Thu, 14 Oct 2021) |
EndedAt: 2021-10-14 07:01:08 -0400 (Thu, 14 Oct 2021) |
EllapsedTime: 62.1 seconds |
RetCode: 0 |
Status: OK |
############################################################################## ############################################################################## ### ### Running command: ### ### C:\cygwin\bin\curl.exe -O http://155.52.207.165/BBS/3.13/bioc/src/contrib/sizepower_1.62.0.tar.gz && rm -rf sizepower.buildbin-libdir && mkdir sizepower.buildbin-libdir && C:\Users\biocbuild\bbs-3.13-bioc\R\bin\R.exe CMD INSTALL --merge-multiarch --build --library=sizepower.buildbin-libdir sizepower_1.62.0.tar.gz && C:\Users\biocbuild\bbs-3.13-bioc\R\bin\R.exe CMD INSTALL sizepower_1.62.0.zip && rm sizepower_1.62.0.tar.gz sizepower_1.62.0.zip ### ############################################################################## ############################################################################## % Total % Received % Xferd Average Speed Time Time Time Current Dload Upload Total Spent Left Speed 0 0 0 0 0 0 0 0 --:--:-- --:--:-- --:--:-- 0 100 9285 100 9285 0 0 113k 0 --:--:-- --:--:-- --:--:-- 114k install for i386 * installing *source* package 'sizepower' ... ** using staged installation ** R ** byte-compile and prepare package for lazy loading ** help *** installing help indices converting help for package 'sizepower' finding HTML links ... done powerMatched html powerMulti html powerRandomized html sampleSizeMatched html sampleSizeRandomized html ** building package indices ** installing vignettes ** testing if installed package can be loaded from temporary location ** testing if installed package can be loaded from final location ** testing if installed package keeps a record of temporary installation path install for x64 * installing *source* package 'sizepower' ... ** testing if installed package can be loaded * MD5 sums packaged installation of 'sizepower' as sizepower_1.62.0.zip * DONE (sizepower) * installing to library 'C:/Users/biocbuild/bbs-3.13-bioc/R/library' package 'sizepower' successfully unpacked and MD5 sums checked