| Back to Multiple platform build/check report for BioC 3.13 |
|
This page was generated on 2021-10-15 15:05:53 -0400 (Fri, 15 Oct 2021).
|
To the developers/maintainers of the sitePath package: - Please allow up to 24 hours (and sometimes 48 hours) for your latest push to git@git.bioconductor.org:packages/sitePath.git to reflect on this report. See How and When does the builder pull? When will my changes propagate? here for more information. - Make sure to use the following settings in order to reproduce any error or warning you see on this page. |
| Package 1784/2041 | Hostname | OS / Arch | INSTALL | BUILD | CHECK | BUILD BIN | ||||||||
| sitePath 1.8.4 (landing page) Chengyang Ji
| nebbiolo1 | Linux (Ubuntu 20.04.2 LTS) / x86_64 | OK | OK | OK | |||||||||
| tokay2 | Windows Server 2012 R2 Standard / x64 | OK | OK | OK | OK | |||||||||
| machv2 | macOS 10.14.6 Mojave / x86_64 | OK | OK | OK | OK | |||||||||
| Package: sitePath |
| Version: 1.8.4 |
| Command: /home/biocbuild/bbs-3.13-bioc/R/bin/R CMD check --install=check:sitePath.install-out.txt --library=/home/biocbuild/bbs-3.13-bioc/R/library --no-vignettes --timings sitePath_1.8.4.tar.gz |
| StartedAt: 2021-10-14 11:39:34 -0400 (Thu, 14 Oct 2021) |
| EndedAt: 2021-10-14 11:46:16 -0400 (Thu, 14 Oct 2021) |
| EllapsedTime: 402.9 seconds |
| RetCode: 0 |
| Status: OK |
| CheckDir: sitePath.Rcheck |
| Warnings: 0 |
##############################################################################
##############################################################################
###
### Running command:
###
### /home/biocbuild/bbs-3.13-bioc/R/bin/R CMD check --install=check:sitePath.install-out.txt --library=/home/biocbuild/bbs-3.13-bioc/R/library --no-vignettes --timings sitePath_1.8.4.tar.gz
###
##############################################################################
##############################################################################
* using log directory ‘/home/biocbuild/bbs-3.13-bioc/meat/sitePath.Rcheck’
* using R version 4.1.1 (2021-08-10)
* using platform: x86_64-pc-linux-gnu (64-bit)
* using session charset: UTF-8
* using option ‘--no-vignettes’
* checking for file ‘sitePath/DESCRIPTION’ ... OK
* checking extension type ... Package
* this is package ‘sitePath’ version ‘1.8.4’
* package encoding: UTF-8
* checking package namespace information ... OK
* checking package dependencies ... OK
* checking if this is a source package ... OK
* checking if there is a namespace ... OK
* checking for hidden files and directories ... OK
* checking for portable file names ... OK
* checking for sufficient/correct file permissions ... OK
* checking whether package ‘sitePath’ can be installed ... OK
* checking installed package size ... OK
* checking package directory ... OK
* checking ‘build’ directory ... OK
* checking DESCRIPTION meta-information ... OK
* checking top-level files ... OK
* checking for left-over files ... OK
* checking index information ... OK
* checking package subdirectories ... OK
* checking R files for non-ASCII characters ... OK
* checking R files for syntax errors ... OK
* checking whether the package can be loaded ... OK
* checking whether the package can be loaded with stated dependencies ... OK
* checking whether the package can be unloaded cleanly ... OK
* checking whether the namespace can be loaded with stated dependencies ... OK
* checking whether the namespace can be unloaded cleanly ... OK
* checking dependencies in R code ... OK
* checking S3 generic/method consistency ... OK
* checking replacement functions ... OK
* checking foreign function calls ... OK
* checking R code for possible problems ... NOTE
.createSNPplot: no visible binding for global variable ‘Pos’
.createSNPplot: no visible binding for global variable ‘Accession’
.createSNPplot: no visible binding for global variable ‘SNP’
plot.fixationPath: no visible binding for global variable ‘branch’
plot.fixationPath: no visible binding for global variable ‘SNPs’
plot.fixationSites: no visible binding for global variable ‘group’
plot.fixationSites: no visible binding for global variable ‘branch’
plot.fixationSites: no visible binding for global variable ‘SNPs’
plot.parallelSites: no visible binding for global variable ‘branch’
plot.parallelSites: no visible binding for global variable ‘SNPs’
plot.sitePath: no visible binding for global variable ‘branch’
plot.sitePath: no visible binding for global variable ‘SNPs’
plotMutSites.lineagePath: no visible binding for global variable ‘node’
plotMutSites.paraFixSites: no visible binding for global variable
‘group’
plotMutSites.paraFixSites: no visible binding for global variable
‘branch’
plotMutSites.paraFixSites: no visible binding for global variable
‘SNPs’
plotSingleSite.parallelSites: no visible binding for global variable
‘branch’
plotSingleSite.parallelSites: no visible binding for global variable
‘SNPs’
Undefined global functions or variables:
Accession Pos SNP SNPs branch group node
* checking Rd files ... OK
* checking Rd metadata ... OK
* checking Rd cross-references ... OK
* checking for missing documentation entries ... OK
* checking for code/documentation mismatches ... OK
* checking Rd \usage sections ... OK
* checking Rd contents ... OK
* checking for unstated dependencies in examples ... OK
* checking contents of ‘data’ directory ... OK
* checking data for non-ASCII characters ... OK
* checking data for ASCII and uncompressed saves ... OK
* checking line endings in C/C++/Fortran sources/headers ... OK
* checking compiled code ... NOTE
Note: information on .o files is not available
* checking files in ‘vignettes’ ... OK
* checking examples ... OK
Examples with CPU (user + system) or elapsed time > 5s
user system elapsed
plotFunctions 14.741 0.036 14.779
plotSingleSite 7.475 0.004 7.480
* checking for unstated dependencies in ‘tests’ ... OK
* checking tests ...
Running ‘testthat.R’
OK
* checking for unstated dependencies in vignettes ... OK
* checking package vignettes in ‘inst/doc’ ... OK
* checking running R code from vignettes ... SKIPPED
* checking re-building of vignette outputs ... SKIPPED
* checking PDF version of manual ... OK
* DONE
Status: 2 NOTEs
See
‘/home/biocbuild/bbs-3.13-bioc/meat/sitePath.Rcheck/00check.log’
for details.
sitePath.Rcheck/00install.out
##############################################################################
##############################################################################
###
### Running command:
###
### /home/biocbuild/bbs-3.13-bioc/R/bin/R CMD INSTALL sitePath
###
##############################################################################
##############################################################################
* installing to library ‘/home/biocbuild/bbs-3.13-bioc/R/library’
* installing *source* package ‘sitePath’ ...
** using staged installation
** libs
g++ -std=gnu++14 -I"/home/biocbuild/bbs-3.13-bioc/R/include" -DNDEBUG -I'/home/biocbuild/bbs-3.13-bioc/R/library/Rcpp/include' -I/usr/local/include -fpic -g -O2 -Wall -c RcppExports.cpp -o RcppExports.o
g++ -std=gnu++14 -I"/home/biocbuild/bbs-3.13-bioc/R/include" -DNDEBUG -I'/home/biocbuild/bbs-3.13-bioc/R/library/Rcpp/include' -I/usr/local/include -fpic -g -O2 -Wall -c lumpyCluster.cpp -o lumpyCluster.o
lumpyCluster.cpp: In member function ‘void LumpyCluster::Base::mergeClusters(const clusters&, int)’:
lumpyCluster.cpp:96:24: warning: comparison of integer expressions of different signedness: ‘std::vector<Treemer::TipSeqLinker*>::size_type’ {aka ‘long unsigned int’} and ‘const int’ [-Wsign-compare]
96 | if (allTips.size() >= m_maxSNPnum) {
| ~~~~~~~~~~~~~~~^~~~~~~~~~~~~~
g++ -std=gnu++14 -I"/home/biocbuild/bbs-3.13-bioc/R/include" -DNDEBUG -I'/home/biocbuild/bbs-3.13-bioc/R/library/Rcpp/include' -I/usr/local/include -fpic -g -O2 -Wall -c minEntropy.cpp -o minEntropy.o
g++ -std=gnu++14 -I"/home/biocbuild/bbs-3.13-bioc/R/include" -DNDEBUG -I'/home/biocbuild/bbs-3.13-bioc/R/library/Rcpp/include' -I/usr/local/include -fpic -g -O2 -Wall -c searchNode.cpp -o searchNode.o
g++ -std=gnu++14 -I"/home/biocbuild/bbs-3.13-bioc/R/include" -DNDEBUG -I'/home/biocbuild/bbs-3.13-bioc/R/library/Rcpp/include' -I/usr/local/include -fpic -g -O2 -Wall -c searchTree.cpp -o searchTree.o
g++ -std=gnu++14 -I"/home/biocbuild/bbs-3.13-bioc/R/include" -DNDEBUG -I'/home/biocbuild/bbs-3.13-bioc/R/library/Rcpp/include' -I/usr/local/include -fpic -g -O2 -Wall -c treemer.cpp -o treemer.o
g++ -std=gnu++14 -I"/home/biocbuild/bbs-3.13-bioc/R/include" -DNDEBUG -I'/home/biocbuild/bbs-3.13-bioc/R/library/Rcpp/include' -I/usr/local/include -fpic -g -O2 -Wall -c util.cpp -o util.o
g++ -std=gnu++14 -shared -L/home/biocbuild/bbs-3.13-bioc/R/lib -L/usr/local/lib -o sitePath.so RcppExports.o lumpyCluster.o minEntropy.o searchNode.o searchTree.o treemer.o util.o -L/home/biocbuild/bbs-3.13-bioc/R/lib -lR
installing to /home/biocbuild/bbs-3.13-bioc/R/library/00LOCK-sitePath/00new/sitePath/libs
** R
** data
** inst
** byte-compile and prepare package for lazy loading
** help
*** installing help indices
** building package indices
** installing vignettes
** testing if installed package can be loaded from temporary location
** checking absolute paths in shared objects and dynamic libraries
** testing if installed package can be loaded from final location
** testing if installed package keeps a record of temporary installation path
* DONE (sitePath)
sitePath.Rcheck/tests/testthat.Rout
R version 4.1.1 (2021-08-10) -- "Kick Things"
Copyright (C) 2021 The R Foundation for Statistical Computing
Platform: x86_64-pc-linux-gnu (64-bit)
R is free software and comes with ABSOLUTELY NO WARRANTY.
You are welcome to redistribute it under certain conditions.
Type 'license()' or 'licence()' for distribution details.
R is a collaborative project with many contributors.
Type 'contributors()' for more information and
'citation()' on how to cite R or R packages in publications.
Type 'demo()' for some demos, 'help()' for on-line help, or
'help.start()' for an HTML browser interface to help.
Type 'q()' to quit R.
> library(testthat)
> library(sitePath)
>
> test_check("sitePath")
Using 2 cores..
Multiprocessing ended.
Using 2 cores..
Multiprocessing ended.
[ FAIL 0 | WARN 0 | SKIP 0 | PASS 2309 ]
>
> proc.time()
user system elapsed
234.761 1.771 312.310
sitePath.Rcheck/sitePath-Ex.timings
| name | user | system | elapsed | |
| SNPsites | 0.539 | 0.012 | 0.551 | |
| addMSA | 1.651 | 0.004 | 1.656 | |
| allSitesName | 1.971 | 0.009 | 1.981 | |
| as.data.frame | 1.168 | 0.004 | 1.171 | |
| extractSite | 1.3 | 0.0 | 1.3 | |
| extractTips | 1.26 | 0.00 | 1.26 | |
| fixationIndels | 1.433 | 0.004 | 1.436 | |
| fixationPath | 1.4 | 0.0 | 1.4 | |
| fixationSites | 1.385 | 0.000 | 1.384 | |
| groupTips | 1.567 | 0.011 | 1.578 | |
| lineagePath | 2.693 | 0.164 | 2.858 | |
| paraFixSites | 1.270 | 0.016 | 1.286 | |
| parallelSites | 1.264 | 0.000 | 1.265 | |
| plotFunctions | 14.741 | 0.036 | 14.779 | |
| plotMutSites | 0.941 | 0.000 | 0.942 | |
| plotSingleSite | 7.475 | 0.004 | 7.480 | |
| setSiteNumbering | 1.816 | 0.004 | 1.819 | |
| similarityMatrix | 1.882 | 0.000 | 1.882 | |
| sitesMinEntropy | 1.140 | 0.004 | 1.143 | |