| Back to Multiple platform build/check report for BioC 3.13 |
|
This page was generated on 2021-10-15 15:06:22 -0400 (Fri, 15 Oct 2021).
|
To the developers/maintainers of the seqplots package: - Please allow up to 24 hours (and sometimes 48 hours) for your latest push to git@git.bioconductor.org:packages/seqplots.git to reflect on this report. See How and When does the builder pull? When will my changes propagate? here for more information. - Make sure to use the following settings in order to reproduce any error or warning you see on this page. |
| Package 1740/2041 | Hostname | OS / Arch | INSTALL | BUILD | CHECK | BUILD BIN | ||||||||
Przemyslaw Stempor
| nebbiolo1 | Linux (Ubuntu 20.04.2 LTS) / x86_64 | OK | OK | ERROR | |||||||||
| tokay2 | Windows Server 2012 R2 Standard / x64 | OK | OK | ERROR | OK | |||||||||
| machv2 | macOS 10.14.6 Mojave / x86_64 | OK | OK | ERROR | OK | |||||||||
| Package: seqplots |
| Version: 1.30.0 |
| Command: rm -rf seqplots.buildbin-libdir && mkdir seqplots.buildbin-libdir && C:\Users\biocbuild\bbs-3.13-bioc\R\bin\R.exe CMD INSTALL --merge-multiarch --build --library=seqplots.buildbin-libdir seqplots_1.30.0.tar.gz |
| StartedAt: 2021-10-15 11:45:35 -0400 (Fri, 15 Oct 2021) |
| EndedAt: 2021-10-15 11:46:58 -0400 (Fri, 15 Oct 2021) |
| EllapsedTime: 83.1 seconds |
| RetCode: 0 |
| Status: OK |
| PackageFile: seqplots_1.30.0.zip |
| PackageFileSize: 7.397 MiB |
##############################################################################
##############################################################################
###
### Running command:
###
### rm -rf seqplots.buildbin-libdir && mkdir seqplots.buildbin-libdir && C:\Users\biocbuild\bbs-3.13-bioc\R\bin\R.exe CMD INSTALL --merge-multiarch --build --library=seqplots.buildbin-libdir seqplots_1.30.0.tar.gz
###
##############################################################################
##############################################################################
install for i386
* installing *source* package 'seqplots' ...
** using staged installation
** R
** inst
** byte-compile and prepare package for lazy loading
** help
*** installing help indices
converting help for package 'seqplots'
finding HTML links ... done
MotifSetup-class html
PlotSetArray-class html
PlotSetList-class html
PlotSetPair-class html
add_local_file html
deployServerInstance html
getPlotSetArray html
getREF html
ggHeatmapPlotWrapper html
heatmapPlotWrapper html
imPlot2 html
import.narrowPeak html
num2bp html
num2sci html
plot html
plotAverage html
plotHeatmap html
plotMext html
run html
seqplots-generic html
seqplots html
** building package indices
** installing vignettes
** testing if installed package can be loaded from temporary location
Warning: Package 'seqplots' is deprecated and will be removed from Bioconductor
version 3.14
** testing if installed package can be loaded from final location
Warning: Package 'seqplots' is deprecated and will be removed from Bioconductor
version 3.14
** testing if installed package keeps a record of temporary installation path
install for x64
* installing *source* package 'seqplots' ...
** testing if installed package can be loaded
Warning: Package 'seqplots' is deprecated and will be removed from Bioconductor
version 3.14
* MD5 sums
packaged installation of 'seqplots' as seqplots_1.30.0.zip
* DONE (seqplots)