| Back to Multiple platform build/check report for BioC 3.13 |
|
This page was generated on 2021-10-15 15:06:22 -0400 (Fri, 15 Oct 2021).
|
To the developers/maintainers of the scry package: - Please allow up to 24 hours (and sometimes 48 hours) for your latest push to git@git.bioconductor.org:packages/scry.git to reflect on this report. See How and When does the builder pull? When will my changes propagate? here for more information. - Make sure to use the following settings in order to reproduce any error or warning you see on this page. |
| Package 1717/2041 | Hostname | OS / Arch | INSTALL | BUILD | CHECK | BUILD BIN | ||||||||
| scry 1.4.0 (landing page) Kelly Street
| nebbiolo1 | Linux (Ubuntu 20.04.2 LTS) / x86_64 | OK | OK | OK | |||||||||
| tokay2 | Windows Server 2012 R2 Standard / x64 | OK | OK | OK | OK | |||||||||
| machv2 | macOS 10.14.6 Mojave / x86_64 | OK | OK | OK | OK | |||||||||
| Package: scry |
| Version: 1.4.0 |
| Command: C:\cygwin\bin\curl.exe -O http://155.52.207.165/BBS/3.13/bioc/src/contrib/scry_1.4.0.tar.gz && rm -rf scry.buildbin-libdir && mkdir scry.buildbin-libdir && C:\Users\biocbuild\bbs-3.13-bioc\R\bin\R.exe CMD INSTALL --merge-multiarch --build --library=scry.buildbin-libdir scry_1.4.0.tar.gz && C:\Users\biocbuild\bbs-3.13-bioc\R\bin\R.exe CMD INSTALL scry_1.4.0.zip && rm scry_1.4.0.tar.gz scry_1.4.0.zip |
| StartedAt: 2021-10-14 08:59:04 -0400 (Thu, 14 Oct 2021) |
| EndedAt: 2021-10-14 08:59:49 -0400 (Thu, 14 Oct 2021) |
| EllapsedTime: 44.4 seconds |
| RetCode: 0 |
| Status: OK |
##############################################################################
##############################################################################
###
### Running command:
###
### C:\cygwin\bin\curl.exe -O http://155.52.207.165/BBS/3.13/bioc/src/contrib/scry_1.4.0.tar.gz && rm -rf scry.buildbin-libdir && mkdir scry.buildbin-libdir && C:\Users\biocbuild\bbs-3.13-bioc\R\bin\R.exe CMD INSTALL --merge-multiarch --build --library=scry.buildbin-libdir scry_1.4.0.tar.gz && C:\Users\biocbuild\bbs-3.13-bioc\R\bin\R.exe CMD INSTALL scry_1.4.0.zip && rm scry_1.4.0.tar.gz scry_1.4.0.zip
###
##############################################################################
##############################################################################
% Total % Received % Xferd Average Speed Time Time Time Current
Dload Upload Total Spent Left Speed
0 0 0 0 0 0 0 0 --:--:-- --:--:-- --:--:-- 0
11 4484k 11 514k 0 0 833k 0 0:00:05 --:--:-- 0:00:05 833k
60 4484k 60 2701k 0 0 1694k 0 0:00:02 0:00:01 0:00:01 1694k
100 4484k 100 4484k 0 0 2075k 0 0:00:02 0:00:02 --:--:-- 2075k
install for i386
* installing *source* package 'scry' ...
** using staged installation
** R
** inst
** byte-compile and prepare package for lazy loading
** help
*** installing help indices
converting help for package 'scry'
finding HTML links ... done
GLMPCA html
REDIRECT:topic Previous alias or file overwritten by alias: C:/Users/biocbuild/bbs-3.13-bioc/meat/scry.buildbin-libdir/00LOCK-scry/00new/scry/help/GLMPCA+2CMatrix-method.html
finding level-2 HTML links ... done
devianceFeatureSelection html
REDIRECT:topic Previous alias or file overwritten by alias: C:/Users/biocbuild/bbs-3.13-bioc/meat/scry.buildbin-libdir/00LOCK-scry/00new/scry/help/devianceFeatureSelection+2CMatrix-method.html
nullResiduals html
REDIRECT:topic Previous alias or file overwritten by alias: C:/Users/biocbuild/bbs-3.13-bioc/meat/scry.buildbin-libdir/00LOCK-scry/00new/scry/help/nullResiduals+2CMatrix-method.html
** building package indices
** installing vignettes
** testing if installed package can be loaded from temporary location
** testing if installed package can be loaded from final location
** testing if installed package keeps a record of temporary installation path
install for x64
* installing *source* package 'scry' ...
** testing if installed package can be loaded
* MD5 sums
packaged installation of 'scry' as scry_1.4.0.zip
* DONE (scry)
* installing to library 'C:/Users/biocbuild/bbs-3.13-bioc/R/library'
package 'scry' successfully unpacked and MD5 sums checked