| Back to Multiple platform build/check report for BioC 3.13 | 
  | 
This page was generated on 2021-10-15 15:06:22 -0400 (Fri, 15 Oct 2021).
| 
To the developers/maintainers of the scTGIF package: - Please allow up to 24 hours (and sometimes 48 hours) for your latest push to git@git.bioconductor.org:packages/scTGIF.git to reflect on this report. See How and When does the builder pull? When will my changes propagate? here for more information. - Make sure to use the following settings in order to reproduce any error or warning you see on this page.  | 
| Package 1719/2041 | Hostname | OS / Arch | INSTALL | BUILD | CHECK | BUILD BIN | ||||||||
| scTGIF 1.6.0  (landing page) Koki Tsuyuzaki 
  | nebbiolo1 | Linux (Ubuntu 20.04.2 LTS) / x86_64 | OK | OK | OK | |||||||||
| tokay2 | Windows Server 2012 R2 Standard / x64 | OK | OK | OK | OK | |||||||||
| machv2 | macOS 10.14.6 Mojave / x86_64 | OK | OK | OK | OK | |||||||||
| Package: scTGIF | 
| Version: 1.6.0 | 
| Command: C:\cygwin\bin\curl.exe -O http://155.52.207.165/BBS/3.13/bioc/src/contrib/scTGIF_1.6.0.tar.gz && rm -rf scTGIF.buildbin-libdir && mkdir scTGIF.buildbin-libdir && C:\Users\biocbuild\bbs-3.13-bioc\R\bin\R.exe CMD INSTALL --merge-multiarch --build --library=scTGIF.buildbin-libdir scTGIF_1.6.0.tar.gz && C:\Users\biocbuild\bbs-3.13-bioc\R\bin\R.exe CMD INSTALL scTGIF_1.6.0.zip && rm scTGIF_1.6.0.tar.gz scTGIF_1.6.0.zip | 
| StartedAt: 2021-10-14 10:06:24 -0400 (Thu, 14 Oct 2021) | 
| EndedAt: 2021-10-14 10:10:05 -0400 (Thu, 14 Oct 2021) | 
| EllapsedTime: 220.9 seconds | 
| RetCode: 0 | 
| Status: OK | 
##############################################################################
##############################################################################
###
### Running command:
###
###   C:\cygwin\bin\curl.exe -O http://155.52.207.165/BBS/3.13/bioc/src/contrib/scTGIF_1.6.0.tar.gz && rm -rf scTGIF.buildbin-libdir && mkdir scTGIF.buildbin-libdir && C:\Users\biocbuild\bbs-3.13-bioc\R\bin\R.exe CMD INSTALL --merge-multiarch --build --library=scTGIF.buildbin-libdir scTGIF_1.6.0.tar.gz && C:\Users\biocbuild\bbs-3.13-bioc\R\bin\R.exe CMD INSTALL scTGIF_1.6.0.zip && rm scTGIF_1.6.0.tar.gz scTGIF_1.6.0.zip
###
##############################################################################
##############################################################################
  % Total    % Received % Xferd  Average Speed   Time    Time     Time  Current
                                 Dload  Upload   Total   Spent    Left  Speed
  0     0    0     0    0     0      0      0 --:--:-- --:--:-- --:--:--     0
 19 2472k   19  478k    0     0   987k      0  0:00:02 --:--:--  0:00:02  986k
 97 2472k   97 2412k    0     0  1623k      0  0:00:01  0:00:01 --:--:-- 1623k
100 2472k  100 2472k    0     0  1659k      0  0:00:01  0:00:01 --:--:-- 1659k
install for i386
* installing *source* package 'scTGIF' ...
** using staged installation
** R
** data
** inst
** byte-compile and prepare package for lazy loading
** help
*** installing help indices
  converting help for package 'scTGIF'
    finding HTML links ... done
    DistalLungEpithelium                    html  
    calcTGIF                                html  
    cellMarkerToGmt                         html  
    convertRowID                            html  
    label.DistalLungEpithelium              html  
    pca.DistalLungEpithelium                html  
    reportTGIF                              html  
    scTGIF-package                          html  
    settingTGIF                             html  
** building package indices
** installing vignettes
** testing if installed package can be loaded from temporary location
** testing if installed package can be loaded from final location
** testing if installed package keeps a record of temporary installation path
install for x64
* installing *source* package 'scTGIF' ...
** testing if installed package can be loaded
* MD5 sums
packaged installation of 'scTGIF' as scTGIF_1.6.0.zip
* DONE (scTGIF)
* installing to library 'C:/Users/biocbuild/bbs-3.13-bioc/R/library'
package 'scTGIF' successfully unpacked and MD5 sums checked