| Back to Multiple platform build/check report for BioC 3.13 |
|
This page was generated on 2021-10-15 15:06:21 -0400 (Fri, 15 Oct 2021).
|
To the developers/maintainers of the scMerge package: - Please allow up to 24 hours (and sometimes 48 hours) for your latest push to git@git.bioconductor.org:packages/scMerge.git to reflect on this report. See How and When does the builder pull? When will my changes propagate? here for more information. - Make sure to use the following settings in order to reproduce any error or warning you see on this page. |
| Package 1703/2041 | Hostname | OS / Arch | INSTALL | BUILD | CHECK | BUILD BIN | ||||||||
| scMerge 1.8.0 (landing page) Yingxin Lin
| nebbiolo1 | Linux (Ubuntu 20.04.2 LTS) / x86_64 | OK | OK | OK | |||||||||
| tokay2 | Windows Server 2012 R2 Standard / x64 | OK | OK | OK | OK | |||||||||
| machv2 | macOS 10.14.6 Mojave / x86_64 | OK | OK | OK | OK | |||||||||
| Package: scMerge |
| Version: 1.8.0 |
| Command: C:\cygwin\bin\curl.exe -O http://155.52.207.165/BBS/3.13/bioc/src/contrib/scMerge_1.8.0.tar.gz && rm -rf scMerge.buildbin-libdir && mkdir scMerge.buildbin-libdir && C:\Users\biocbuild\bbs-3.13-bioc\R\bin\R.exe CMD INSTALL --merge-multiarch --build --library=scMerge.buildbin-libdir scMerge_1.8.0.tar.gz && C:\Users\biocbuild\bbs-3.13-bioc\R\bin\R.exe CMD INSTALL scMerge_1.8.0.zip && rm scMerge_1.8.0.tar.gz scMerge_1.8.0.zip |
| StartedAt: 2021-10-14 08:58:51 -0400 (Thu, 14 Oct 2021) |
| EndedAt: 2021-10-14 09:00:13 -0400 (Thu, 14 Oct 2021) |
| EllapsedTime: 82.2 seconds |
| RetCode: 0 |
| Status: OK |
##############################################################################
##############################################################################
###
### Running command:
###
### C:\cygwin\bin\curl.exe -O http://155.52.207.165/BBS/3.13/bioc/src/contrib/scMerge_1.8.0.tar.gz && rm -rf scMerge.buildbin-libdir && mkdir scMerge.buildbin-libdir && C:\Users\biocbuild\bbs-3.13-bioc\R\bin\R.exe CMD INSTALL --merge-multiarch --build --library=scMerge.buildbin-libdir scMerge_1.8.0.tar.gz && C:\Users\biocbuild\bbs-3.13-bioc\R\bin\R.exe CMD INSTALL scMerge_1.8.0.zip && rm scMerge_1.8.0.tar.gz scMerge_1.8.0.zip
###
##############################################################################
##############################################################################
% Total % Received % Xferd Average Speed Time Time Time Current
Dload Upload Total Spent Left Speed
0 0 0 0 0 0 0 0 --:--:-- --:--:-- --:--:-- 0
18 3375k 18 609k 0 0 1269k 0 0:00:02 --:--:-- 0:00:02 1268k
94 3375k 94 3198k 0 0 2162k 0 0:00:01 0:00:01 --:--:-- 2162k
100 3375k 100 3375k 0 0 2215k 0 0:00:01 0:00:01 --:--:-- 2216k
install for i386
* installing *source* package 'scMerge' ...
** using staged installation
** R
** data
** inst
** byte-compile and prepare package for lazy loading
** help
*** installing help indices
converting help for package 'scMerge'
finding HTML links ... done
example_sce html
fastRUVIII html
ruvSimulate html
scMerge html
scRUVIII html
scRUVg html
scReplicate html
scSEGIndex html
sce_cbind html
segList html
segList_ensemblGeneID html
** building package indices
** installing vignettes
** testing if installed package can be loaded from temporary location
** testing if installed package can be loaded from final location
** testing if installed package keeps a record of temporary installation path
install for x64
* installing *source* package 'scMerge' ...
** testing if installed package can be loaded
* MD5 sums
packaged installation of 'scMerge' as scMerge_1.8.0.zip
* DONE (scMerge)
* installing to library 'C:/Users/biocbuild/bbs-3.13-bioc/R/library'
package 'scMerge' successfully unpacked and MD5 sums checked