| Back to Multiple platform build/check report for BioC 3.13 |
|
This page was generated on 2021-10-15 15:06:21 -0400 (Fri, 15 Oct 2021).
|
To the developers/maintainers of the scClassifR package: - Please allow up to 24 hours (and sometimes 48 hours) for your latest push to git@git.bioconductor.org:packages/scClassifR.git to reflect on this report. See How and When does the builder pull? When will my changes propagate? here for more information. - Make sure to use the following settings in order to reproduce any error or warning you see on this page. |
| Package 1688/2041 | Hostname | OS / Arch | INSTALL | BUILD | CHECK | BUILD BIN | ||||||||
| scClassifR 1.0.0 (landing page) Johannes Griss
| nebbiolo1 | Linux (Ubuntu 20.04.2 LTS) / x86_64 | OK | OK | WARNINGS | |||||||||
| tokay2 | Windows Server 2012 R2 Standard / x64 | OK | OK | WARNINGS | OK | |||||||||
| machv2 | macOS 10.14.6 Mojave / x86_64 | OK | OK | WARNINGS | OK | |||||||||
| Package: scClassifR |
| Version: 1.0.0 |
| Command: C:\cygwin\bin\curl.exe -O http://155.52.207.165/BBS/3.13/bioc/src/contrib/scClassifR_1.0.0.tar.gz && rm -rf scClassifR.buildbin-libdir && mkdir scClassifR.buildbin-libdir && C:\Users\biocbuild\bbs-3.13-bioc\R\bin\R.exe CMD INSTALL --merge-multiarch --build --library=scClassifR.buildbin-libdir scClassifR_1.0.0.tar.gz && C:\Users\biocbuild\bbs-3.13-bioc\R\bin\R.exe CMD INSTALL scClassifR_1.0.0.zip && rm scClassifR_1.0.0.tar.gz scClassifR_1.0.0.zip |
| StartedAt: 2021-10-14 11:15:51 -0400 (Thu, 14 Oct 2021) |
| EndedAt: 2021-10-14 11:17:29 -0400 (Thu, 14 Oct 2021) |
| EllapsedTime: 97.5 seconds |
| RetCode: 0 |
| Status: OK |
##############################################################################
##############################################################################
###
### Running command:
###
### C:\cygwin\bin\curl.exe -O http://155.52.207.165/BBS/3.13/bioc/src/contrib/scClassifR_1.0.0.tar.gz && rm -rf scClassifR.buildbin-libdir && mkdir scClassifR.buildbin-libdir && C:\Users\biocbuild\bbs-3.13-bioc\R\bin\R.exe CMD INSTALL --merge-multiarch --build --library=scClassifR.buildbin-libdir scClassifR_1.0.0.tar.gz && C:\Users\biocbuild\bbs-3.13-bioc\R\bin\R.exe CMD INSTALL scClassifR_1.0.0.zip && rm scClassifR_1.0.0.tar.gz scClassifR_1.0.0.zip
###
##############################################################################
##############################################################################
% Total % Received % Xferd Average Speed Time Time Time Current
Dload Upload Total Spent Left Speed
0 0 0 0 0 0 0 0 --:--:-- --:--:-- --:--:-- 0
6 3648k 6 221k 0 0 703k 0 0:00:05 --:--:-- 0:00:05 703k
21 3648k 21 769k 0 0 581k 0 0:00:06 0:00:01 0:00:05 581k
34 3648k 34 1272k 0 0 547k 0 0:00:06 0:00:02 0:00:04 547k
90 3648k 90 3315k 0 0 997k 0 0:00:03 0:00:03 --:--:-- 997k
100 3648k 100 3648k 0 0 1059k 0 0:00:03 0:00:03 --:--:-- 1059k
install for i386
* installing *source* package 'scClassifR' ...
** using staged installation
** R
** data
*** moving datasets to lazyload DB
** byte-compile and prepare package for lazy loading
** help
*** installing help indices
converting help for package 'scClassifR'
finding HTML links ... done
cell_type-set html
cell_type html
check_parent_child_coherence html
finding level-2 HTML links ... done
classify_cells html
clf html
default_models html
delete_model html
features html
internal html
REDIRECT:topic Previous alias or file overwritten by alias: C:/Users/biocbuild/bbs-3.13-bioc/meat/scClassifR.buildbin-libdir/00LOCK-scClassifR/00new/scClassifR/help/check_parent_child_coherence.html
p_thres-set html
p_thres html
parent html
plant_tree html
plot_roc_curve html
save_new_model html
scClassifR html
show html
test_classifier html
tirosh_mel80_example html
train_classifier html
** building package indices
** installing vignettes
** testing if installed package can be loaded from temporary location
** testing if installed package can be loaded from final location
** testing if installed package keeps a record of temporary installation path
install for x64
* installing *source* package 'scClassifR' ...
** testing if installed package can be loaded
* MD5 sums
packaged installation of 'scClassifR' as scClassifR_1.0.0.zip
* DONE (scClassifR)
* installing to library 'C:/Users/biocbuild/bbs-3.13-bioc/R/library'
package 'scClassifR' successfully unpacked and MD5 sums checked