| Back to Multiple platform build/check report for BioC 3.13 |
|
This page was generated on 2021-10-15 15:06:24 -0400 (Fri, 15 Oct 2021).
|
To the developers/maintainers of the sRACIPE package: - Please allow up to 24 hours (and sometimes 48 hours) for your latest push to git@git.bioconductor.org:packages/sRACIPE.git to reflect on this report. See How and When does the builder pull? When will my changes propagate? here for more information. - Make sure to use the following settings in order to reproduce any error or warning you see on this page. |
| Package 1839/2041 | Hostname | OS / Arch | INSTALL | BUILD | CHECK | BUILD BIN | ||||||||
| sRACIPE 1.8.0 (landing page) Vivek Kohar
| nebbiolo1 | Linux (Ubuntu 20.04.2 LTS) / x86_64 | OK | OK | OK | |||||||||
| tokay2 | Windows Server 2012 R2 Standard / x64 | OK | OK | OK | OK | |||||||||
| machv2 | macOS 10.14.6 Mojave / x86_64 | OK | OK | OK | OK | |||||||||
| Package: sRACIPE |
| Version: 1.8.0 |
| Command: rm -rf sRACIPE.buildbin-libdir && mkdir sRACIPE.buildbin-libdir && C:\Users\biocbuild\bbs-3.13-bioc\R\bin\R.exe CMD INSTALL --merge-multiarch --build --library=sRACIPE.buildbin-libdir sRACIPE_1.8.0.tar.gz |
| StartedAt: 2021-10-15 11:59:25 -0400 (Fri, 15 Oct 2021) |
| EndedAt: 2021-10-15 12:00:57 -0400 (Fri, 15 Oct 2021) |
| EllapsedTime: 92.1 seconds |
| RetCode: 0 |
| Status: OK |
| PackageFile: sRACIPE_1.8.0.zip |
| PackageFileSize: 1.387 MiB |
##############################################################################
##############################################################################
###
### Running command:
###
### rm -rf sRACIPE.buildbin-libdir && mkdir sRACIPE.buildbin-libdir && C:\Users\biocbuild\bbs-3.13-bioc\R\bin\R.exe CMD INSTALL --merge-multiarch --build --library=sRACIPE.buildbin-libdir sRACIPE_1.8.0.tar.gz
###
##############################################################################
##############################################################################
install for i386
* installing *source* package 'sRACIPE' ...
** using staged installation
** libs
"C:/rtools40/mingw32/bin/"g++ -std=gnu++11 -I"C:/Users/BIOCBU~1/BBS-3~1.13-/R/include" -DNDEBUG -I'C:/Users/biocbuild/bbs-3.13-bioc/R/library/Rcpp/include' -I"c:/extsoft/include" -O2 -Wall -mfpmath=sse -msse2 -mstackrealign -c RcppExports.cpp -o RcppExports.o
"C:/rtools40/mingw32/bin/"g++ -std=gnu++11 -I"C:/Users/BIOCBU~1/BBS-3~1.13-/R/include" -DNDEBUG -I'C:/Users/biocbuild/bbs-3.13-bioc/R/library/Rcpp/include' -I"c:/extsoft/include" -O2 -Wall -mfpmath=sse -msse2 -mstackrealign -c generateThresholds.cpp -o generateThresholds.o
"C:/rtools40/mingw32/bin/"g++ -std=gnu++11 -I"C:/Users/BIOCBU~1/BBS-3~1.13-/R/include" -DNDEBUG -I'C:/Users/biocbuild/bbs-3.13-bioc/R/library/Rcpp/include' -I"c:/extsoft/include" -O2 -Wall -mfpmath=sse -msse2 -mstackrealign -c header.cpp -o header.o
"C:/rtools40/mingw32/bin/"g++ -std=gnu++11 -I"C:/Users/BIOCBU~1/BBS-3~1.13-/R/include" -DNDEBUG -I'C:/Users/biocbuild/bbs-3.13-bioc/R/library/Rcpp/include' -I"c:/extsoft/include" -O2 -Wall -mfpmath=sse -msse2 -mstackrealign -c simulateGRC.cpp -o simulateGRC.o
"C:/rtools40/mingw32/bin/"g++ -std=gnu++11 -I"C:/Users/BIOCBU~1/BBS-3~1.13-/R/include" -DNDEBUG -I'C:/Users/biocbuild/bbs-3.13-bioc/R/library/Rcpp/include' -I"c:/extsoft/include" -O2 -Wall -mfpmath=sse -msse2 -mstackrealign -c steppers.cpp -o steppers.o
C:/rtools40/mingw32/bin/g++ -shared -s -static-libgcc -o sRACIPE.dll tmp.def RcppExports.o generateThresholds.o header.o simulateGRC.o steppers.o -Lc:/extsoft/lib/i386 -Lc:/extsoft/lib -LC:/Users/BIOCBU~1/BBS-3~1.13-/R/bin/i386 -lR
installing to C:/Users/biocbuild/bbs-3.13-bioc/meat/sRACIPE.buildbin-libdir/00LOCK-sRACIPE/00new/sRACIPE/libs/i386
** R
** data
** inst
** byte-compile and prepare package for lazy loading
** help
*** installing help indices
converting help for package 'sRACIPE'
finding HTML links ... done
CoupledToggleSwitchSA html
EMT1 html
EMT2 html
RacipeSE-class html
finding level-2 HTML links ... done
RacipeSE html
annotation-RacipeSE-method html
annotation-set-RacipeSE-ANY-method html
configData html
demoCircuit html
densityPlot html
dot-ModelPvalue html
dot-NthMin html
dot-PermutedVar html
dot-SimulatedPValueAbs html
dot-SimulatedVarPValue html
dot-loadNetworkFile html
sRACIPE html
sracipeCircuit-set html
sracipeCircuit html
sracipeConfig-set html
sracipeConfig html
sracipeGenParamNames html
sracipeGetTS html
sracipeHeatmapSimilarity html
sracipeIC-set html
sracipeIC html
sracipeKnockDown html
sracipeNormalize html
sracipeOverExp html
sracipeParams-set html
sracipeParams html
sracipePlotCircuit html
sracipePlotData html
sracipePlotParamBifur html
sracipeSimulate html
** building package indices
** installing vignettes
** testing if installed package can be loaded from temporary location
** testing if installed package can be loaded from final location
** testing if installed package keeps a record of temporary installation path
install for x64
* installing *source* package 'sRACIPE' ...
** libs
"C:/rtools40/mingw64/bin/"g++ -std=gnu++11 -I"C:/Users/BIOCBU~1/BBS-3~1.13-/R/include" -DNDEBUG -I'C:/Users/biocbuild/bbs-3.13-bioc/R/library/Rcpp/include' -I"C:/extsoft/include" -O2 -Wall -mfpmath=sse -msse2 -mstackrealign -c RcppExports.cpp -o RcppExports.o
"C:/rtools40/mingw64/bin/"g++ -std=gnu++11 -I"C:/Users/BIOCBU~1/BBS-3~1.13-/R/include" -DNDEBUG -I'C:/Users/biocbuild/bbs-3.13-bioc/R/library/Rcpp/include' -I"C:/extsoft/include" -O2 -Wall -mfpmath=sse -msse2 -mstackrealign -c generateThresholds.cpp -o generateThresholds.o
"C:/rtools40/mingw64/bin/"g++ -std=gnu++11 -I"C:/Users/BIOCBU~1/BBS-3~1.13-/R/include" -DNDEBUG -I'C:/Users/biocbuild/bbs-3.13-bioc/R/library/Rcpp/include' -I"C:/extsoft/include" -O2 -Wall -mfpmath=sse -msse2 -mstackrealign -c header.cpp -o header.o
"C:/rtools40/mingw64/bin/"g++ -std=gnu++11 -I"C:/Users/BIOCBU~1/BBS-3~1.13-/R/include" -DNDEBUG -I'C:/Users/biocbuild/bbs-3.13-bioc/R/library/Rcpp/include' -I"C:/extsoft/include" -O2 -Wall -mfpmath=sse -msse2 -mstackrealign -c simulateGRC.cpp -o simulateGRC.o
"C:/rtools40/mingw64/bin/"g++ -std=gnu++11 -I"C:/Users/BIOCBU~1/BBS-3~1.13-/R/include" -DNDEBUG -I'C:/Users/biocbuild/bbs-3.13-bioc/R/library/Rcpp/include' -I"C:/extsoft/include" -O2 -Wall -mfpmath=sse -msse2 -mstackrealign -c steppers.cpp -o steppers.o
C:/rtools40/mingw64/bin/g++ -shared -s -static-libgcc -o sRACIPE.dll tmp.def RcppExports.o generateThresholds.o header.o simulateGRC.o steppers.o -LC:/extsoft/lib/x64 -LC:/extsoft/lib -LC:/Users/BIOCBU~1/BBS-3~1.13-/R/bin/x64 -lR
installing to C:/Users/biocbuild/bbs-3.13-bioc/meat/sRACIPE.buildbin-libdir/sRACIPE/libs/x64
** testing if installed package can be loaded
* MD5 sums
packaged installation of 'sRACIPE' as sRACIPE_1.8.0.zip
* DONE (sRACIPE)