| Back to Multiple platform build/check report for BioC 3.13 |
|
This page was generated on 2021-10-15 15:06:20 -0400 (Fri, 15 Oct 2021).
|
To the developers/maintainers of the rpx package: - Please allow up to 24 hours (and sometimes 48 hours) for your latest push to git@git.bioconductor.org:packages/rpx.git to reflect on this report. See How and When does the builder pull? When will my changes propagate? here for more information. - Make sure to use the following settings in order to reproduce any error or warning you see on this page. |
| Package 1627/2041 | Hostname | OS / Arch | INSTALL | BUILD | CHECK | BUILD BIN | ||||||||
| rpx 2.0.3 (landing page) Laurent Gatto
| nebbiolo1 | Linux (Ubuntu 20.04.2 LTS) / x86_64 | OK | OK | OK | |||||||||
| tokay2 | Windows Server 2012 R2 Standard / x64 | OK | OK | ERROR | OK | |||||||||
| machv2 | macOS 10.14.6 Mojave / x86_64 | OK | OK | ERROR | OK | |||||||||
| Package: rpx |
| Version: 2.0.3 |
| Command: rm -rf rpx.buildbin-libdir && mkdir rpx.buildbin-libdir && C:\Users\biocbuild\bbs-3.13-bioc\R\bin\R.exe CMD INSTALL --merge-multiarch --build --library=rpx.buildbin-libdir rpx_2.0.3.tar.gz |
| StartedAt: 2021-10-15 11:30:06 -0400 (Fri, 15 Oct 2021) |
| EndedAt: 2021-10-15 11:31:49 -0400 (Fri, 15 Oct 2021) |
| EllapsedTime: 102.9 seconds |
| RetCode: 0 |
| Status: OK |
| PackageFile: rpx_2.0.3.zip |
| PackageFileSize: 453.9 KiB |
##############################################################################
##############################################################################
###
### Running command:
###
### rm -rf rpx.buildbin-libdir && mkdir rpx.buildbin-libdir && C:\Users\biocbuild\bbs-3.13-bioc\R\bin\R.exe CMD INSTALL --merge-multiarch --build --library=rpx.buildbin-libdir rpx_2.0.3.tar.gz
###
##############################################################################
##############################################################################
install for i386
* installing *source* package 'rpx' ...
** using staged installation
** R
** inst
** byte-compile and prepare package for lazy loading
** help
*** installing help indices
converting help for package 'rpx'
finding HTML links ... done
PXDataset1 html
PXDataset2 html
REDIRECT:topic Previous alias or file overwritten by alias: C:/Users/biocbuild/bbs-3.13-bioc/meat/rpx.buildbin-libdir/00LOCK-rpx/00new/rpx/help/pxCacheInfo+2CPXdataset-method.html
cache html
pxannounced html
** building package indices
** installing vignettes
** testing if installed package can be loaded from temporary location
** testing if installed package can be loaded from final location
** testing if installed package keeps a record of temporary installation path
install for x64
* installing *source* package 'rpx' ...
** testing if installed package can be loaded
* MD5 sums
packaged installation of 'rpx' as rpx_2.0.3.zip
* DONE (rpx)