| Back to Multiple platform build/check report for BioC 3.13 | 
 | 
This page was generated on 2021-10-15 15:06:20 -0400 (Fri, 15 Oct 2021).
| To the developers/maintainers of the rnaSeqMap package: - Please allow up to 24 hours (and sometimes 48 hours) for your latest push to git@git.bioconductor.org:packages/rnaSeqMap.git to reflect on this report. See How and When does the builder pull? When will my changes propagate? here for more information. - Make sure to use the following settings in order to reproduce any error or warning you see on this page. | 
| Package 1610/2041 | Hostname | OS / Arch | INSTALL | BUILD | CHECK | BUILD BIN | ||||||||
| Michal Okoniewski 
 | nebbiolo1 | Linux (Ubuntu 20.04.2 LTS) / x86_64 | ERROR | ERROR | skipped | |||||||||
| tokay2 | Windows Server 2012 R2 Standard / x64 | ERROR | ERROR | skipped | skipped | |||||||||
| machv2 | macOS 10.14.6 Mojave / x86_64 | ERROR | ERROR | skipped | skipped | |||||||||
| Package: rnaSeqMap | 
| Version: 2.50.0 | 
| Command: C:\cygwin\bin\curl.exe -O http://155.52.207.165/BBS/3.13/bioc/src/contrib/rnaSeqMap_2.50.0.tar.gz && rm -rf rnaSeqMap.buildbin-libdir && mkdir rnaSeqMap.buildbin-libdir && C:\Users\biocbuild\bbs-3.13-bioc\R\bin\R.exe CMD INSTALL --merge-multiarch --build --library=rnaSeqMap.buildbin-libdir rnaSeqMap_2.50.0.tar.gz && C:\Users\biocbuild\bbs-3.13-bioc\R\bin\R.exe CMD INSTALL rnaSeqMap_2.50.0.zip && rm rnaSeqMap_2.50.0.tar.gz rnaSeqMap_2.50.0.zip | 
| StartedAt: 2021-10-14 11:29:10 -0400 (Thu, 14 Oct 2021) | 
| EndedAt: 2021-10-14 11:29:12 -0400 (Thu, 14 Oct 2021) | 
| EllapsedTime: 2.0 seconds | 
| RetCode: 1 | 
| Status: ERROR | 
##############################################################################
##############################################################################
###
### Running command:
###
###   C:\cygwin\bin\curl.exe -O http://155.52.207.165/BBS/3.13/bioc/src/contrib/rnaSeqMap_2.50.0.tar.gz && rm -rf rnaSeqMap.buildbin-libdir && mkdir rnaSeqMap.buildbin-libdir && C:\Users\biocbuild\bbs-3.13-bioc\R\bin\R.exe CMD INSTALL --merge-multiarch --build --library=rnaSeqMap.buildbin-libdir rnaSeqMap_2.50.0.tar.gz && C:\Users\biocbuild\bbs-3.13-bioc\R\bin\R.exe CMD INSTALL rnaSeqMap_2.50.0.zip && rm rnaSeqMap_2.50.0.tar.gz rnaSeqMap_2.50.0.zip
###
##############################################################################
##############################################################################
  % Total    % Received % Xferd  Average Speed   Time    Time     Time  Current
                                 Dload  Upload   Total   Spent    Left  Speed
  0     0    0     0    0     0      0      0 --:--:-- --:--:-- --:--:--     0
100  708k  100  708k    0     0  1593k      0 --:--:-- --:--:-- --:--:-- 1598k
install for i386
ERROR: dependency 'DESeq' is not available for package 'rnaSeqMap'
* removing 'C:/Users/biocbuild/bbs-3.13-bioc/meat/rnaSeqMap.buildbin-libdir/rnaSeqMap'