| Back to Multiple platform build/check report for BioC 3.13 |
|
This page was generated on 2021-10-15 15:06:20 -0400 (Fri, 15 Oct 2021).
|
To the developers/maintainers of the rnaEditr package: - Please allow up to 24 hours (and sometimes 48 hours) for your latest push to git@git.bioconductor.org:packages/rnaEditr.git to reflect on this report. See How and When does the builder pull? When will my changes propagate? here for more information. - Make sure to use the following settings in order to reproduce any error or warning you see on this page. |
| Package 1600/2041 | Hostname | OS / Arch | INSTALL | BUILD | CHECK | BUILD BIN | ||||||||
| rnaEditr 1.2.0 (landing page) Lanyu Zhang
| nebbiolo1 | Linux (Ubuntu 20.04.2 LTS) / x86_64 | OK | OK | OK | |||||||||
| tokay2 | Windows Server 2012 R2 Standard / x64 | OK | OK | OK | OK | |||||||||
| machv2 | macOS 10.14.6 Mojave / x86_64 | OK | OK | OK | OK | |||||||||
| Package: rnaEditr |
| Version: 1.2.0 |
| Command: rm -rf rnaEditr.buildbin-libdir && mkdir rnaEditr.buildbin-libdir && C:\Users\biocbuild\bbs-3.13-bioc\R\bin\R.exe CMD INSTALL --merge-multiarch --build --library=rnaEditr.buildbin-libdir rnaEditr_1.2.0.tar.gz |
| StartedAt: 2021-10-15 11:26:51 -0400 (Fri, 15 Oct 2021) |
| EndedAt: 2021-10-15 11:27:40 -0400 (Fri, 15 Oct 2021) |
| EllapsedTime: 49.0 seconds |
| RetCode: 0 |
| Status: OK |
| PackageFile: rnaEditr_1.2.0.zip |
| PackageFileSize: 1.056 MiB |
##############################################################################
##############################################################################
###
### Running command:
###
### rm -rf rnaEditr.buildbin-libdir && mkdir rnaEditr.buildbin-libdir && C:\Users\biocbuild\bbs-3.13-bioc\R\bin\R.exe CMD INSTALL --merge-multiarch --build --library=rnaEditr.buildbin-libdir rnaEditr_1.2.0.tar.gz
###
##############################################################################
##############################################################################
install for i386
* installing *source* package 'rnaEditr' ...
** using staged installation
** R
** data
** inst
** byte-compile and prepare package for lazy loading
** help
*** installing help indices
converting help for package 'rnaEditr'
finding HTML links ... done
AddMetaData html
AllCloseByRegions html
AllCoeditedRegions html
AnnotateResults html
CountSamplesPerGroup html
CreateEditingTable html
CreateOutputDF html
CreateRdrop html
FindCorrelatedRegions html
GetMinPairwiseCor html
GetSitesLocations html
MakeModelFormula html
MarkCoeditedSites html
OrderSitesByLocation html
PlotEditingCorrelations html
RegionSummaryMethod html
SingleCloseByRegion html
SingleCoeditedRegion html
SitesToRegion html
SummarizeAllRegions html
SummarizeSingleRegion html
TestAssociations html
TestSingleRegion html
TransformToGR html
rnaedit_df html
t_rnaedit_df html
** building package indices
** installing vignettes
** testing if installed package can be loaded from temporary location
** testing if installed package can be loaded from final location
** testing if installed package keeps a record of temporary installation path
install for x64
* installing *source* package 'rnaEditr' ...
** testing if installed package can be loaded
* MD5 sums
packaged installation of 'rnaEditr' as rnaEditr_1.2.0.zip
* DONE (rnaEditr)