| Back to Multiple platform build/check report for BioC 3.13 |
|
This page was generated on 2021-10-15 15:06:19 -0400 (Fri, 15 Oct 2021).
|
To the developers/maintainers of the riboSeqR package: - Please allow up to 24 hours (and sometimes 48 hours) for your latest push to git@git.bioconductor.org:packages/riboSeqR.git to reflect on this report. See How and When does the builder pull? When will my changes propagate? here for more information. - Make sure to use the following settings in order to reproduce any error or warning you see on this page. |
| Package 1582/2041 | Hostname | OS / Arch | INSTALL | BUILD | CHECK | BUILD BIN | ||||||||
| riboSeqR 1.26.0 (landing page) Thomas J. Hardcastle
| nebbiolo1 | Linux (Ubuntu 20.04.2 LTS) / x86_64 | OK | OK | OK | |||||||||
| tokay2 | Windows Server 2012 R2 Standard / x64 | OK | OK | OK | OK | |||||||||
| machv2 | macOS 10.14.6 Mojave / x86_64 | OK | OK | OK | OK | |||||||||
| Package: riboSeqR |
| Version: 1.26.0 |
| Command: rm -rf riboSeqR.buildbin-libdir && mkdir riboSeqR.buildbin-libdir && C:\Users\biocbuild\bbs-3.13-bioc\R\bin\R.exe CMD INSTALL --merge-multiarch --build --library=riboSeqR.buildbin-libdir riboSeqR_1.26.0.tar.gz |
| StartedAt: 2021-10-15 11:24:26 -0400 (Fri, 15 Oct 2021) |
| EndedAt: 2021-10-15 11:24:52 -0400 (Fri, 15 Oct 2021) |
| EllapsedTime: 26.6 seconds |
| RetCode: 0 |
| Status: OK |
| PackageFile: riboSeqR_1.26.0.zip |
| PackageFileSize: 3.977 MiB |
##############################################################################
##############################################################################
###
### Running command:
###
### rm -rf riboSeqR.buildbin-libdir && mkdir riboSeqR.buildbin-libdir && C:\Users\biocbuild\bbs-3.13-bioc\R\bin\R.exe CMD INSTALL --merge-multiarch --build --library=riboSeqR.buildbin-libdir riboSeqR_1.26.0.tar.gz
###
##############################################################################
##############################################################################
install for i386
* installing *source* package 'riboSeqR' ...
** using staged installation
** R
** inst
** byte-compile and prepare package for lazy loading
** help
*** installing help indices
converting help for package 'riboSeqR'
finding HTML links ... done
filterHits html
findCDS html
frameCounting html
frameShift html
lengthDist html
libScales html
logoContext html
plotCDS html
plotTranscript html
readRibodata html
riboCoding-class html
riboData-class html
riboSeqR-package html
rnaCounts html
sliceCounts html
** building package indices
** installing vignettes
** testing if installed package can be loaded from temporary location
** testing if installed package can be loaded from final location
** testing if installed package keeps a record of temporary installation path
install for x64
* installing *source* package 'riboSeqR' ...
** testing if installed package can be loaded
* MD5 sums
packaged installation of 'riboSeqR' as riboSeqR_1.26.0.zip
* DONE (riboSeqR)