| Back to Multiple platform build/check report for BioC 3.13 |
|
This page was generated on 2021-10-15 15:06:19 -0400 (Fri, 15 Oct 2021).
|
To the developers/maintainers of the rfPred package: - Please allow up to 24 hours (and sometimes 48 hours) for your latest push to git@git.bioconductor.org:packages/rfPred.git to reflect on this report. See How and When does the builder pull? When will my changes propagate? here for more information. - Make sure to use the following settings in order to reproduce any error or warning you see on this page. |
| Package 1563/2041 | Hostname | OS / Arch | INSTALL | BUILD | CHECK | BUILD BIN | ||||||||
| rfPred 1.30.0 (landing page) Hugo Varet
| nebbiolo1 | Linux (Ubuntu 20.04.2 LTS) / x86_64 | OK | OK | OK | |||||||||
| tokay2 | Windows Server 2012 R2 Standard / x64 | OK | ERROR | skipped | skipped | |||||||||
| machv2 | macOS 10.14.6 Mojave / x86_64 | OK | OK | OK | OK | |||||||||
| Package: rfPred |
| Version: 1.30.0 |
| Command: C:\cygwin\bin\curl.exe -O http://155.52.207.165/BBS/3.13/bioc/src/contrib/rfPred_1.30.0.tar.gz && rm -rf rfPred.buildbin-libdir && mkdir rfPred.buildbin-libdir && C:\Users\biocbuild\bbs-3.13-bioc\R\bin\R.exe CMD INSTALL --merge-multiarch --build --library=rfPred.buildbin-libdir rfPred_1.30.0.tar.gz && C:\Users\biocbuild\bbs-3.13-bioc\R\bin\R.exe CMD INSTALL rfPred_1.30.0.zip && rm rfPred_1.30.0.tar.gz rfPred_1.30.0.zip |
| StartedAt: 2021-10-14 08:05:49 -0400 (Thu, 14 Oct 2021) |
| EndedAt: 2021-10-14 08:06:54 -0400 (Thu, 14 Oct 2021) |
| EllapsedTime: 64.8 seconds |
| RetCode: 0 |
| Status: OK |
##############################################################################
##############################################################################
###
### Running command:
###
### C:\cygwin\bin\curl.exe -O http://155.52.207.165/BBS/3.13/bioc/src/contrib/rfPred_1.30.0.tar.gz && rm -rf rfPred.buildbin-libdir && mkdir rfPred.buildbin-libdir && C:\Users\biocbuild\bbs-3.13-bioc\R\bin\R.exe CMD INSTALL --merge-multiarch --build --library=rfPred.buildbin-libdir rfPred_1.30.0.tar.gz && C:\Users\biocbuild\bbs-3.13-bioc\R\bin\R.exe CMD INSTALL rfPred_1.30.0.zip && rm rfPred_1.30.0.tar.gz rfPred_1.30.0.zip
###
##############################################################################
##############################################################################
% Total % Received % Xferd Average Speed Time Time Time Current
Dload Upload Total Spent Left Speed
0 0 0 0 0 0 0 0 --:--:-- --:--:-- --:--:-- 0
97 891k 97 868k 0 0 1517k 0 --:--:-- --:--:-- --:--:-- 1516k
100 891k 100 891k 0 0 1507k 0 --:--:-- --:--:-- --:--:-- 1507k
install for i386
* installing *source* package 'rfPred' ...
** using staged installation
** libs
"C:/rtools40/mingw32/bin/"gcc -I"C:/Users/BIOCBU~1/BBS-3~1.13-/R/include" -DNDEBUG -I"c:/extsoft/include" -O2 -Wall -std=gnu99 -mfpmath=sse -msse2 -mstackrealign -c outstring.c -o outstring.o
C:/rtools40/mingw32/bin/gcc -shared -s -static-libgcc -o rfPred.dll tmp.def outstring.o -Lc:/extsoft/lib/i386 -Lc:/extsoft/lib -LC:/Users/BIOCBU~1/BBS-3~1.13-/R/bin/i386 -lR
installing to C:/Users/biocbuild/bbs-3.13-bioc/meat/rfPred.buildbin-libdir/00LOCK-rfPred/00new/rfPred/libs/i386
** R
** data
** inst
** byte-compile and prepare package for lazy loading
** help
*** installing help indices
converting help for package 'rfPred'
finding HTML links ... done
example_GRanges html
rfPred-package html
rfPred_scores-methods html
rfPred_scores_motor html
variant_list_Y html
** building package indices
** installing vignettes
** testing if installed package can be loaded from temporary location
** testing if installed package can be loaded from final location
** testing if installed package keeps a record of temporary installation path
install for x64
* installing *source* package 'rfPred' ...
** libs
"C:/rtools40/mingw64/bin/"gcc -I"C:/Users/BIOCBU~1/BBS-3~1.13-/R/include" -DNDEBUG -I"C:/extsoft/include" -O2 -Wall -std=gnu99 -mfpmath=sse -msse2 -mstackrealign -c outstring.c -o outstring.o
C:/rtools40/mingw64/bin/gcc -shared -s -static-libgcc -o rfPred.dll tmp.def outstring.o -LC:/extsoft/lib/x64 -LC:/extsoft/lib -LC:/Users/BIOCBU~1/BBS-3~1.13-/R/bin/x64 -lR
installing to C:/Users/biocbuild/bbs-3.13-bioc/meat/rfPred.buildbin-libdir/rfPred/libs/x64
** testing if installed package can be loaded
* MD5 sums
packaged installation of 'rfPred' as rfPred_1.30.0.zip
* DONE (rfPred)
* installing to library 'C:/Users/biocbuild/bbs-3.13-bioc/R/library'
package 'rfPred' successfully unpacked and MD5 sums checked