| Back to Multiple platform build/check report for BioC 3.13 |
|
This page was generated on 2021-10-15 15:06:18 -0400 (Fri, 15 Oct 2021).
|
To the developers/maintainers of the recountmethylation package: - Please allow up to 24 hours (and sometimes 48 hours) for your latest push to git@git.bioconductor.org:packages/recountmethylation.git to reflect on this report. See How and When does the builder pull? When will my changes propagate? here for more information. - Make sure to use the following settings in order to reproduce any error or warning you see on this page. |
| Package 1543/2041 | Hostname | OS / Arch | INSTALL | BUILD | CHECK | BUILD BIN | ||||||||
| recountmethylation 1.2.3 (landing page) Sean K Maden
| nebbiolo1 | Linux (Ubuntu 20.04.2 LTS) / x86_64 | OK | OK | OK | |||||||||
| tokay2 | Windows Server 2012 R2 Standard / x64 | OK | OK | OK | OK | |||||||||
| machv2 | macOS 10.14.6 Mojave / x86_64 | OK | OK | OK | OK | |||||||||
| Package: recountmethylation |
| Version: 1.2.3 |
| Command: rm -rf recountmethylation.buildbin-libdir && mkdir recountmethylation.buildbin-libdir && C:\Users\biocbuild\bbs-3.13-bioc\R\bin\R.exe CMD INSTALL --merge-multiarch --build --library=recountmethylation.buildbin-libdir recountmethylation_1.2.3.tar.gz |
| StartedAt: 2021-10-15 11:19:14 -0400 (Fri, 15 Oct 2021) |
| EndedAt: 2021-10-15 11:20:48 -0400 (Fri, 15 Oct 2021) |
| EllapsedTime: 94.0 seconds |
| RetCode: 0 |
| Status: OK |
| PackageFile: recountmethylation_1.2.3.zip |
| PackageFileSize: 4.264 MiB |
##############################################################################
##############################################################################
###
### Running command:
###
### rm -rf recountmethylation.buildbin-libdir && mkdir recountmethylation.buildbin-libdir && C:\Users\biocbuild\bbs-3.13-bioc\R\bin\R.exe CMD INSTALL --merge-multiarch --build --library=recountmethylation.buildbin-libdir recountmethylation_1.2.3.tar.gz
###
##############################################################################
##############################################################################
install for i386
* installing *source* package 'recountmethylation' ...
** using staged installation
** R
** inst
** byte-compile and prepare package for lazy loading
** help
*** installing help indices
converting help for package 'recountmethylation'
finding HTML links ... done
data_mdpost html
gds_idat2rg html
gds_idatquery html
get_rmdl html
get_servermatrix html
getdb html
getrg html
hread html
matchds_1to2 html
rgse html
servermatrix html
smfilt html
** building package indices
** installing vignettes
** testing if installed package can be loaded from temporary location
** testing if installed package can be loaded from final location
** testing if installed package keeps a record of temporary installation path
install for x64
* installing *source* package 'recountmethylation' ...
** testing if installed package can be loaded
* MD5 sums
packaged installation of 'recountmethylation' as recountmethylation_1.2.3.zip
* DONE (recountmethylation)