| Back to Multiple platform build/check report for BioC 3.13 |
|
This page was generated on 2021-10-15 15:05:50 -0400 (Fri, 15 Oct 2021).
|
To the developers/maintainers of the recount3 package: - Please allow up to 24 hours (and sometimes 48 hours) for your latest push to git@git.bioconductor.org:packages/recount3.git to reflect on this report. See How and When does the builder pull? When will my changes propagate? here for more information. - Make sure to use the following settings in order to reproduce any error or warning you see on this page. |
| Package 1542/2041 | Hostname | OS / Arch | INSTALL | BUILD | CHECK | BUILD BIN | ||||||||
| recount3 1.2.6 (landing page) Leonardo Collado-Torres
| nebbiolo1 | Linux (Ubuntu 20.04.2 LTS) / x86_64 | OK | OK | OK | |||||||||
| tokay2 | Windows Server 2012 R2 Standard / x64 | OK | OK | OK | OK | |||||||||
| machv2 | macOS 10.14.6 Mojave / x86_64 | OK | OK | OK | OK | |||||||||
| Package: recount3 |
| Version: 1.2.6 |
| Command: /home/biocbuild/bbs-3.13-bioc/R/bin/R CMD check --install=check:recount3.install-out.txt --library=/home/biocbuild/bbs-3.13-bioc/R/library --no-vignettes --timings recount3_1.2.6.tar.gz |
| StartedAt: 2021-10-14 11:16:26 -0400 (Thu, 14 Oct 2021) |
| EndedAt: 2021-10-14 11:25:02 -0400 (Thu, 14 Oct 2021) |
| EllapsedTime: 516.0 seconds |
| RetCode: 0 |
| Status: OK |
| CheckDir: recount3.Rcheck |
| Warnings: 0 |
##############################################################################
##############################################################################
###
### Running command:
###
### /home/biocbuild/bbs-3.13-bioc/R/bin/R CMD check --install=check:recount3.install-out.txt --library=/home/biocbuild/bbs-3.13-bioc/R/library --no-vignettes --timings recount3_1.2.6.tar.gz
###
##############################################################################
##############################################################################
* using log directory ‘/home/biocbuild/bbs-3.13-bioc/meat/recount3.Rcheck’
* using R version 4.1.1 (2021-08-10)
* using platform: x86_64-pc-linux-gnu (64-bit)
* using session charset: UTF-8
* using option ‘--no-vignettes’
* checking for file ‘recount3/DESCRIPTION’ ... OK
* this is package ‘recount3’ version ‘1.2.6’
* package encoding: UTF-8
* checking package namespace information ... OK
* checking package dependencies ... OK
* checking if this is a source package ... OK
* checking if there is a namespace ... OK
* checking for hidden files and directories ... OK
* checking for portable file names ... OK
* checking for sufficient/correct file permissions ... OK
* checking whether package ‘recount3’ can be installed ... OK
* checking installed package size ... OK
* checking package directory ... OK
* checking ‘build’ directory ... OK
* checking DESCRIPTION meta-information ... OK
* checking top-level files ... OK
* checking for left-over files ... OK
* checking index information ... OK
* checking package subdirectories ... OK
* checking R files for non-ASCII characters ... OK
* checking R files for syntax errors ... OK
* checking whether the package can be loaded ... OK
* checking whether the package can be loaded with stated dependencies ... OK
* checking whether the package can be unloaded cleanly ... OK
* checking whether the namespace can be loaded with stated dependencies ... OK
* checking whether the namespace can be unloaded cleanly ... OK
* checking dependencies in R code ... OK
* checking S3 generic/method consistency ... OK
* checking replacement functions ... OK
* checking foreign function calls ... OK
* checking R code for possible problems ... NOTE
create_rse_manual: no visible global function definition for ‘mcols’
create_rse_manual: no visible global function definition for ‘mcols<-’
expand_sra_attributes: no visible global function definition for
‘colData<-’
Undefined global functions or variables:
colData<- mcols mcols<-
* checking Rd files ... OK
* checking Rd metadata ... OK
* checking Rd cross-references ... OK
* checking for missing documentation entries ... OK
* checking for code/documentation mismatches ... OK
* checking Rd \usage sections ... OK
* checking Rd contents ... OK
* checking for unstated dependencies in examples ... OK
* checking files in ‘vignettes’ ... OK
* checking examples ... OK
Examples with CPU (user + system) or elapsed time > 5s
user system elapsed
create_rse 103.659 7.457 124.148
compute_read_counts 18.134 0.688 25.383
available_projects 14.505 1.313 22.007
create_rse_manual 14.420 0.989 18.173
expand_sra_attributes 11.585 0.499 13.383
read_counts 9.383 0.576 10.191
read_metadata 8.642 0.877 13.671
transform_counts 8.674 0.648 10.190
available_samples 7.740 0.168 8.383
compute_scale_factors 4.690 0.360 6.341
is_paired_end 3.558 0.049 5.452
* checking for unstated dependencies in ‘tests’ ... OK
* checking tests ...
Running ‘testthat.R’
OK
* checking for unstated dependencies in vignettes ... OK
* checking package vignettes in ‘inst/doc’ ... OK
* checking running R code from vignettes ... SKIPPED
* checking re-building of vignette outputs ... SKIPPED
* checking PDF version of manual ... OK
* DONE
Status: 1 NOTE
See
‘/home/biocbuild/bbs-3.13-bioc/meat/recount3.Rcheck/00check.log’
for details.
recount3.Rcheck/00install.out
############################################################################## ############################################################################## ### ### Running command: ### ### /home/biocbuild/bbs-3.13-bioc/R/bin/R CMD INSTALL recount3 ### ############################################################################## ############################################################################## * installing to library ‘/home/biocbuild/bbs-3.13-bioc/R/library’ * installing *source* package ‘recount3’ ... ** using staged installation ** R ** inst ** byte-compile and prepare package for lazy loading ** help *** installing help indices *** copying figures ** building package indices ** installing vignettes ** testing if installed package can be loaded from temporary location ** testing if installed package can be loaded from final location ** testing if installed package keeps a record of temporary installation path * DONE (recount3)
recount3.Rcheck/tests/testthat.Rout
R version 4.1.1 (2021-08-10) -- "Kick Things"
Copyright (C) 2021 The R Foundation for Statistical Computing
Platform: x86_64-pc-linux-gnu (64-bit)
R is free software and comes with ABSOLUTELY NO WARRANTY.
You are welcome to redistribute it under certain conditions.
Type 'license()' or 'licence()' for distribution details.
R is a collaborative project with many contributors.
Type 'contributors()' for more information and
'citation()' on how to cite R or R packages in publications.
Type 'demo()' for some demos, 'help()' for on-line help, or
'help.start()' for an HTML browser interface to help.
Type 'q()' to quit R.
> library(testthat)
> library(recount3)
Loading required package: SummarizedExperiment
Loading required package: MatrixGenerics
Loading required package: matrixStats
Attaching package: 'MatrixGenerics'
The following objects are masked from 'package:matrixStats':
colAlls, colAnyNAs, colAnys, colAvgsPerRowSet, colCollapse,
colCounts, colCummaxs, colCummins, colCumprods, colCumsums,
colDiffs, colIQRDiffs, colIQRs, colLogSumExps, colMadDiffs,
colMads, colMaxs, colMeans2, colMedians, colMins, colOrderStats,
colProds, colQuantiles, colRanges, colRanks, colSdDiffs, colSds,
colSums2, colTabulates, colVarDiffs, colVars, colWeightedMads,
colWeightedMeans, colWeightedMedians, colWeightedSds,
colWeightedVars, rowAlls, rowAnyNAs, rowAnys, rowAvgsPerColSet,
rowCollapse, rowCounts, rowCummaxs, rowCummins, rowCumprods,
rowCumsums, rowDiffs, rowIQRDiffs, rowIQRs, rowLogSumExps,
rowMadDiffs, rowMads, rowMaxs, rowMeans2, rowMedians, rowMins,
rowOrderStats, rowProds, rowQuantiles, rowRanges, rowRanks,
rowSdDiffs, rowSds, rowSums2, rowTabulates, rowVarDiffs, rowVars,
rowWeightedMads, rowWeightedMeans, rowWeightedMedians,
rowWeightedSds, rowWeightedVars
Loading required package: GenomicRanges
Loading required package: stats4
Loading required package: BiocGenerics
Loading required package: parallel
Attaching package: 'BiocGenerics'
The following objects are masked from 'package:parallel':
clusterApply, clusterApplyLB, clusterCall, clusterEvalQ,
clusterExport, clusterMap, parApply, parCapply, parLapply,
parLapplyLB, parRapply, parSapply, parSapplyLB
The following objects are masked from 'package:stats':
IQR, mad, sd, var, xtabs
The following objects are masked from 'package:base':
Filter, Find, Map, Position, Reduce, anyDuplicated, append,
as.data.frame, basename, cbind, colnames, dirname, do.call,
duplicated, eval, evalq, get, grep, grepl, intersect, is.unsorted,
lapply, mapply, match, mget, order, paste, pmax, pmax.int, pmin,
pmin.int, rank, rbind, rownames, sapply, setdiff, sort, table,
tapply, union, unique, unsplit, which.max, which.min
Loading required package: S4Vectors
Attaching package: 'S4Vectors'
The following objects are masked from 'package:base':
I, expand.grid, unname
Loading required package: IRanges
Loading required package: GenomeInfoDb
Loading required package: Biobase
Welcome to Bioconductor
Vignettes contain introductory material; view with
'browseVignettes()'. To cite Bioconductor, see
'citation("Biobase")', and for packages 'citation("pkgname")'.
Attaching package: 'Biobase'
The following object is masked from 'package:MatrixGenerics':
rowMedians
The following objects are masked from 'package:matrixStats':
anyMissing, rowMedians
>
> test_check("recount3")
[ FAIL 0 | WARN 0 | SKIP 0 | PASS 58 ]
>
> proc.time()
user system elapsed
55.985 3.169 70.366
recount3.Rcheck/recount3-Ex.timings
| name | user | system | elapsed | |
| annotation_ext | 0.001 | 0.000 | 0.001 | |
| annotation_options | 0 | 0 | 0 | |
| available_projects | 14.505 | 1.313 | 22.007 | |
| available_samples | 7.740 | 0.168 | 8.383 | |
| compute_read_counts | 18.134 | 0.688 | 25.383 | |
| compute_scale_factors | 4.690 | 0.360 | 6.341 | |
| create_rse | 103.659 | 7.457 | 124.148 | |
| create_rse_manual | 14.420 | 0.989 | 18.173 | |
| expand_sra_attributes | 11.585 | 0.499 | 13.383 | |
| file_retrieve | 2.147 | 0.113 | 3.011 | |
| is_paired_end | 3.558 | 0.049 | 5.452 | |
| locate_url | 0.872 | 0.015 | 1.035 | |
| locate_url_ann | 0.000 | 0.000 | 0.001 | |
| project_homes | 0.000 | 0.004 | 0.025 | |
| read_counts | 9.383 | 0.576 | 10.191 | |
| read_metadata | 8.642 | 0.877 | 13.671 | |
| recount3_cache | 0.157 | 0.008 | 0.165 | |
| recount3_cache_files | 0.163 | 0.008 | 0.172 | |
| recount3_cache_rm | 0.158 | 0.008 | 0.166 | |
| transform_counts | 8.674 | 0.648 | 10.190 | |