| Back to Multiple platform build/check report for BioC 3.13 | 
 | 
This page was generated on 2021-10-15 15:06:18 -0400 (Fri, 15 Oct 2021).
| To the developers/maintainers of the recount package: - Please allow up to 24 hours (and sometimes 48 hours) for your latest push to git@git.bioconductor.org:packages/recount.git to reflect on this report. See How and When does the builder pull? When will my changes propagate? here for more information. - Make sure to use the following settings in order to reproduce any error or warning you see on this page. | 
| Package 1541/2041 | Hostname | OS / Arch | INSTALL | BUILD | CHECK | BUILD BIN | ||||||||
| recount 1.18.1  (landing page) Leonardo Collado-Torres 
 | nebbiolo1 | Linux (Ubuntu 20.04.2 LTS) / x86_64 | OK | OK | OK |  | ||||||||
| tokay2 | Windows Server 2012 R2 Standard / x64 | OK | OK | ERROR | OK | |||||||||
| machv2 | macOS 10.14.6 Mojave / x86_64 | OK | OK | ERROR | OK | |||||||||
| Package: recount | 
| Version: 1.18.1 | 
| Command: chmod a+r recount -R && C:\Users\biocbuild\bbs-3.13-bioc\R\bin\R.exe CMD build --keep-empty-dirs --no-resave-data recount | 
| StartedAt: 2021-10-14 17:30:17 -0400 (Thu, 14 Oct 2021) | 
| EndedAt: 2021-10-14 17:39:24 -0400 (Thu, 14 Oct 2021) | 
| EllapsedTime: 547.7 seconds | 
| RetCode: 0 | 
| Status: OK | 
| PackageFile: recount_1.18.1.tar.gz | 
| PackageFileSize: 6.813 MiB | 
############################################################################## ############################################################################## ### ### Running command: ### ### chmod a+r recount -R && C:\Users\biocbuild\bbs-3.13-bioc\R\bin\R.exe CMD build --keep-empty-dirs --no-resave-data recount ### ############################################################################## ############################################################################## * checking for file 'recount/DESCRIPTION' ... OK * preparing 'recount': * checking DESCRIPTION meta-information ... OK * installing the package to build vignettes * creating vignettes ... OK * checking for LF line-endings in source and make files and shell scripts * checking for empty or unneeded directories * building 'recount_1.18.1.tar.gz'